Felt | Verdi |
AlreadyApplied | True |
Aperture | 16.0 |
ApertureValue | 16.0 |
Artist | Leif Larssen |
BitsPerSample | 8 |
BlackClip | 0.000000 |
BlueHue | 0 |
BlueSaturation | 0 |
Brightness | 0 |
By-line | Leif Larssen |
CameraProfile | Embedded |
ChromaticAberrationB | 0 |
ChromaticAberrationR | 0 |
CircleOfConfusion | 0.019 mm |
Clarity | +10 |
ColorComponents | 3 |
ColorNoiseReduction | 0 |
ColorSaturation | 52.0 |
ColorTemperature | 0.0 |
Contrast | +12 |
ConvertToGrayscale | False |
CreateDate (1) | 2013:05:20 23:04:05+02:00 |
CreateDate | 2013:05:20 23:04:05 |
Creator | Leif Larssen |
CreatorTool | Adobe Photoshop Lightroom 3.6 (Windows) |
CropAngle | 0.407364 |
CropBottom | 0.895123 |
CropConstrainToWarp | 0 |
CropHeight | 1471 |
CropLeft | 0.003068 |
CropRight | 0.996932 |
CropTop | 0 |
CropUnit | pixels |
CropWidth | 3398 |
CustomRendered | Normal |
DateCreated (1) | 2013:05:20 |
DateCreated | 2013:05:20 23:04:05.029 |
DateTimeOriginal | 2013:05:20 23:04:05 |
Defringe | 0 |
Exposure | 0.00 |
ExposureCompensation | -4/3 |
ExposureMode | Auto bracket |
ExposureProgram | Aperture-priority AE |
ExposureTime | 1/4 |
FillLight | 0 |
Firmware | 1.2.2 |
Flash | Off, Did not fire |
FlashCompensation | 0 |
FNumber | 16.0 |
FocalLength | 18.0 mm |
FocalLength35efl | 18.0 mm (35 mm equivalent: 28.3 mm) |
Format | image/jpeg |
FOV | 65.0 deg |
Gamma | 1.00 |
GrainAmount | 0 |
GreenHue | 0 |
GreenSaturation | 0 |
HasCrop | True |
HasSettings | True |
HighlightRecovery | 0 |
HighlightsSmoothing | 0.0 |
HueAdjustmentAqua | 0 |
HueAdjustmentBlue | 0 |
HueAdjustmentGreen | 0 |
HueAdjustmentMagenta | 0 |
HueAdjustmentOrange | 0 |
HueAdjustmentPurple | 0 |
HueAdjustmentRed | 0 |
HueAdjustmentYellow | 0 |
HyperfocalDistance | 1.06 m |
ImageHeight | 1471 |
ImageNumber | 0 |
ImageSize | 3398x1471 |
ImageWidth | 3398 |
IncrementalTemperature | 0 |
IncrementalTint | +8 |
ISO | 100 |
IsPano360 | No |
Lens | EF-S18-135mm f/3.5-5.6 IS |
LensID (1) | 51 |
LensID | Canon EF-S 18-135mm f/3.5-5.6 IS |
LensInfo | 18-135mm f/? |
LensManualDistortionAmount | 0 |
LensModel | EF-S18-135mm f/3.5-5.6 IS |
LensProfileChromaticAberrationScale | 100 |
LensProfileDistortionScale | 100 |
LensProfileEnable | 1 |
LensProfileFilename | Canon EOS 50D (Canon EF-S 18-55mm f3.5-5.6 IS).lcp |
LensProfileName | Adobe (Canon EF-S 18-55mm f/3.5-5.6 IS) |
LensProfileSetup | Custom |
LensProfileVignettingScale | 100 |
LightValue | 10.0 |
LuminanceAdjustmentAqua | 0 |
LuminanceAdjustmentBlue | 0 |
LuminanceAdjustmentGreen | 0 |
LuminanceAdjustmentMagenta | 0 |
LuminanceAdjustmentOrange | 0 |
LuminanceAdjustmentPurple | 0 |
LuminanceAdjustmentRed | 0 |
LuminanceAdjustmentYellow | 0 |
LuminanceNoiseReductionContrast | 0 |
LuminanceNoiseReductionDetail | 50 |
LuminanceSmoothing | 10 |
Luminosity | 0.0 |
Make | Canon |
MaxApertureValue | 3.5 |
Megapixels | 5.0 |
MeteringMode | Multi-segment |
Method | Details Enhancer |
Microcontrast | 0.0 |
Microsmoothing | 2.0 |
Model | Canon EOS 7D |
ModifyDate (1) | 2005:01:22 05:53:54+01:00 |
ModifyDate | 2005:01:22 05:53:54 |
ParametricDarks | 0 |
ParametricHighlights | 0 |
ParametricHighlightSplit | 75 |
ParametricLights | 0 |
ParametricMidtoneSplit | 50 |
ParametricShadows | 0 |
ParametricShadowSplit | 25 |
PerspectiveHorizontal | 0 |
PerspectiveRotate | 0.0 |
PerspectiveScale | 100 |
PerspectiveVertical | 0 |
PostCropVignetteAmount | 0 |
ProcessVersion | 5.7 |
ProfileDescription | ProPhoto RGB |
RedHue | 0 |
RedSaturation | 0 |
Saturation | +10 |
SaturationAdjustmentAqua | 0 |
SaturationAdjustmentBlue | 0 |
SaturationAdjustmentGreen | 0 |
SaturationAdjustmentMagenta | 0 |
SaturationAdjustmentOrange | 0 |
SaturationAdjustmentPurple | 0 |
SaturationAdjustmentRed | 0 |
SaturationAdjustmentYellow | 0 |
SaturationHighlights | 0.0 |
SaturationShadows | 0.0 |
ScaleFactor35efl | 1.6 |
SceneCaptureType | Standard |
SerialNumber | 1580809283 |
Shadows | 0 |
ShadowsClipping | 0.0 |
ShadowsSmoothing | 0.0 |
ShadowTint | 0 |
SharpenDetail | 25 |
SharpenEdgeMasking | 0 |
SharpenRadius | +1.0 |
Sharpness | 33 |
ShutterSpeed | 1/4 |
ShutterSpeedValue | 1/4 |
Smoothing | 9.6 |
SmoothingMode | Slider |
Software | Adobe Photoshop Lightroom 3.6 (Windows) |
SplitToningBalance | 0 |
SplitToningHighlightHue | 0 |
SplitToningHighlightSaturation | 0 |
SplitToningShadowHue | 0 |
SplitToningShadowSaturation | 0 |
Strength | 46.0 |
ToneCurve | 0, 0, 255, 255 |
ToneCurveName | Linear |
Version (1) | 4.2 |
Version | 6.6 |
Vibrance | +8 |
VignetteAmount | 0 |
WhiteBalance (1) | Custom |
WhiteBalance | Manual |
WhiteClip | 0.250000 |