Felt | Verdi |
AlreadyApplied | True |
Aperture | 9.0 |
ApertureValue | 9.0 |
ApproximateFocusDistance | 4294967295 |
AutoLateralCA | 0 |
BitsPerSample | 8 |
Blacks2012 | +53 |
BlueHue | 0 |
BlueSaturation | 0 |
Brightness | +50 |
CameraProfile | Adobe Standard |
CFAPattern | [Red,Green][Green,Blue] |
CircleOfConfusion | 0.030 mm |
Clarity | 0 |
Clarity2012 | +8 |
ColorComponents | 3 |
ColorNoiseReduction | 25 |
ColorNoiseReductionDetail | 50 |
ColorTemperature | 5859 |
Contrast (1) | +25 |
Contrast | Normal |
Contrast2012 | +7 |
ConvertToGrayscale | False |
CreateDate (1) | 2012:11:13 07:13:04.00 |
CreateDate | 2012:11:13 07:13:04 |
CreatorTool | Adobe Photoshop Lightroom 4.0 (Macintosh) |
CropAngle | 0 |
CropBottom | 0.77204 |
CropConstrainToWarp | 0 |
CropHeight | 2109 |
CropLeft | 0.254691 |
CropRight | 0.999409 |
CropTop | 0.027322 |
CropUnit | pixels |
CropWidth | 3170 |
CustomRendered | Normal |
DateCreated (1) | 2012:11:13 |
DateCreated | 2012:11:13 07:13:04.00 |
DateTimeOriginal | 2012:11:13 07:13:04 |
Defringe | 0 |
DigitalZoomRatio | 1 |
DOF | inf (12.44 m - inf) |
Exposure | 0.00 |
Exposure2012 | +0.70 |
ExposureCompensation | 0 |
ExposureMode | Manual |
ExposureProgram | Manual |
ExposureTime | 1/200 |
FillLight | 0 |
Flash | No Flash |
FNumber | 9.0 |
FocalLength | 58.0 mm |
FocalLength35efl | 58.0 mm (35 mm equivalent: 58.0 mm) |
FocalLengthIn35mmFormat | 58 mm |
Format | image/jpeg |
FOV | 34.5 deg |
GainControl | Low gain up |
GradientBasedCorrActive | true |
GradientBasedCorrAmount | 1.000000 |
GradientBasedCorrBrightness | 0.320225 |
GradientBasedCorrClarity2012 (1) | 0.820225 |
GradientBasedCorrClarity2012 (2) | 0.640449 |
GradientBasedCorrClarity2012 | 0.049684 |
GradientBasedCorrContrast2012 (1) | -0.000263 |
GradientBasedCorrContrast2012 (2) | 0.438202 |
GradientBasedCorrContrast2012 | 0.033708 |
GradientBasedCorrExposure2012 (1) | -0.378072 |
GradientBasedCorrExposure2012 (2) | 0.000000 |
GradientBasedCorrExposure2012 | -0.056004 |
GradientBasedCorrHighlights2012 (1) | 0.399579 |
GradientBasedCorrHighlights2012 (2) | 0.528090 |
GradientBasedCorrHighlights2012 | 0.000000 |
GradientBasedCorrHue | 233.000000 |
GradientBasedCorrLuminanceNoise (2) | 0.390976 |
GradientBasedCorrLuminanceNoise | 0.101124 |
GradientBasedCorrMaskFullX (1) | 0.617714 |
GradientBasedCorrMaskFullX (2) | 0.719523 |
GradientBasedCorrMaskFullX | 0.874773 |
GradientBasedCorrMaskFullY (1) | 0.015849 |
GradientBasedCorrMaskFullY (2) | -0.004635 |
GradientBasedCorrMaskFullY | 0.122287 |
GradientBasedCorrMaskValue | 1.000000 |
GradientBasedCorrMaskWhat | Mask/Gradient |
GradientBasedCorrMaskZeroX (1) | 0.703300 |
GradientBasedCorrMaskZeroX (2) | 0.738810 |
GradientBasedCorrMaskZeroX | 0.881081 |
GradientBasedCorrMaskZeroY (1) | 0.364232 |
GradientBasedCorrMaskZeroY (2) | 0.235233 |
GradientBasedCorrMaskZeroY | 0.182472 |
GradientBasedCorrMoire (2) | 0.000000 |
GradientBasedCorrMoire | 0.068381 |
GradientBasedCorrSaturation (1) | 0.348315 |
GradientBasedCorrSaturation (3) | 0.415730 |
GradientBasedCorrSaturation (5) | -0.025632 |
GradientBasedCorrSaturation | 0.000000 |
GradientBasedCorrShadows2012 (1) | -0.550562 |
GradientBasedCorrShadows2012 (2) | -0.617978 |
GradientBasedCorrShadows2012 | 0.056180 |
GradientBasedCorrSharpness (2) | 0.802844 |
GradientBasedCorrSharpness | 0.078652 |
GradientBasedCorrTemperature (1) | -0.148525 |
GradientBasedCorrTemperature (2) | -0.185657 |
GradientBasedCorrTemperature | -0.054951 |
GradientBasedCorrTint (1) | 0.000000 |
GradientBasedCorrTint | -0.017907 |
GradientBasedCorrWhat | Correction |
GrainAmount | 0 |
GreenHue | 0 |
GreenSaturation | 0 |
HasCrop | True |
HasSettings | True |
HighlightRecovery | 0 |
Highlights2012 | 0 |
HueAdjustmentAqua | 0 |
HueAdjustmentBlue | 0 |
HueAdjustmentGreen | 0 |
HueAdjustmentMagenta | 0 |
HueAdjustmentOrange | 0 |
HueAdjustmentPurple | 0 |
HueAdjustmentRed | 0 |
HueAdjustmentYellow | -42 |
HyperfocalDistance | 12.44 m |
ImageHeight | 2109 |
ImageNumber | 47415 |
ImageSize | 3170x2109 |
ImageWidth | 3170 |
ISO | 400 |
Lens | 28.0-300.0 mm f/3.5-5.6 |
LensID (1) | 165 |
LensID | AF-S Nikkor 28-300mm f/3.5-5.6G ED VR |
LensInfo | 28-300mm f/3.5-5.6 |
LensManualDistortionAmount | 0 |
LensModel | 28.0-300.0 mm f/3.5-5.6 |
LensProfileEnable | 0 |
LensProfileSetup | LensDefaults |
LightSource | Fine Weather |
LightValue | 12.0 |
LuminanceAdjustmentAqua | 0 |
LuminanceAdjustmentBlue | 0 |
LuminanceAdjustmentGreen | 0 |
LuminanceAdjustmentMagenta | 0 |
LuminanceAdjustmentOrange | -20 |
LuminanceAdjustmentPurple | 0 |
LuminanceAdjustmentRed | 0 |
LuminanceAdjustmentYellow | -9 |
LuminanceSmoothing | 0 |
Make | NIKON CORPORATION |
MaxApertureValue | 4.6 |
Megapixels | 6.7 |
MeteringMode | Multi-segment |
Model | NIKON D3S |
ModifyDate (1) | 2013:03:26 22:08:14+01:00 |
ModifyDate | 2013:03:26 22:08:14 |
PaintCorrectionActive | true |
PaintCorrectionAmount | 1.000000 |
PaintCorrectionBrightness | 0.320225 |
PaintCorrectionClarity2012 (1) | 0.573034 |
PaintCorrectionClarity2012 | 0.640449 |
PaintCorrectionContrast2012 | -0.000263 |
PaintCorrectionExposure2012 (2) | 0.000000 |
PaintCorrectionExposure2012 | 0.038887 |
PaintCorrectionHighlights2012 | 0.000000 |
PaintCorrectionHue | 233.000000 |
PaintCorrectionLuminanceNoise | 0.390976 |
PaintCorrectionMaskCenterWeight (47) | 0.266084 |
PaintCorrectionMaskCenterWeight | 0.000000 |
PaintCorrectionMaskFlow | 1.000000 |
PaintCorrectionMaskRadius (7) | 0.008431 |
PaintCorrectionMaskRadius | 0.114020 |
PaintCorrectionMaskValue | 1.000000 |
PaintCorrectionMaskWhat | Mask/Paint |
PaintCorrectionMoire | 0.000000 |
PaintCorrectionSaturation (5) | 0.003687 |
PaintCorrectionSaturation (7) | 0.280197 |
PaintCorrectionSaturation | 0.000000 |
PaintCorrectionShadows2012 | 0.011236 |
PaintCorrectionSharpness | 0.802844 |
PaintCorrectionTemperature (1) | 0.000000 |
PaintCorrectionTemperature | 0.550562 |
PaintCorrectionTint | 0.000000 |
PaintCorrectionWhat | Correction |
ParametricDarks | 0 |
ParametricHighlights | 0 |
ParametricHighlightSplit | 75 |
ParametricLights | 0 |
ParametricMidtoneSplit | 50 |
ParametricShadows | 0 |
ParametricShadowSplit | 25 |
PerspectiveHorizontal | 0 |
PerspectiveRotate | 0.0 |
PerspectiveScale | 100 |
PerspectiveVertical | 0 |
PostCropVignetteAmount | 0 |
ProcessVersion | 6.7 |
ProfileDescription | sRGB IEC61966-2.1 |
Rating | 5 |
RedHue | 0 |
RedSaturation | 0 |
Saturation (1) | +18 |
Saturation | Normal |
SaturationAdjustmentAqua | 0 |
SaturationAdjustmentBlue | 0 |
SaturationAdjustmentGreen | 0 |
SaturationAdjustmentMagenta | 0 |
SaturationAdjustmentOrange | 0 |
SaturationAdjustmentPurple | 0 |
SaturationAdjustmentRed | 0 |
SaturationAdjustmentYellow | +14 |
ScaleFactor35efl | 1.0 |
SceneCaptureType | Standard |
SceneType | Directly photographed |
SensingMethod | One-chip color area |
SerialNumber | 2058033 |
Shadows | 5 |
Shadows2012 | +54 |
ShadowTint | 0 |
SharpenDetail | 25 |
SharpenEdgeMasking | 0 |
SharpenRadius | +1.0 |
Sharpness (1) | 25 |
Sharpness | Normal |
ShutterSpeed | 1/200 |
ShutterSpeedValue | 1/200 |
Software | Adobe Photoshop Lightroom 4.0 (Macintosh) |
SplitToningBalance | 0 |
SplitToningHighlightHue | 0 |
SplitToningHighlightSaturation | 0 |
SplitToningShadowHue | 0 |
SplitToningShadowSaturation | 0 |
SubjectDistanceRange | Unknown |
Tint | +10 |
ToneCurve | 0, 0, 255, 255 |
ToneCurveBlue | 0, 0, 255, 255 |
ToneCurveGreen | 0, 0, 255, 255 |
ToneCurveName | Linear |
ToneCurveName2012 | Linear |
ToneCurvePV2012 | 0, 0, 255, 255 |
ToneCurvePV2012Blue | 0, 0, 255, 255 |
ToneCurvePV2012Green | 0, 0, 255, 255 |
ToneCurvePV2012Red | 0, 0, 255, 255 |
ToneCurveRed | 0, 0, 255, 255 |
Version | 7.0 |
Vibrance | 0 |
VignetteAmount | 0 |
WhiteBalance (1) | Custom |
WhiteBalance | Manual |
Whites2012 | -7 |