Felt | Verdi |
AlreadyApplied | True |
Aperture | 7.1 |
ApertureValue | 7.1 |
BitsPerSample | 8 |
BlueHue | 0 |
BlueSaturation | 0 |
Brightness | -1 |
CameraProfile | Adobe Standard |
ChromaticAberrationB | 0 |
ChromaticAberrationR | 0 |
CircleOfConfusion | 0.030 mm |
Clarity | +88 |
ColorComponents | 3 |
ColorMode | RGB |
ColorNoiseReduction | 25 |
ColorNoiseReductionDetail | 50 |
ColorSpace | Uncalibrated |
ColorTemperature | 6700 |
Contrast | +25 |
ConvertToGrayscale | False |
CreateDate (1) | 2013:02:07 11:05:09+01:00 |
CreateDate | 2013:02:07 11:05:09 |
CropAngle | -0.878027 |
CropBottom | 0.977528 |
CropLeft | 0.006242 |
CropRight | 0.993758 |
CropTop | 0.022472 |
CustomRendered | Normal |
DateCreated (1) | 2013:02:07 |
DateCreated | 2013:02:07 11:05:09 |
DateTimeOriginal | 2013:02:07 11:05:09 |
Defringe | 0 |
ExifImageHeight | 4270 |
ExifImageWidth | 2847 |
Exposure | -0.60 |
ExposureCompensation | 0 |
ExposureMode | Auto |
ExposureProgram | Program AE |
ExposureTime | 1/200 |
FillLight | 4 |
Firmware | 1.1.1 |
Flash | Off, Did not fire |
FlashCompensation | 0 |
FNumber | 7.1 |
FocalLength | 24.0 mm |
FocalLength35efl | 24.0 mm (35 mm equivalent: 24.0 mm) |
Format | image/jpeg |
FOV | 73.6 deg |
GradientBasedCorrActive | true |
GradientBasedCorrAmount | 1.000000 |
GradientBasedCorrBrightness | 0.285000 |
GradientBasedCorrClarity | 0.070000 |
GradientBasedCorrContrast | -0.470000 |
GradientBasedCorrExposure | 0.650000 |
GradientBasedCorrHue | 0.000000 |
GradientBasedCorrMaskFullX | -0.002829 |
GradientBasedCorrMaskFullY | 0.509554 |
GradientBasedCorrMaskValue | 1.000000 |
GradientBasedCorrMaskWhat | Mask/Gradient |
GradientBasedCorrMaskZeroX | 0.514851 |
GradientBasedCorrMaskZeroY | 0.505308 |
GradientBasedCorrSaturation (1) | -0.260000 |
GradientBasedCorrSaturation | 0.000000 |
GradientBasedCorrSharpness | 1.000000 |
GradientBasedCorrWhat | Correction |
GrainAmount | 0 |
GreenHue | 0 |
GreenSaturation | 0 |
HasCrop | True |
HasSettings | True |
HighlightRecovery | 100 |
HueAdjustmentAqua | 0 |
HueAdjustmentBlue | 0 |
HueAdjustmentGreen | 0 |
HueAdjustmentMagenta | 0 |
HueAdjustmentOrange | 0 |
HueAdjustmentPurple | 0 |
HueAdjustmentRed | 0 |
HueAdjustmentYellow | 0 |
HyperfocalDistance | 2.71 m |
ICCProfileName | Adobe RGB (1998) |
ImageHeight | 4270 |
ImageNumber | 37 |
ImageSize | 2847x4270 |
ImageWidth | 2847 |
ISO | 100 |
Lens | 24.0-70.0 mm |
LensID (1) | 161 |
LensID | Sigma 24-70mm f/2.8 EX or Tokina AT-X 24-70mm f/2.8 PRO FX (IF) |
LensInfo | 24-70mm f/? |
LightValue | 13.3 |
LuminanceAdjustmentAqua | 0 |
LuminanceAdjustmentBlue | 0 |
LuminanceAdjustmentGreen | 0 |
LuminanceAdjustmentMagenta | 0 |
LuminanceAdjustmentOrange | 0 |
LuminanceAdjustmentPurple | 0 |
LuminanceAdjustmentRed | 0 |
LuminanceAdjustmentYellow | 0 |
LuminanceSmoothing | 0 |
Make | Canon |
MaxApertureValue | 3.0 |
Megapixels | 12.2 |
MeteringMode | Partial |
Model | Canon EOS 5D |
ModifyDate (1) | 2013:02:09 23:40:50+01:00 |
ModifyDate | 2013:02:09 23:40:50 |
Orientation | Horizontal (normal) |
ParametricDarks | 0 |
ParametricHighlights | +100 |
ParametricHighlightSplit | 75 |
ParametricLights | +36 |
ParametricMidtoneSplit | 50 |
ParametricShadows | +33 |
ParametricShadowSplit | 25 |
PostCropVignetteAmount | 0 |
ProcessVersion | 5.7 |
ProfileDescription | Adobe RGB (1998) |
Rating | 0 |
RawFileName | IMG_2591.CR2 |
RedHue | 0 |
RedSaturation | 0 |
Saturation | +8 |
SaturationAdjustmentAqua | 0 |
SaturationAdjustmentBlue | 0 |
SaturationAdjustmentGreen | 0 |
SaturationAdjustmentMagenta | 0 |
SaturationAdjustmentOrange | 0 |
SaturationAdjustmentPurple | 0 |
SaturationAdjustmentRed | 0 |
SaturationAdjustmentYellow | 0 |
ScaleFactor35efl | 1.0 |
SceneCaptureType | Standard |
SerialNumber | 1430906675 |
Shadows | 10 |
ShadowTint | 0 |
SharpenDetail | 25 |
SharpenEdgeMasking | 8 |
SharpenRadius | +1.0 |
Sharpness | 64 |
ShutterSpeed | 1/200 |
ShutterSpeedValue | 1/200 |
SidecarForExtension | CR2 |
Software | Adobe Photoshop CS5 Macintosh |
SplitToningBalance | 0 |
SplitToningHighlightHue | 0 |
SplitToningHighlightSaturation | 0 |
SplitToningShadowHue | 0 |
SplitToningShadowSaturation | 0 |
Tint | +3 |
ToneCurve | 0, 0, 32, 22, 64, 56, 128, 128, 192, 196, 255, 255 |
ToneCurveName | Medium Contrast |
URL_List | |
Version | 6.0 |
Vibrance | 0 |
VignetteAmount | 0 |
WhiteBalance (1) | Custom |
WhiteBalance | Auto |