Felt | Verdi |
AlreadyApplied | True |
Aperture | 8.0 |
ApertureValue | 8.0 |
ApproximateFocusDistance | 3.25 |
Artist | Eric Fagerheim |
AuthorsPosition | photographer |
AutoLateralCA | 0 |
BitsPerSample | 8 |
Blacks2012 | 0 |
BlueHue | +11 |
BlueSaturation | -21 |
By-line | Eric Fagerheim |
By-lineTitle | photographer |
CameraProfile | Embedded |
CircleOfConfusion | 0.005 mm |
Clarity2012 | +29 |
ColorComponents | 3 |
ColorNoiseReduction | 0 |
Contrast2012 | 0 |
ConvertToGrayscale | True |
Copyright | www.fotofashion.no |
CopyrightFlag | True |
CopyrightNotice | www.fotofashion.no |
CreateDate | 2013:01:23 18:52:12 |
Creator | Eric Fagerheim |
CreatorAddress | Pir II 3 |
CreatorCity | Trondheim |
CreatorCountry | Norway |
CreatorPostalCode | 7010 |
CreatorTool | Adobe Photoshop Lightroom 4.3 (Windows) |
CreatorWorkEmail | mail@fotofashion.no |
CreatorWorkURL | www.fotofashion.no |
CustomRendered | Normal |
DateCreated (1) | 2013:01:23 |
DateCreated | 2013:01:23 18:52:12 |
DateTimeOriginal | 2013:01:23 18:52:12 |
DOF | 0.33 m (3.09 - 3.42 m) |
Exposure2012 | -0.24 |
ExposureCompensation | 0 |
ExposureMode | Manual |
ExposureProgram | Manual |
ExposureTime | 1/160 |
Firmware | 1.1.3 |
Flash | Off, Did not fire |
FlashCompensation | 0 |
FNumber | 8.0 |
FocalLength | 50.0 mm |
FocalLength35efl | 50.0 mm (35 mm equivalent: 305.3 mm) |
Format | image/jpeg |
FOV | 6.7 deg |
GradientBasedCorrActive | true |
GradientBasedCorrAmount | 1.000000 |
GradientBasedCorrBrightness | 0.000000 |
GradientBasedCorrClarity2012 | 0.000000 |
GradientBasedCorrContrast2012 | 0.000000 |
GradientBasedCorrDefringe | 0.000000 |
GradientBasedCorrExposure2012 (2) | -0.097500 |
GradientBasedCorrExposure2012 | -0.146250 |
GradientBasedCorrHighlights2012 | 0.000000 |
GradientBasedCorrHue | 0.000000 |
GradientBasedCorrLuminanceNoise | 0.000000 |
GradientBasedCorrMaskFullX (1) | 0.904360 |
GradientBasedCorrMaskFullX (2) | 0.138414 |
GradientBasedCorrMaskFullX (3) | 0.068272 |
GradientBasedCorrMaskFullX | 0.999339 |
GradientBasedCorrMaskFullY (1) | 0.746965 |
GradientBasedCorrMaskFullY (2) | 0.025638 |
GradientBasedCorrMaskFullY (3) | 0.700859 |
GradientBasedCorrMaskFullY | 0.031986 |
GradientBasedCorrMaskValue | 1.000000 |
GradientBasedCorrMaskWhat | Mask/Gradient |
GradientBasedCorrMaskZeroX (1) | 0.577059 |
GradientBasedCorrMaskZeroX (2) | 0.346491 |
GradientBasedCorrMaskZeroX (3) | 0.391627 |
GradientBasedCorrMaskZeroX | 0.798696 |
GradientBasedCorrMaskZeroY (1) | 0.580510 |
GradientBasedCorrMaskZeroY (2) | 0.282326 |
GradientBasedCorrMaskZeroY (3) | 0.620817 |
GradientBasedCorrMaskZeroY | 0.251465 |
GradientBasedCorrMoire | 0.000000 |
GradientBasedCorrSaturation | 0.000000 |
GradientBasedCorrShadows2012 | 0.000000 |
GradientBasedCorrSharpness | 0.000000 |
GradientBasedCorrTemperature | 0.000000 |
GradientBasedCorrTint | 0.000000 |
GradientBasedCorrWhat | Correction |
GrainAmount | 0 |
GrayMixerAqua | -10 |
GrayMixerBlue | +19 |
GrayMixerGreen | -9 |
GrayMixerMagenta | +30 |
GrayMixerOrange | +2 |
GrayMixerPurple | +25 |
GrayMixerRed | +10 |
GrayMixerYellow | +9 |
GreenHue | +16 |
GreenSaturation | +51 |
HasCrop | False |
HasSettings | True |
Headline | Din fotograf i Trondheim - Fotofashion.no |
Highlights2012 | -3 |
HyperfocalDistance | 63.50 m |
ImageHeight | 619 |
ImageNumber | 0 |
ImageSize | 950x619 |
ImageWidth | 950 |
IncrementalTemperature | +5 |
IncrementalTint | 0 |
ISO | 100 |
Keywords | din fotograf, fotofashion, fotograf trondheim |
Label | Fotofashion |
Lens | EF50mm f/1.2L USM |
LensID (1) | 241 |
LensID | Canon EF 50mm f/1.2L USM |
LensInfo | 50mm f/? |
LensManualDistortionAmount | 0 |
LensModel | EF50mm f/1.2L USM |
LensProfileEnable | 0 |
LensProfileSetup | LensDefaults |
LensSerialNumber | 0000413976 |
LightValue | 13.3 |
LuminanceSmoothing | 0 |
Make | Canon |
Marked | True |
MaxApertureValue | 1.2 |
Megapixels | 0.588 |
MeteringMode | Multi-segment |
Model | Canon EOS 5D Mark III |
ModifyDate (1) | 2013:01:25 01:06:59+01:00 |
ModifyDate | 2013:01:25 01:06:59 |
ObjectName | www.fotofashion.no |
ParametricDarks | -10 |
ParametricHighlights | 0 |
ParametricHighlightSplit | 75 |
ParametricLights | 0 |
ParametricMidtoneSplit | 50 |
ParametricShadows | -10 |
ParametricShadowSplit | 25 |
PerspectiveHorizontal | 0 |
PerspectiveRotate | 0.0 |
PerspectiveScale | 100 |
PerspectiveVertical | 0 |
PostCropVignetteAmount | 0 |
ProcessVersion | 6.7 |
ProfileDescription | sRGB IEC61966-2.1 |
Rating | 1 |
RecommendedExposureIndex | 100 |
RedHue | +23 |
RedSaturation | +10 |
Rights | www.fotofashion.no |
ScaleFactor35efl | 6.1 |
SceneCaptureType | Standard |
SensitivityType | Recommended Exposure Index |
SerialNumber | 023021000616 |
Shadows2012 | +3 |
ShadowTint | +4 |
SharpenDetail | 25 |
SharpenEdgeMasking | 0 |
SharpenRadius | +1.0 |
Sharpness | 25 |
ShutterSpeed | 1/160 |
ShutterSpeedValue | 1/160 |
Software | Adobe Photoshop Lightroom 4.3 (Windows) |
SplitToningBalance | +27 |
SplitToningHighlightHue | 49 |
SplitToningHighlightSaturation | 26 |
SplitToningShadowHue | 240 |
SplitToningShadowSaturation | 24 |
Subject | din fotograf, fotofashion, fotograf trondheim |
Title | www.fotofashion.no |
ToneCurveName2012 | Linear |
ToneCurvePV2012 | 0, 0, 255, 255 |
ToneCurvePV2012Blue | 0, 0, 255, 255 |
ToneCurvePV2012Green | 0, 0, 255, 255 |
ToneCurvePV2012Red | 0, 0, 255, 255 |
URL | www.fotofashion.no |
Version | 7.3 |
VignetteAmount | -100 |
VignetteMidpoint | 40 |
WebStatement | www.fotofashion.no |
WhiteBalance (1) | Custom |
WhiteBalance | Auto |
Whites2012 | 0 |