Felt | Verdi |
AlreadyApplied | True |
Aperture | 4.0 |
ApertureValue | 4.0 |
ApproximateFocusDistance | 17.8 |
Artist | Per Christian Anfinnsen |
AutoLateralCA | 0 |
BitsPerSample | 8 |
Blacks2012 | +34 |
BlueHue | 0 |
BlueSaturation | 0 |
By-line | Per Christian Anfinnsen |
CameraProfile | Adobe Standard |
CircleOfConfusion | 0.023 mm |
Clarity2012 | +32 |
ColorComponents | 3 |
ColorNoiseReduction | 25 |
ColorNoiseReductionDetail | 50 |
ColorTemperature | 6283 |
Contrast2012 | +26 |
ConvertToGrayscale | False |
CreateDate (1) | 2011:02:24 09:10:53.11 |
CreateDate | 2011:02:24 09:10:53 |
Creator | Per Christian Anfinnsen |
CreatorTool | Adobe Photoshop Lightroom 4.3 (Macintosh) |
CropAngle | 0 |
CropBottom | 0.80096 |
CropConstrainToWarp | 0 |
CropHeight | 673 |
CropLeft | 0.156739 |
CropRight | 0.919066 |
CropTop | 0.049134 |
CropUnit | pixels |
CropWidth | 1024 |
CustomRendered | Normal |
DateCreated (1) | 2011:02:24 |
DateCreated | 2011:02:24 09:10:53.11 |
DateTimeOriginal | 2011:02:24 09:10:53 |
DefringeGreenAmount | 0 |
DefringeGreenHueHi | 60 |
DefringeGreenHueLo | 40 |
DefringePurpleAmount | 0 |
DefringePurpleHueHi | 70 |
DefringePurpleHueLo | 30 |
DOF | 0.65 m (17.48 - 18.13 m) |
Exposure2012 | -0.40 |
ExposureCompensation | +1/3 |
ExposureMode | Auto |
ExposureProgram | Aperture-priority AE |
ExposureTime | 1/1250 |
Firmware | 1.2.5 |
Flash | No Flash |
FlashCompensation | 0 |
FNumber | 4.0 |
FocalLength | 300.0 mm |
FocalLength35efl | 300.0 mm (35 mm equivalent: 384.4 mm) |
Format | image/jpeg |
FOV | 5.4 deg |
GrainAmount | 0 |
GreenHue | 0 |
GreenSaturation | 0 |
HasCrop | True |
HasSettings | True |
Highlights2012 | -100 |
HueAdjustmentAqua | 0 |
HueAdjustmentBlue | 0 |
HueAdjustmentGreen | 0 |
HueAdjustmentMagenta | 0 |
HueAdjustmentOrange | 0 |
HueAdjustmentPurple | 0 |
HueAdjustmentRed | 0 |
HueAdjustmentYellow | 0 |
HyperfocalDistance | 959.57 m |
ImageHeight | 673 |
ImageNumber | 0 |
ImageSize | 1024x673 |
ImageWidth | 1024 |
ISO | 400 |
Lens | EF300mm f/2.8L IS USM |
LensID (1) | 142 |
LensID | Canon EF 300mm f/2.8L IS USM |
LensInfo | 300mm f/? |
LensManualDistortionAmount | 0 |
LensModel | EF300mm f/2.8L IS USM |
LensProfileEnable | 0 |
LensProfileSetup | LensDefaults |
LightValue | 12.3 |
LuminanceAdjustmentAqua | 0 |
LuminanceAdjustmentBlue | 0 |
LuminanceAdjustmentGreen | 0 |
LuminanceAdjustmentMagenta | 0 |
LuminanceAdjustmentOrange | 0 |
LuminanceAdjustmentPurple | 0 |
LuminanceAdjustmentRed | 0 |
LuminanceAdjustmentYellow | 0 |
LuminanceNoiseReductionContrast | 0 |
LuminanceNoiseReductionDetail | 50 |
LuminanceSmoothing | 16 |
Make | Canon |
MaxApertureValue | 2.8 |
Megapixels | 0.689 |
MeteringMode | Multi-segment |
Model | Canon EOS-1D Mark III |
ModifyDate (1) | 2013:01:19 21:33:00+01:00 |
ModifyDate | 2013:01:19 21:33:00 |
OwnerName | Per Christian Anfinnsen |
PaintCorrectionActive | true |
PaintCorrectionAmount | 1.000000 |
PaintCorrectionBrightness | 0.081066 |
PaintCorrectionClarity2012 | 0.000000 |
PaintCorrectionContrast2012 | 0.000000 |
PaintCorrectionDefringe | 0.000000 |
PaintCorrectionExposure2012 | 0.011938 |
PaintCorrectionHighlights2012 | 0.000000 |
PaintCorrectionHue | 230.000000 |
PaintCorrectionLuminanceNoise (1) | 0.000000 |
PaintCorrectionLuminanceNoise | 0.151598 |
PaintCorrectionMaskCenterWeight | 0.065889 |
PaintCorrectionMaskFlow | 1.000000 |
PaintCorrectionMaskRadius (1) | 0.007019 |
PaintCorrectionMaskRadius | 0.011267 |
PaintCorrectionMaskValue | 1.000000 |
PaintCorrectionMaskWhat | Mask/Paint |
PaintCorrectionMoire | 0.000000 |
PaintCorrectionSaturation | 0.000000 |
PaintCorrectionShadows2012 (1) | 0.668364 |
PaintCorrectionShadows2012 | 0.000000 |
PaintCorrectionSharpness (1) | 0.336213 |
PaintCorrectionSharpness | 0.603143 |
PaintCorrectionTemperature | 0.000000 |
PaintCorrectionTint | 0.000000 |
PaintCorrectionWhat | Correction |
ParametricDarks | 0 |
ParametricHighlights | 0 |
ParametricHighlightSplit | 75 |
ParametricLights | 0 |
ParametricMidtoneSplit | 50 |
ParametricShadows | 0 |
ParametricShadowSplit | 25 |
PerspectiveHorizontal | 0 |
PerspectiveRotate | 0.0 |
PerspectiveScale | 100 |
PerspectiveVertical | 0 |
PostCropVignetteAmount | 0 |
ProcessVersion | 6.7 |
ProfileDescription | sRGB IEC61966-2.1 |
RedHue | 0 |
RedSaturation | 0 |
Saturation | 0 |
SaturationAdjustmentAqua | 0 |
SaturationAdjustmentBlue | -77 |
SaturationAdjustmentGreen | 0 |
SaturationAdjustmentMagenta | 0 |
SaturationAdjustmentOrange | 0 |
SaturationAdjustmentPurple | 0 |
SaturationAdjustmentRed | 0 |
SaturationAdjustmentYellow | +7 |
ScaleFactor35efl | 1.3 |
SceneCaptureType | Standard |
SerialNumber | 582863 |
Shadows2012 | +100 |
ShadowTint | 0 |
SharpenDetail | 25 |
SharpenEdgeMasking | 0 |
SharpenRadius | +1.2 |
Sharpness | 64 |
ShutterSpeed | 1/1250 |
ShutterSpeedValue | 1/1250 |
Software | Adobe Photoshop Lightroom 4.3 (Macintosh) |
SplitToningBalance | 0 |
SplitToningHighlightHue | 0 |
SplitToningHighlightSaturation | 0 |
SplitToningShadowHue | 0 |
SplitToningShadowSaturation | 0 |
Tint | -3 |
ToneCurveName2012 | Linear |
ToneCurvePV2012 | 0, 0, 255, 255 |
ToneCurvePV2012Blue | 0, 0, 255, 255 |
ToneCurvePV2012Green | 0, 0, 255, 255 |
ToneCurvePV2012Red | 0, 0, 255, 255 |
Version | 7.3 |
Vibrance | +20 |
VignetteAmount | 0 |
WhiteBalance (1) | Custom |
WhiteBalance | Auto |
Whites2012 | +42 |