Felt | Verdi |
AlreadyApplied | True |
Aperture | 9.5 |
ApertureValue | 9.5 |
ApproximateFocusDistance | 8.5 |
AutoLateralCA | 0 |
BitsPerSample | 8 |
Blacks2012 | 0 |
BlueHue | 0 |
BlueSaturation | 0 |
Brightness | +38 |
CameraProfile | Adobe Standard |
CircleOfConfusion | 0.019 mm |
Clarity | +18 |
Clarity2012 | 0 |
ColorComponents | 3 |
ColorMode | RGB |
ColorNoiseReduction | 25 |
ColorNoiseReductionDetail | 50 |
ColorSpace | Uncalibrated |
ColorTemperature | 6700 |
Contrast | +33 |
Contrast2012 | 0 |
ConvertToGrayscale | False |
CreateDate (1) | 2012:05:26 20:47:09.00 |
CreateDate | 2012:05:26 20:47:09 |
CreatorTool | Adobe Photoshop CS5.1 Windows |
CropAngle | -0.184824 |
CropBottom | 0.995185 |
CropConstrainToWarp | 1 |
CropLeft | 0.001338 |
CropRight | 0.998662 |
CropTop | 0.004815 |
CustomRendered | Normal |
DateCreated (1) | 2012:05:26 |
DateCreated | 2012:05:26 20:47:09 |
DateTimeOriginal | 2012:05:26 20:47:09 |
Defringe | 0 |
DOF | 5.68 m (6.52 - 12.20 m) |
ExifImageHeight | 683 |
ExifImageWidth | 1024 |
Exposure | +0.55 |
Exposure2012 | 0.00 |
ExposureCompensation | 0 |
ExposureMode | Auto |
ExposureProgram | Aperture-priority AE |
ExposureTime | 0.7 |
FillLight | 10 |
Firmware | 1.1.1 |
Flash | Off, Did not fire |
FlashCompensation | 0 |
FNumber | 9.5 |
FocalLength | 70.0 mm |
FocalLength35efl | 70.0 mm (35 mm equivalent: 113.3 mm) |
Format | image/jpeg |
FOV | 18.1 deg |
GrainAmount | 0 |
GreenHue | 0 |
GreenSaturation | 0 |
HasCrop | True |
HasSettings | True |
HighlightRecovery | 34 |
Highlights2012 | 0 |
HueAdjustmentAqua | 0 |
HueAdjustmentBlue | 0 |
HueAdjustmentGreen | 0 |
HueAdjustmentMagenta | 0 |
HueAdjustmentOrange | 0 |
HueAdjustmentPurple | 0 |
HueAdjustmentRed | 0 |
HueAdjustmentYellow | 0 |
HyperfocalDistance | 27.79 m |
ICCProfileName | Adobe RGB (1998) |
ImageHeight | 683 |
ImageNumber | 0 |
ImageSize | 1024x683 |
ImageWidth | 1024 |
ISO | 100 |
Lens | 17-70mm |
LensID (1) | 131 |
LensID | Sigma 17-70mm f/2.8-4.5 DC Macro |
LensInfo | 17-70mm f/? |
LensManualDistortionAmount | 0 |
LensModel | 17-70mm |
LensProfileChromaticAberrationScale | 100 |
LensProfileDistortionScale | 100 |
LensProfileEnable | 1 |
LensProfileFilename | Canon (Sigma_17-70mm_F2.8-4.5_DC_MACRO_HSM ) - RAW.lcp |
LensProfileName | Adobe (SIGMA 17-70mm F2.8-4.5 DC MACRO / HSM, Canon) |
LensProfileSetup | LensDefaults |
LensProfileVignettingScale | 100 |
LightValue | 7.0 |
LuminanceAdjustmentAqua | 0 |
LuminanceAdjustmentBlue | 0 |
LuminanceAdjustmentGreen | 0 |
LuminanceAdjustmentMagenta | 0 |
LuminanceAdjustmentOrange | 0 |
LuminanceAdjustmentPurple | 0 |
LuminanceAdjustmentRed | 0 |
LuminanceAdjustmentYellow | 0 |
LuminanceSmoothing | 0 |
Make | Canon |
MaxApertureValue | 4.6 |
Megapixels | 0.699 |
MeteringMode | Multi-segment |
Model | Canon EOS 40D |
ModifyDate (1) | 2012:05:27 01:46:01+02:00 |
ModifyDate | 2012:05:27 01:46:01 |
Orientation | Horizontal (normal) |
ParametricDarks | 0 |
ParametricHighlights | 0 |
ParametricHighlightSplit | 75 |
ParametricLights | 0 |
ParametricMidtoneSplit | 50 |
ParametricShadows | 0 |
ParametricShadowSplit | 25 |
PerspectiveHorizontal | 0 |
PerspectiveRotate | 0.0 |
PerspectiveScale | 100 |
PerspectiveVertical | 0 |
PostCropVignetteAmount | 0 |
ProcessVersion | 5.7 |
ProfileDescription | Adobe RGB (1998) |
Rating | 0 |
RawFileName | IMG_3718.CR2 |
RedHue | 0 |
RedSaturation | 0 |
Saturation | +26 |
SaturationAdjustmentAqua | 0 |
SaturationAdjustmentBlue | 0 |
SaturationAdjustmentGreen | 0 |
SaturationAdjustmentMagenta | 0 |
SaturationAdjustmentOrange | 0 |
SaturationAdjustmentPurple | 0 |
SaturationAdjustmentRed | 0 |
SaturationAdjustmentYellow | 0 |
ScaleFactor35efl | 1.6 |
SceneCaptureType | Standard |
SerialNumber | 330110427 |
Shadows | 7 |
Shadows2012 | 0 |
ShadowTint | 0 |
SharpenDetail | 25 |
SharpenEdgeMasking | 0 |
SharpenRadius | +1.0 |
Sharpness | 51 |
ShutterSpeed | 0.7 |
ShutterSpeedValue | 0.7 |
Software | Adobe Photoshop CS5.1 Windows |
SplitToningBalance | 0 |
SplitToningHighlightHue | 0 |
SplitToningHighlightSaturation | 0 |
SplitToningShadowHue | 0 |
SplitToningShadowSaturation | 0 |
SubjectDistance | 8.5 m |
Tint | -2 |
ToneCurve | 0, 0, 32, 22, 64, 56, 128, 128, 192, 196, 255, 255 |
ToneCurveBlue | 0, 0, 255, 255 |
ToneCurveGreen | 0, 0, 255, 255 |
ToneCurveName | Medium Contrast |
ToneCurveName2012 | Linear |
ToneCurvePV2012 | 0, 0, 255, 255 |
ToneCurvePV2012Blue | 0, 0, 255, 255 |
ToneCurvePV2012Green | 0, 0, 255, 255 |
ToneCurvePV2012Red | 0, 0, 255, 255 |
ToneCurveRed | 0, 0, 255, 255 |
URL_List | |
Version | 6.7 |
Vibrance | +26 |
VignetteAmount | 0 |
WhiteBalance (1) | As Shot |
WhiteBalance | Auto |
Whites2012 | 0 |