Felt | Verdi |
AlreadyApplied | True |
Aperture | 8.0 |
ApertureValue | 8.0 |
ApproximateFocusDistance | 4294967295 |
Artist | vegard finsrud |
BitsPerSample | 8 |
BlueHue | 0 |
BlueSaturation | 0 |
Brightness | +50 |
By-line | vegard finsrud |
CameraProfile | Camera Landscape |
ChromaticAberrationB | 0 |
ChromaticAberrationR | 0 |
CircleOfConfusion | 0.023 mm |
Clarity | +37 |
ColorComponents | 3 |
ColorMode | RGB |
ColorNoiseReduction | 100 |
ColorNoiseReductionDetail | 50 |
ColorSpace | sRGB |
ColorTemperature | 5400 |
Contrast | +43 |
ConvertToGrayscale | False |
Copyright | Copyright Vegardfoto |
CopyrightFlag | True |
CopyrightNotice | Copyright Vegardfoto |
CreateDate (1) | 2012:04:07 00:13:34+02:00 |
CreateDate | 2012:04:07 00:13:34 |
Creator | vegard finsrud |
CustomRendered | Normal |
DateCreated | 2012:04:07 |
DateTimeOriginal (1) | 2012:04:07 00:13:34+02:00 |
DateTimeOriginal | 2012:04:07 00:13:34 |
Defringe | 0 |
DOF | inf (0.65 m - inf) |
ExifImageHeight | 2592 |
ExifImageWidth | 3888 |
Exposure | 0.00 |
ExposureCompensation | 0 |
ExposureMode | Manual |
ExposureProgram | Manual |
ExposureTime | 30 |
FillLight | 0 |
Firmware | 1.3.0 |
Flash | Off, Did not fire |
FlashCompensation | 0 |
FlashFired | False |
FlashFunction | False |
FlashMode | Off |
FlashRedEyeMode | False |
FlashReturn | No return detection |
FNumber | 8.0 |
FocalLength | 11.0 mm |
FocalLength35efl | 11.0 mm (35 mm equivalent: 14.1 mm) |
Format | image/jpeg |
FOV | 103.9 deg |
GrainAmount | 0 |
GreenHue | 0 |
GreenSaturation | 0 |
HasCrop | False |
HasSettings | True |
HighlightRecovery | 100 |
HueAdjustmentAqua | 0 |
HueAdjustmentBlue | 0 |
HueAdjustmentGreen | 0 |
HueAdjustmentMagenta | 0 |
HueAdjustmentOrange | 0 |
HueAdjustmentPurple | 0 |
HueAdjustmentRed | 0 |
HueAdjustmentYellow | 0 |
HyperfocalDistance | 0.65 m |
ICCProfileName | sRGB IEC61966-2.1 |
ImageHeight | 2592 |
ImageNumber | 0 |
ImageSize | 3888x2592 |
ImageWidth | 3888 |
ISO | 1000 |
Keywords | Blurred, Medium Quality |
Lens | 10-20mm |
LensID (1) | 152 |
LensID | Sigma 10-20mm f/4-5.6 |
LensInfo | 10-20mm f/? |
LensManualDistortionAmount | 0 |
LensModel | 10-20mm |
LensProfileEnable | 0 |
LensProfileSetup | LensDefaults |
LightValue | -2.2 |
LuminanceAdjustmentAqua | 0 |
LuminanceAdjustmentBlue | 0 |
LuminanceAdjustmentGreen | 0 |
LuminanceAdjustmentMagenta | 0 |
LuminanceAdjustmentOrange | 0 |
LuminanceAdjustmentPurple | 0 |
LuminanceAdjustmentRed | 0 |
LuminanceAdjustmentYellow | 0 |
LuminanceNoiseReductionContrast | 0 |
LuminanceNoiseReductionDetail | 50 |
LuminanceSmoothing | 52 |
Make | Canon |
Marked | True |
MaxApertureValue | 4.4 |
Megapixels | 10.1 |
MeteringMode | Multi-segment |
Model | Canon EOS-1D Mark III |
ModifyDate (1) | 2012:04:07 02:43:23+02:00 |
ModifyDate | 2012:04:07 02:43:23 |
Orientation | Horizontal (normal) |
OwnerName | Jonny Vestli |
ParametricDarks | 0 |
ParametricHighlights | 0 |
ParametricHighlightSplit | 75 |
ParametricLights | 0 |
ParametricMidtoneSplit | 50 |
ParametricShadows | 0 |
ParametricShadowSplit | 25 |
PerspectiveHorizontal | 0 |
PerspectiveRotate | 0.0 |
PerspectiveScale | 100 |
PerspectiveVertical | 0 |
PostCropVignetteAmount | 0 |
ProcessVersion | 5.7 |
ProfileDescription | sRGB IEC61966-2.1 |
Rating | 0 |
RawFileName | _U1Z3659.CR2 |
RedHue | 0 |
RedSaturation | 0 |
Rights | Copyright Vegardfoto |
Saturation | 0 |
SaturationAdjustmentAqua | 0 |
SaturationAdjustmentBlue | 0 |
SaturationAdjustmentGreen | 0 |
SaturationAdjustmentMagenta | 0 |
SaturationAdjustmentOrange | 0 |
SaturationAdjustmentPurple | 0 |
SaturationAdjustmentRed | 0 |
SaturationAdjustmentYellow | 0 |
ScaleFactor35efl | 1.3 |
SceneCaptureType | Standard |
SerialNumber | 507861 |
Shadows | 5 |
ShadowTint | 0 |
SharpenDetail | 100 |
SharpenEdgeMasking | 0 |
SharpenRadius | +3.0 |
Sharpness | 29 |
ShutterSpeed | 30 |
ShutterSpeedValue | 30 |
Software | Adobe Photoshop Elements 10.0 Windows |
SplitToningBalance | 0 |
SplitToningHighlightHue | 0 |
SplitToningHighlightSaturation | 0 |
SplitToningShadowHue | 0 |
SplitToningShadowSaturation | 0 |
Subject | Blurred, Medium Quality |
SubjectDistance | 4294967295 m |
Tint | -6 |
ToneCurve | 0, 0, 32, 22, 64, 56, 128, 128, 192, 196, 255, 255 |
ToneCurveName | Medium Contrast |
URL_List | |
Version | 6.4.1 |
Vibrance | 0 |
VignetteAmount | 0 |
WhiteBalance (2) | As Shot |
WhiteBalance | Auto |