Felt | Verdi |
AlreadyApplied | True |
Aperture | 10.0 |
ApertureValue | 10.0 |
ApproximateFocusDistance | 2 |
Artist | Frank Ove Vold |
AutoLateralCA | 0 |
BitsPerSample | 8 |
Blacks2012 | 0 |
BlueHue | 0 |
BlueSaturation | 0 |
Brightness | +50 |
By-line | Frank Ove Vold |
CameraProfile | Camera Landscape |
CFAPattern | [Red,Green][Green,Blue] |
CircleOfConfusion | 0.030 mm |
Clarity | 0 |
Clarity2012 | +30 |
ColorComponents | 1 |
ColorNoiseReduction | 25 |
ColorNoiseReductionDetail | 50 |
ColorTemperature | 5171 |
Contrast (1) | +25 |
Contrast | Normal |
Contrast2012 | +24 |
ConvertToGrayscale | True |
Copyright | Frank Ove Vold |
CopyrightFlag | True |
CopyrightNotice | Frank Ove Vold |
CreateDate (1) | 2012:02:22 15:16:56.72 |
CreateDate | 2012:02:22 15:16:56 |
Creator | Frank Ove Vold |
CreatorAddress | Bjørgabaret 13 |
CreatorCity | Voss |
CreatorCountry | Norway |
CreatorPostalCode | 5700 |
CreatorTool | Adobe Photoshop Lightroom 4.0 (Windows) |
CreatorWorkEmail | fovold@gmail.com |
CreatorWorkTelephone | 41210051 |
CropAngle | 3.97165 |
CropBottom | 0.912915 |
CropConstrainToWarp | 0 |
CropHeight | 815 |
CropLeft | 0.240089 |
CropRight | 0.919112 |
CropTop | 0.126601 |
CropUnit | pixels |
CropWidth | 1224 |
CustomRendered | Normal |
DateCreated (1) | 2012:02:22 |
DateCreated | 2012:02:22 15:16:56.72 |
DateTimeOriginal | 2012:02:22 15:16:56 |
Defringe | 0 |
DigitalZoomRatio | 1 |
DOF | 2.51 m (1.35 - 3.86 m) |
Exposure | 0.00 |
Exposure2012 | +0.37 |
ExposureCompensation | -1/2 |
ExposureMode | Auto |
ExposureProgram | Aperture-priority AE |
ExposureTime | 1/80 |
FillLight | 0 |
Flash | No Flash |
FNumber | 10.0 |
FocalLength | 35.0 mm |
FocalLength35efl | 35.0 mm (35 mm equivalent: 35.0 mm) |
FocalLengthIn35mmFormat | 35 mm |
Format | image/jpeg |
FOV | 54.4 deg |
GainControl | None |
GrainAmount | 0 |
GrayMixerAqua | +9 |
GrayMixerBlue | -50 |
GrayMixerGreen | -61 |
GrayMixerMagenta | +3 |
GrayMixerOrange | -57 |
GrayMixerPurple | +12 |
GrayMixerRed | -7 |
GrayMixerYellow | -39 |
GreenHue | 0 |
GreenSaturation | 0 |
HasCrop | True |
HasSettings | True |
HighlightRecovery | 0 |
Highlights2012 | -73 |
HyperfocalDistance | 4.08 m |
ImageHeight | 1224 |
ImageNumber | 20360 |
ImageSize | 815x1224 |
ImageWidth | 815 |
ISO | 200 |
Keywords | Afrika, Uganda, Øst-Afrika |
Lens | 17.0-35.0 mm f/2.8 |
LensID (1) | 99 |
LensID | AF-S Nikkor 17-35mm f/2.8D IF-ED |
LensInfo | 17-35mm f/2.8 |
LensManualDistortionAmount | 0 |
LensModel | 17.0-35.0 mm f/2.8 |
LensProfileEnable | 0 |
LensProfileSetup | LensDefaults |
LightSource | Unknown |
LightValue | 12.0 |
LuminanceSmoothing | 0 |
Make | NIKON CORPORATION |
Marked | True |
MaxApertureValue | 2.8 |
Megapixels | 0.998 |
MeteringMode | Multi-segment |
Model | NIKON D3 |
ModifyDate (1) | 2012:03:15 20:56:53+01:00 |
ModifyDate | 2012:03:15 20:56:53 |
PaintCorrectionActive | true |
PaintCorrectionAmount | 1.000000 |
PaintCorrectionBrightness | 0.000000 |
PaintCorrectionClarity2012 | 0.000000 |
PaintCorrectionContrast2012 | 0.000000 |
PaintCorrectionExposure2012 | 0.146250 |
PaintCorrectionHighlights2012 | 0.000000 |
PaintCorrectionHue | 240.000000 |
PaintCorrectionLuminanceNoise | 0.000000 |
PaintCorrectionMaskCenterWeight | 0.004794 |
PaintCorrectionMaskFlow | 1.000000 |
PaintCorrectionMaskRadius | 0.023105 |
PaintCorrectionMaskValue | 1.000000 |
PaintCorrectionMaskWhat | Mask/Paint |
PaintCorrectionMoire | 0.000000 |
PaintCorrectionSaturation | 0.000000 |
PaintCorrectionShadows2012 | 0.585370 |
PaintCorrectionSharpness | 0.000000 |
PaintCorrectionTemperature | 0.000000 |
PaintCorrectionTint | 0.000000 |
PaintCorrectionWhat | Correction |
ParametricDarks | 0 |
ParametricHighlights | -16 |
ParametricHighlightSplit | 75 |
ParametricLights | 0 |
ParametricMidtoneSplit | 50 |
ParametricShadows | 0 |
ParametricShadowSplit | 25 |
PerspectiveHorizontal | 0 |
PerspectiveRotate | 0.0 |
PerspectiveScale | 100 |
PerspectiveVertical | 0 |
PostCropVignetteAmount | 0 |
ProcessVersion | 6.7 |
ProfileDescription | sRGB IEC61966-2.1 |
Rating | 2 |
RedHue | 0 |
RedSaturation | 0 |
Rights | Frank Ove Vold |
Saturation | Normal |
ScaleFactor35efl | 1.0 |
SceneCaptureType | Standard |
SceneType | Directly photographed |
SensingMethod | One-chip color area |
SerialNumber | 2069586 |
Shadows | 5 |
Shadows2012 | +90 |
ShadowTint | 0 |
SharpenDetail | 25 |
SharpenEdgeMasking | 0 |
SharpenRadius | +1.0 |
Sharpness (1) | 25 |
Sharpness | Normal |
ShutterSpeed | 1/80 |
ShutterSpeedValue | 1/80 |
Software | Adobe Photoshop Lightroom 4.0 (Windows) |
SplitToningBalance | 0 |
SplitToningHighlightHue | 0 |
SplitToningHighlightSaturation | 0 |
SplitToningShadowHue | 0 |
SplitToningShadowSaturation | 0 |
Subject | Afrika, Uganda, Øst-Afrika |
SubjectDistance | 2 m |
SubjectDistanceRange | Unknown |
Tint | +6 |
ToneCurve | 0, 0, 255, 255 |
ToneCurveBlue | 0, 0, 255, 255 |
ToneCurveGreen | 0, 0, 255, 255 |
ToneCurveName | Linear |
ToneCurveName2012 | Linear |
ToneCurvePV2012 | 0, 0, 255, 255 |
ToneCurvePV2012Blue | 0, 0, 255, 255 |
ToneCurvePV2012Green | 0, 0, 255, 255 |
ToneCurvePV2012Red | 0, 0, 255, 255 |
ToneCurveRed | 0, 0, 255, 255 |
Version | 7.0 |
VignetteAmount | 0 |
WhiteBalance (1) | Custom |
WhiteBalance | Auto |
Whites2012 | 0 |