Felt | Verdi |
AlreadyApplied | True |
Aperture | 10.0 |
ApertureValue | 10.0 |
ApproximateFocusDistance | 1.41 |
Artist | Ivar August Bull |
BitsPerSample | 8 |
BlueHue | 0 |
BlueSaturation | 0 |
Brightness | +50 |
By-line | Ivar August Bull |
CameraProfile | Adobe Standard |
ChromaticAberrationB | 0 |
ChromaticAberrationR | 0 |
CircleOfConfusion | 0.019 mm |
Clarity | 0 |
ColorComponents | 3 |
ColorNoiseReduction | 25 |
ColorNoiseReductionDetail | 50 |
ColorTemperature | 3150 |
Contrast | +25 |
ConvertToGrayscale | False |
Copyright | Ivar August Bull |
CopyrightFlag | True |
CopyrightNotice | Ivar August Bull |
CreateDate (1) | 2012:03:06 21:53:33.00 |
CreateDate | 2012:03:06 21:53:33 |
Creator | Ivar August Bull |
CreatorAddress | Hordnesvegen 136, |
CreatorCity | Bergen |
CreatorCountry | Norway |
CreatorPostalCode | 5244 |
CreatorRegion | Fana |
CreatorTool | Adobe Photoshop Lightroom 3.6 (Macintosh) |
CreatorWorkEmail | ivaraugust@gmail.com |
CreatorWorkTelephone | +47 97147573 |
CreatorWorkURL | www.levendestillbilder.wordpress.com |
CustomRendered | Normal |
DateCreated (1) | 2012:03:06 |
DateCreated | 2012:03:06 21:53:33.00 |
DateTimeOriginal | 2012:03:06 21:53:33 |
Defringe | 0 |
DOF | 17.40 m (0.73 - 18.14 m) |
Exposure | 0.00 |
ExposureCompensation | 0 |
ExposureMode | Manual |
ExposureProgram | Manual |
ExposureTime | 10 |
FillLight | 0 |
Firmware | 1.2.4 |
Flash | Off, Did not fire |
FlashCompensation | 0 |
FNumber | 10.0 |
FocalLength | 17.0 mm |
FocalLength35efl | 17.0 mm (35 mm equivalent: 26.7 mm) |
Format | image/jpeg |
FOV | 68.0 deg |
GrainAmount | 0 |
GreenHue | 0 |
GreenSaturation | 0 |
HasCrop | False |
HasSettings | True |
HighlightRecovery | 0 |
HueAdjustmentAqua | 0 |
HueAdjustmentBlue | 0 |
HueAdjustmentGreen | 0 |
HueAdjustmentMagenta | 0 |
HueAdjustmentOrange | 0 |
HueAdjustmentPurple | 0 |
HueAdjustmentRed | 0 |
HueAdjustmentYellow | 0 |
HyperfocalDistance | 1.51 m |
ImageHeight | 3456 |
ImageNumber | 0 |
ImageSize | 5184x3456 |
ImageWidth | 5184 |
ISO | 1000 |
Lens | EF-S17-85mm f/4-5.6 IS USM |
LensID (1) | 234 |
LensID | Canon EF-S 17-85mm f/4-5.6 IS USM |
LensInfo | 17-85mm f/? |
LensManualDistortionAmount | 0 |
LensModel | EF-S17-85mm f/4-5.6 IS USM |
LensProfileEnable | 0 |
LensProfileSetup | LensDefaults |
LightValue | 0.0 |
LuminanceAdjustmentAqua | 0 |
LuminanceAdjustmentBlue | 0 |
LuminanceAdjustmentGreen | 0 |
LuminanceAdjustmentMagenta | 0 |
LuminanceAdjustmentOrange | 0 |
LuminanceAdjustmentPurple | 0 |
LuminanceAdjustmentRed | 0 |
LuminanceAdjustmentYellow | 0 |
LuminanceSmoothing | 0 |
Make | Canon |
Marked | True |
MaxApertureValue | 4.0 |
Megapixels | 17.9 |
MeteringMode | Center-weighted average |
Model | Canon EOS 7D |
ModifyDate (1) | 2012:03:14 20:50:43+01:00 |
ModifyDate | 2012:03:14 20:50:43 |
ParametricDarks | 0 |
ParametricHighlights | 0 |
ParametricHighlightSplit | 75 |
ParametricLights | 0 |
ParametricMidtoneSplit | 50 |
ParametricShadows | 0 |
ParametricShadowSplit | 25 |
PerspectiveHorizontal | 0 |
PerspectiveRotate | 0.0 |
PerspectiveScale | 100 |
PerspectiveVertical | 0 |
PostCropVignetteAmount | 0 |
ProcessVersion | 5.7 |
ProfileDescription | sRGB IEC61966-2.1 |
Rating | 2 |
RedHue | 0 |
RedSaturation | 0 |
Rights | Ivar August Bull |
Saturation | 0 |
SaturationAdjustmentAqua | 0 |
SaturationAdjustmentBlue | 0 |
SaturationAdjustmentGreen | 0 |
SaturationAdjustmentMagenta | 0 |
SaturationAdjustmentOrange | 0 |
SaturationAdjustmentPurple | 0 |
SaturationAdjustmentRed | -40 |
SaturationAdjustmentYellow | 0 |
ScaleFactor35efl | 1.6 |
SceneCaptureType | Standard |
SerialNumber | 2081107971 |
Shadows | 18 |
ShadowTint | 0 |
SharpenDetail | 25 |
SharpenEdgeMasking | 0 |
SharpenRadius | +1.0 |
Sharpness | 25 |
ShutterSpeed | 10 |
ShutterSpeedValue | 10 |
Software | Adobe Photoshop Lightroom 3.6 (Macintosh) |
SplitToningBalance | 0 |
SplitToningHighlightHue | 0 |
SplitToningHighlightSaturation | 0 |
SplitToningShadowHue | 0 |
SplitToningShadowSaturation | 0 |
SubjectDistance | 1.41 m |
Tint | -1 |
ToneCurve | 0, 0, 32, 22, 64, 56, 128, 128, 192, 196, 255, 255 |
ToneCurveName | Medium Contrast |
Version | 6.6 |
Vibrance | 0 |
VignetteAmount | 0 |
WhiteBalance (1) | As Shot |
WhiteBalance | Auto |