Felt | Verdi |
AlreadyApplied | True |
Aperture | 3.5 |
ApertureValue | 3.5 |
BitsPerSample | 8 |
BlueHue | 0 |
BlueSaturation | 0 |
Brightness | 0 |
CameraProfile | Embedded |
ChromaticAberrationB | 0 |
ChromaticAberrationR | 0 |
Clarity | -29 |
ColorComponents | 3 |
ColorNoiseReduction | 0 |
ColorSpace | sRGB |
Contrast | +48 |
ConvertToGrayscale | False |
CreateDate | 2010:04:14 14:25:58 |
CropAngle | 1.23516 |
CropBottom | 0.713285 |
CropHeight | 1648 |
CropLeft | 0.033621 |
CropRight | 0.660449 |
CropTop | 0.056744 |
CropUnit | pixels |
CropWidth | 2474 |
DateTimeOriginal | 2010:04:14 14:25:58 |
Defringe | 0 |
ExifImageHeight | 1648 |
ExifImageWidth | 2474 |
Exposure | +0.42 |
ExposureCompensation | 0 |
ExposureProgram | Aperture-priority AE |
ExposureTime | 1/40 |
FillLight | 0 |
Flash | Off, Did not fire |
FNumber | 3.5 |
FocalLength | 10.0 mm |
FocalLength35efl | 10.0 mm |
GradientBasedCorrActive | true |
GradientBasedCorrAmount | 1.000000 |
GradientBasedCorrBrightness | 0.000000 |
GradientBasedCorrClarity | 0.000000 |
GradientBasedCorrContrast | -0.517241 |
GradientBasedCorrExposure | -0.448276 |
GradientBasedCorrHue | 240.000000 |
GradientBasedCorrMaskFullX | 0.672323 |
GradientBasedCorrMaskFullY | 0.412903 |
GradientBasedCorrMaskValue | 1.000000 |
GradientBasedCorrMaskWhat | Mask/Gradient |
GradientBasedCorrMaskZeroX | 0.604980 |
GradientBasedCorrMaskZeroY | 0.415476 |
GradientBasedCorrSaturation | 0.000000 |
GradientBasedCorrSharpness | 0.000000 |
GradientBasedCorrWhat | Correction |
GreenHue | 0 |
GreenSaturation | 0 |
HasCrop | True |
HasSettings | True |
HighlightRecovery | 0 |
HueAdjustmentAqua | 0 |
HueAdjustmentBlue | 0 |
HueAdjustmentGreen | 0 |
HueAdjustmentMagenta | 0 |
HueAdjustmentOrange | 0 |
HueAdjustmentPurple | 0 |
HueAdjustmentRed | 0 |
HueAdjustmentYellow | 0 |
ImageHeight | 1648 |
ImageSize | 2474x1648 |
ImageWidth | 2474 |
IncrementalTemperature | 0 |
IncrementalTint | 0 |
ISO | 100 |
Keywords | Klokke2, Koland |
LightValue | 8.9 |
LuminanceAdjustmentAqua | 0 |
LuminanceAdjustmentBlue | 0 |
LuminanceAdjustmentGreen | 0 |
LuminanceAdjustmentMagenta | 0 |
LuminanceAdjustmentOrange | 0 |
LuminanceAdjustmentPurple | 0 |
LuminanceAdjustmentRed | 0 |
LuminanceAdjustmentYellow | 0 |
LuminanceSmoothing | 0 |
Make | Canon |
Megapixels | 4.1 |
MeteringMode | Multi-segment |
Model | Canon EOS 40D |
ModifyDate | 2010:11:14 15:00:05 |
Orientation | Horizontal (normal) |
PaintCorrectionActive | true |
PaintCorrectionAmount | 1.000000 |
PaintCorrectionBrightness (4) | 0.057471 |
PaintCorrectionBrightness | 0.000000 |
PaintCorrectionClarity (1) | -0.011494 |
PaintCorrectionClarity | 0.000000 |
PaintCorrectionContrast (1) | 0.011494 |
PaintCorrectionContrast | 0.000000 |
PaintCorrectionExposure (1) | -0.471264 |
PaintCorrectionExposure (2) | 0.448276 |
PaintCorrectionExposure (3) | -0.402299 |
PaintCorrectionExposure (4) | 0.000000 |
PaintCorrectionExposure (5) | -0.172414 |
PaintCorrectionExposure | -0.448276 |
PaintCorrectionHue (1) | 25.000000 |
PaintCorrectionHue (5) | 240.000000 |
PaintCorrectionHue | 224.000000 |
PaintCorrectionMaskCenterWeight (31) | 0.000000 |
PaintCorrectionMaskCenterWeight | 0.026837 |
PaintCorrectionMaskFlow | 1.000000 |
PaintCorrectionMaskRadius (10) | 0.005298 |
PaintCorrectionMaskRadius (13) | 0.008252 |
PaintCorrectionMaskRadius (16) | 0.005681 |
PaintCorrectionMaskRadius (20) | 0.004126 |
PaintCorrectionMaskRadius (21) | 0.005436 |
PaintCorrectionMaskRadius (25) | 0.007646 |
PaintCorrectionMaskRadius (27) | 0.003791 |
PaintCorrectionMaskRadius (30) | 0.004065 |
PaintCorrectionMaskRadius (33) | 0.004756 |
PaintCorrectionMaskRadius (34) | 0.002718 |
PaintCorrectionMaskRadius (37) | 0.002535 |
PaintCorrectionMaskRadius (4) | 0.017742 |
PaintCorrectionMaskRadius (41) | 0.191589 |
PaintCorrectionMaskRadius (43) | 0.325491 |
PaintCorrectionMaskRadius (44) | 0.071577 |
PaintCorrectionMaskRadius (45) | 0.071738 |
PaintCorrectionMaskRadius (46) | 0.029586 |
PaintCorrectionMaskRadius (47) | 0.025284 |
PaintCorrectionMaskRadius (48) | 0.033965 |
PaintCorrectionMaskRadius (49) | 0.016907 |
PaintCorrectionMaskRadius (50) | 0.042952 |
PaintCorrectionMaskRadius (6) | 0.010139 |
PaintCorrectionMaskRadius | 0.047559 |
PaintCorrectionMaskValue (15) | 0.000000 |
PaintCorrectionMaskValue | 1.000000 |
PaintCorrectionMaskWhat | Mask/Paint |
PaintCorrectionSaturation (2) | 0.790000 |
PaintCorrectionSaturation (7) | 0.264368 |
PaintCorrectionSaturation | 0.000000 |
PaintCorrectionSharpness (1) | 0.057471 |
PaintCorrectionSharpness | 0.000000 |
PaintCorrectionWhat | Correction |
ParametricDarks | 0 |
ParametricHighlights | 0 |
ParametricHighlightSplit | 75 |
ParametricLights | 0 |
ParametricMidtoneSplit | 50 |
ParametricShadows | 0 |
ParametricShadowSplit | 25 |
PostCropVignetteAmount | 0 |
ProfileDescription | sRGB IEC61966-2.1 |
RedHue | 0 |
RedSaturation | 0 |
Saturation | -27 |
SaturationAdjustmentAqua | 0 |
SaturationAdjustmentBlue | 0 |
SaturationAdjustmentGreen | 0 |
SaturationAdjustmentMagenta | 0 |
SaturationAdjustmentOrange | 0 |
SaturationAdjustmentPurple | 0 |
SaturationAdjustmentRed | 0 |
SaturationAdjustmentYellow | 0 |
Shadows | 0 |
ShadowTint | 0 |
SharpenDetail | 25 |
SharpenEdgeMasking | 0 |
SharpenRadius | +1.0 |
Sharpness | 0 |
ShutterSpeed | 1/40 |
ShutterSpeedValue | 1/40 |
Software | Adobe Photoshop CS4 Macintosh |
SplitToningBalance | 0 |
SplitToningHighlightHue | 0 |
SplitToningHighlightSaturation | 0 |
SplitToningShadowHue | 0 |
SplitToningShadowSaturation | 0 |
ToneCurve | 0, 0, 255, 255 |
ToneCurveName | Linear |
URL_List | |
Version | 5.6 |
Vibrance | -100 |
VignetteAmount | 0 |
WhiteBalance | As Shot |