Felt | Verdi |
AlreadyApplied | True |
Aperture | 4.5 |
ApertureValue | 4.5 |
Artist | Jonny Vestli |
BitsPerSample | 8 |
BlueHue | 0 |
BlueSaturation | 0 |
Brightness | +81 |
By-line | Jonny Vestli |
CameraProfile | Camera Portrait |
ChromaticAberrationB | 0 |
ChromaticAberrationR | 0 |
CircleOfConfusion | 0.023 mm |
Clarity | -100 |
ColorComponents | 1 |
ColorMode | RGB |
ColorNoiseReduction | 100 |
ColorSpace | sRGB |
ColorTemperature | 5250 |
Contrast | +43 |
ConvertToGrayscale | False |
CreateDate (1) | 2011:06:25 12:59:32.00+02:00 |
CreateDate | 2011:06:25 12:59:32 |
Creator | Jonny Vestli |
CustomRendered | Normal |
DateTimeDigitized | 2011:06:25 12:59:32.00+02:00 |
DateTimeOriginal (1) | 2011:06:25 12:59:32.00+02:00 |
DateTimeOriginal | 2011:06:25 12:59:32 |
Defringe | 0 |
ExifImageHeight | 3604 |
ExifImageWidth | 2262 |
Exposure | +1.15 |
ExposureCompensation | -1/3 |
ExposureMode | Auto |
ExposureProgram | Program AE |
ExposureTime | 1/60 |
FillLight | 0 |
Firmware | 1.3.0 |
Flash | On, Fired |
FlashCompensation | 0 |
FlashFired | True |
FlashFunction | False |
FlashMode | On |
FlashRedEyeMode | False |
FlashReturn | No return detection |
FNumber | 4.5 |
FocalLength | 82.0 mm |
FocalLength35efl | 82.0 mm (35 mm equivalent: 105.1 mm) |
Format | image/jpeg |
FOV | 19.4 deg |
GreenHue | 0 |
GreenSaturation | 0 |
HasCrop | False |
HasSettings | True |
HighlightRecovery | 27 |
HueAdjustmentAqua | 0 |
HueAdjustmentBlue | 0 |
HueAdjustmentGreen | 0 |
HueAdjustmentMagenta | 0 |
HueAdjustmentOrange | 0 |
HueAdjustmentPurple | 0 |
HueAdjustmentRed | 0 |
HueAdjustmentYellow | 0 |
HyperfocalDistance | 63.72 m |
ICCProfileName | sRGB IEC61966-2.1 |
ImageHeight | 3604 |
ImageNumber | 0 |
ImageSize | 2262x3604 |
ImageWidth | 2262 |
ISO | 200 |
Lens | EF24-105mm f/4L IS USM |
LensInfo | 24-105mm f/? |
LightValue | 9.2 |
LuminanceAdjustmentAqua | 0 |
LuminanceAdjustmentBlue | 0 |
LuminanceAdjustmentGreen | 0 |
LuminanceAdjustmentMagenta | 0 |
LuminanceAdjustmentOrange | 0 |
LuminanceAdjustmentPurple | 0 |
LuminanceAdjustmentRed | 0 |
LuminanceAdjustmentYellow | 0 |
LuminanceSmoothing | 100 |
Make | Canon |
MaxApertureValue | 4.0 |
Megapixels | 8.2 |
MeteringMode | Multi-segment |
Model | Canon EOS-1D Mark III |
ModifyDate (1) | 2011:06:28 20:15:19+02:00 |
ModifyDate | 2011:06:28 20:15:19 |
Orientation | Horizontal (normal) |
OwnerName | Jonny Vestli |
ParametricDarks | 0 |
ParametricHighlights | 0 |
ParametricHighlightSplit | 75 |
ParametricLights | 0 |
ParametricMidtoneSplit | 50 |
ParametricShadows | 0 |
ParametricShadowSplit | 25 |
PostCropVignetteAmount | 0 |
ProfileDescription | sRGB IEC61966-2.1 |
Rating | 0 |
RawFileName | 2011 06 25_7156.CR2 |
RedHue | 0 |
RedSaturation | 0 |
Saturation | -99 |
SaturationAdjustmentAqua | 0 |
SaturationAdjustmentBlue | 0 |
SaturationAdjustmentGreen | 0 |
SaturationAdjustmentMagenta | 0 |
SaturationAdjustmentOrange | 0 |
SaturationAdjustmentPurple | 0 |
SaturationAdjustmentRed | 0 |
SaturationAdjustmentYellow | 0 |
ScaleFactor35efl | 1.3 |
SceneCaptureType | Standard |
SerialNumber | 507861 |
Shadows | 12 |
ShadowTint | 0 |
SharpenDetail | 25 |
SharpenEdgeMasking | 10 |
SharpenRadius | +1.0 |
Sharpness | 150 |
ShutterSpeed | 1/60 |
ShutterSpeedValue | 1/60 |
SidecarForExtension | CR2 |
Software | Adobe Photoshop Elements 8.0 Windows |
SplitToningBalance | 0 |
SplitToningHighlightHue | 0 |
SplitToningHighlightSaturation | 0 |
SplitToningShadowHue | 0 |
SplitToningShadowSaturation | 0 |
Tint | +7 |
ToneCurve | 0, 0, 32, 22, 64, 56, 128, 128, 192, 196, 255, 255 |
ToneCurveName | Medium Contrast |
URL_List | |
Version | 5.5 |
Vibrance | -100 |
VignetteAmount | 0 |
WhiteBalance (2) | As Shot |
WhiteBalance | Auto |