Felt | Verdi |
AlreadyApplied | True |
Aperture | 2.2 |
ApertureValue | 2.2 |
BitsPerSample | 8 |
BlueHue | 0 |
BlueSaturation | 0 |
Brightness | +57 |
CameraProfile | Adobe Standard |
CFAPattern | [Red,Green][Green,Blue] |
ChromaticAberrationB | 0 |
ChromaticAberrationR | 0 |
CircleOfConfusion | 0.030 mm |
Clarity | 0 |
ColorComponents | 1 |
ColorNoiseReduction | 25 |
ColorSpace | Uncalibrated |
ColorTemperature | 9893 |
Contrast (1) | High |
Contrast | Normal |
ConvertToGrayscale | True |
Copyright | Eivind Sponga |
CopyrightNotice | Eivind Sponga |
CreateDate (1) | 2011:03:19 18:57:09.92+01:00 |
CreateDate | 2011:03:19 18:57:09 |
CreatorTool | Adobe Photoshop Lightroom |
CropAngle | 0 |
CropBottom | 0.977913 |
CropHeight | 571 |
CropLeft | 0.045021 |
CropRight | 0.956025 |
CropTop | 0 |
CropUnit | pixels |
CropWidth | 800 |
CustomRendered | Normal |
DateTimeDigitized | 2011:03:19 18:57:09.92+01:00 |
DateTimeOriginal (1) | 2011:03:19 18:57:09.92+01:00 |
DateTimeOriginal | 2011:03:19 18:57:09 |
Defringe | 0 |
DigitalZoomRatio | 1 |
DOF | 0.33 m (2.36 - 2.68 m) |
ExifImageHeight | 800 |
ExifImageWidth | 571 |
Exposure | -0.78 |
ExposureCompensation | 0 |
ExposureMode | Auto |
ExposureProgram | Aperture-priority AE |
ExposureTime | 1/25 |
FillLight | 0 |
Flash | No Flash |
FlashFired | False |
FlashFunction | False |
FlashMode | Unknown |
FlashRedEyeMode | False |
FlashReturn | No return detection |
FNumber | 2.2 |
FocalLength | 50.0 mm |
FocalLength35efl | 50.0 mm (35 mm equivalent: 50.0 mm) |
FocalLengthIn35mmFormat | 50 mm |
FOV | 39.6 deg |
GainControl | High gain up |
GrayMixerAqua | -16 |
GrayMixerBlue | +15 |
GrayMixerGreen | -28 |
GrayMixerMagenta | +4 |
GrayMixerOrange | -21 |
GrayMixerPurple | +18 |
GrayMixerRed | -11 |
GrayMixerYellow | -25 |
GreenHue | 0 |
GreenSaturation | 0 |
HasCrop | True |
HasSettings | True |
HighlightRecovery | 0 |
HyperfocalDistance | 37.82 m |
ImageHeight (1) | 800 |
ImageHeight | 808 |
ImageNumber | 10582 |
ImageSize | 579x808 |
ImageWidth (1) | 571 |
ImageWidth | 579 |
ISO | 3200 |
Lens | 50.0 mm f/1.4 |
LensID (1) | 67 |
LensID | AF Nikkor 50mm f/1.4D |
LensInfo | 50mm f/1.4 |
LightSource | Unknown |
LightValue | 1.9 |
LuminanceSmoothing | 43 |
Make | NIKON CORPORATION |
MaxApertureValue | 1.4 |
Megapixels | 0.468 |
MeteringMode | Multi-segment |
Model | NIKON D700 |
ModifyDate (1) | 2011:03:20 10:06:52+01:00 |
ModifyDate | 2011:03:20 10:06:52 |
ParametricDarks | -7 |
ParametricHighlights | 0 |
ParametricHighlightSplit | 75 |
ParametricLights | 0 |
ParametricMidtoneSplit | 50 |
ParametricShadows | 0 |
ParametricShadowSplit | 25 |
PostCropVignetteAmount | 0 |
ProfileDescription | sRGB IEC61966-2.1 |
Rating | 2 |
RedHue | 0 |
RedSaturation | 0 |
Rights | Eivind Sponga |
Saturation | Normal |
ScaleFactor35efl | 1.0 |
SceneCaptureType | Standard |
SceneType | Directly photographed |
SensingMethod | One-chip color area |
SerialNumber | 2117917 |
Shadows | 8 |
ShadowTint | 0 |
SharpenDetail | 41 |
SharpenEdgeMasking | 55 |
SharpenRadius | +1.9 |
Sharpness | Hard |
ShutterSpeed | 1/25 |
ShutterSpeedValue | 1/25 |
Software | Ver.1.00 |
SplitToningBalance | 0 |
SplitToningHighlightHue | 0 |
SplitToningHighlightSaturation | 0 |
SplitToningShadowHue | 0 |
SplitToningShadowSaturation | 0 |
SubjectDistance | 2.51 m |
SubjectDistanceRange | Unknown |
Tint | +5 |
ToneCurve | 0, 0, 32, 22, 64, 56, 128, 128, 192, 196, 255, 255 |
ToneCurveName | Medium Contrast |
Version | 6.2 |
VignetteAmount | 0 |
WhiteBalance | Auto |