Felt | Verdi |
AlreadyApplied | True |
BitsPerSample | 8 |
BlueHue | 0 |
BlueSaturation | +5 |
Brightness | 0 |
CameraProfile | Embedded |
ChromaticAberrationB | 0 |
ChromaticAberrationR | 0 |
Clarity | +9 |
ColorComponents | 3 |
ColorNoiseReduction | 0 |
Contrast | +7 |
ConvertToGrayscale | False |
CreatorTool | Adobe Photoshop Lightroom |
CropAngle | -0.735418 |
CropBottom | 0.835548 |
CropConstrainToWarp | 0 |
CropHeight | 672 |
CropLeft | 0.069237 |
CropRight | 0.748278 |
CropTop | 0.012767 |
CropUnit | pixels |
CropWidth | 800 |
Defringe | 0 |
ExifImageHeight | 672 |
ExifImageWidth | 800 |
Exposure | -2.00 |
FillLight | 0 |
GrainAmount | 0 |
GreenHue | +3 |
GreenSaturation | -18 |
HasCrop | True |
HasSettings | True |
HighlightRecovery | 44 |
HueAdjustmentAqua | 0 |
HueAdjustmentBlue | 0 |
HueAdjustmentGreen | 0 |
HueAdjustmentMagenta | 0 |
HueAdjustmentOrange | 0 |
HueAdjustmentPurple | 0 |
HueAdjustmentRed | 0 |
HueAdjustmentYellow | 0 |
ImageHeight | 672 |
ImageSize | 800x672 |
ImageWidth | 800 |
IncrementalTemperature | +14 |
IncrementalTint | -28 |
LensManualDistortionAmount | 0 |
LensProfileEnable | 0 |
LensProfileSetup | LensDefaults |
LuminanceAdjustmentAqua | 0 |
LuminanceAdjustmentBlue | 0 |
LuminanceAdjustmentGreen | 0 |
LuminanceAdjustmentMagenta | 0 |
LuminanceAdjustmentOrange | 0 |
LuminanceAdjustmentPurple | 0 |
LuminanceAdjustmentRed | 0 |
LuminanceAdjustmentYellow | 0 |
LuminanceNoiseReductionContrast | 0 |
LuminanceNoiseReductionDetail | 50 |
LuminanceSmoothing | 1 |
Megapixels | 0.538 |
ModifyDate (1) | 2010:10:12 16:23:39+02:00 |
ModifyDate | 2010:10:12 16:23:39 |
PaintCorrectionActive | true |
PaintCorrectionAmount | 1.000000 |
PaintCorrectionBrightness | 0.000000 |
PaintCorrectionClarity (1) | 0.543478 |
PaintCorrectionClarity (2) | 0.813084 |
PaintCorrectionClarity | 0.000000 |
PaintCorrectionContrast (1) | 0.000000 |
PaintCorrectionContrast | 0.543478 |
PaintCorrectionExposure (1) | 0.173913 |
PaintCorrectionExposure (2) | 0.000000 |
PaintCorrectionExposure | -0.065217 |
PaintCorrectionHue | 0.000000 |
PaintCorrectionMaskCenterWeight | 0.146956 |
PaintCorrectionMaskFlow | 0.974831 |
PaintCorrectionMaskRadius (1) | 0.037609 |
PaintCorrectionMaskRadius (2) | 0.005241 |
PaintCorrectionMaskRadius | 0.050307 |
PaintCorrectionMaskValue | 1.000000 |
PaintCorrectionMaskWhat | Mask/Paint |
PaintCorrectionSaturation (1) | 0.413043 |
PaintCorrectionSaturation | 0.000000 |
PaintCorrectionSharpness (1) | 0.543478 |
PaintCorrectionSharpness (2) | 0.369565 |
PaintCorrectionSharpness | 0.000000 |
PaintCorrectionWhat | Correction |
ParametricDarks | 0 |
ParametricHighlights | 0 |
ParametricHighlightSplit | 75 |
ParametricLights | 0 |
ParametricMidtoneSplit | 50 |
ParametricShadows | 0 |
ParametricShadowSplit | 25 |
PerspectiveHorizontal | 0 |
PerspectiveRotate | 0.0 |
PerspectiveScale | 100 |
PerspectiveVertical | 0 |
PostCropVignetteAmount | -73 |
PostCropVignetteFeather | 92 |
PostCropVignetteHighlightContrast | 0 |
PostCropVignetteMidpoint | 14 |
PostCropVignetteRoundness | +84 |
PostCropVignetteStyle | 1 |
ProcessVersion | 5.7 |
ProfileDescription | sRGB IEC61966-2.1 |
RedHue | 0 |
RedSaturation | 0 |
Saturation | -31 |
SaturationAdjustmentAqua | 0 |
SaturationAdjustmentBlue | 0 |
SaturationAdjustmentGreen | 0 |
SaturationAdjustmentMagenta | 0 |
SaturationAdjustmentOrange | 0 |
SaturationAdjustmentPurple | 0 |
SaturationAdjustmentRed | +1 |
SaturationAdjustmentYellow | 0 |
SensitivityType | Unknown |
Shadows | 0 |
ShadowTint | 0 |
SharpenDetail | 25 |
SharpenEdgeMasking | 0 |
SharpenRadius | +1.0 |
Sharpness | 0 |
SplitToningBalance | 0 |
SplitToningHighlightHue | 0 |
SplitToningHighlightSaturation | 0 |
SplitToningShadowHue | 0 |
SplitToningShadowSaturation | 0 |
ToneCurve | 0, 0, 255, 255 |
ToneCurveName | Linear |
Version | 6.2 |
Vibrance | +35 |
VignetteAmount | 0 |
WhiteBalance | Custom |