Felt | Verdi |
AlreadyApplied | True |
Aperture | 2.8 |
ApertureValue | 2.8 |
BitsPerSample | 8 |
BlueHue | 0 |
BlueSaturation | 0 |
Brightness | 0 |
CameraProfile | Embedded |
ChromaticAberrationB | 0 |
ChromaticAberrationR | 0 |
Clarity | +29 |
ColorComponents | 3 |
ColorNoiseReduction | 0 |
Contrast | +28 |
ConvertToGrayscale | False |
CreateDate (1) | 2009:12:12 14:45:23+01:00 |
CreateDate | 2009:12:12 14:45:23 |
CreatorTool | Adobe Photoshop Lightroom |
CropAngle | 0 |
CropBottom | 0.935714 |
CropConstrainToWarp | 0 |
CropHeight | 800 |
CropLeft | 0.271852 |
CropRight | 0.774347 |
CropTop | 0.167857 |
CropUnit | pixels |
CropWidth | 788 |
DateTimeDigitized | 2009:12:12 14:45:23+01:00 |
DateTimeOriginal (1) | 2009:12:12 14:45:23+01:00 |
DateTimeOriginal | 2009:12:12 14:45:23 |
Defringe | 0 |
ExifImageHeight | 800 |
ExifImageWidth | 788 |
Exposure | -0.50 |
ExposureCompensation | 0 |
ExposureProgram | Manual |
ExposureTime | 1/200 |
FillLight | 0 |
Flash | Off, Did not fire |
FlashFired | False |
FlashFunction | False |
FlashMode | Off |
FlashRedEyeMode | False |
FlashReturn | No return detection |
FNumber | 2.8 |
FocalLength | 200.0 mm |
FocalLength35efl | 200.0 mm |
GrainAmount | 19 |
GrainFrequency | 50 |
GrainSize | 50 |
GreenHue | 0 |
GreenSaturation | 0 |
HasCrop | True |
HasSettings | True |
HighlightRecovery | 47 |
HueAdjustmentAqua | 0 |
HueAdjustmentBlue | 0 |
HueAdjustmentGreen | 0 |
HueAdjustmentMagenta | 0 |
HueAdjustmentOrange | 0 |
HueAdjustmentPurple | 0 |
HueAdjustmentRed | 0 |
HueAdjustmentYellow | 0 |
ImageHeight | 800 |
ImageSize | 788x800 |
ImageWidth | 788 |
IncrementalTemperature | -7 |
IncrementalTint | 0 |
ISO | 200 |
LensManualDistortionAmount | 0 |
LensProfileEnable | 0 |
LensProfileSetup | LensDefaults |
LightValue | 9.6 |
LuminanceAdjustmentAqua | 0 |
LuminanceAdjustmentBlue | 0 |
LuminanceAdjustmentGreen | 0 |
LuminanceAdjustmentMagenta | 0 |
LuminanceAdjustmentOrange | 0 |
LuminanceAdjustmentPurple | 0 |
LuminanceAdjustmentRed | 0 |
LuminanceAdjustmentYellow | 0 |
LuminanceSmoothing | 0 |
Make | Canon |
Megapixels | 0.630 |
MeteringMode | Spot |
Model | Canon EOS 450D |
ModifyDate (1) | 2010:09:20 18:31:27+02:00 |
ModifyDate | 2010:09:20 18:31:27 |
PaintCorrectionActive | true |
PaintCorrectionAmount | 1.000000 |
PaintCorrectionBrightness (3) | -0.103448 |
PaintCorrectionBrightness (4) | -0.046729 |
PaintCorrectionBrightness | 0.000000 |
PaintCorrectionClarity (1) | 0.813084 |
PaintCorrectionClarity (2) | 0.655172 |
PaintCorrectionClarity (3) | -0.140187 |
PaintCorrectionClarity (4) | 0.000000 |
PaintCorrectionClarity | 0.757009 |
PaintCorrectionContrast (1) | 0.289720 |
PaintCorrectionContrast (2) | 0.000000 |
PaintCorrectionContrast (3) | -0.149425 |
PaintCorrectionContrast (4) | 0.383178 |
PaintCorrectionContrast | 0.514019 |
PaintCorrectionExposure (1) | 0.000000 |
PaintCorrectionExposure (2) | 0.084112 |
PaintCorrectionExposure | -0.046729 |
PaintCorrectionHue (2) | 240.000000 |
PaintCorrectionHue | 0.000000 |
PaintCorrectionMaskCenterWeight | 0.146956 |
PaintCorrectionMaskFlow | 0.974831 |
PaintCorrectionMaskRadius (1) | 0.065418 |
PaintCorrectionMaskRadius (10) | 0.008985 |
PaintCorrectionMaskRadius (2) | 0.029073 |
PaintCorrectionMaskRadius (5) | 0.004546 |
PaintCorrectionMaskRadius | 0.006726 |
PaintCorrectionMaskValue | 1.000000 |
PaintCorrectionMaskWhat | Mask/Paint |
PaintCorrectionSaturation (3) | 0.701149 |
PaintCorrectionSaturation (5) | -0.149425 |
PaintCorrectionSaturation (9) | 0.289720 |
PaintCorrectionSaturation | 0.000000 |
PaintCorrectionSharpness (1) | 0.738318 |
PaintCorrectionSharpness (2) | 0.000000 |
PaintCorrectionSharpness (3) | -0.065421 |
PaintCorrectionSharpness | 0.757009 |
PaintCorrectionWhat | Correction |
ParametricDarks | 0 |
ParametricHighlights | 0 |
ParametricHighlightSplit | 75 |
ParametricLights | 0 |
ParametricMidtoneSplit | 50 |
ParametricShadows | 0 |
ParametricShadowSplit | 25 |
PerspectiveHorizontal | 0 |
PerspectiveRotate | 0.0 |
PerspectiveScale | 100 |
PerspectiveVertical | 0 |
PostCropVignetteAmount | -42 |
PostCropVignetteFeather | 79 |
PostCropVignetteHighlightContrast | 0 |
PostCropVignetteMidpoint | 32 |
PostCropVignetteRoundness | +53 |
PostCropVignetteStyle | 1 |
ProcessVersion | 5.7 |
ProfileDescription | sRGB IEC61966-2.1 |
RedHue | 0 |
RedSaturation | 0 |
Saturation | -29 |
SaturationAdjustmentAqua | 0 |
SaturationAdjustmentBlue | 0 |
SaturationAdjustmentGreen | 0 |
SaturationAdjustmentMagenta | 0 |
SaturationAdjustmentOrange | 0 |
SaturationAdjustmentPurple | 0 |
SaturationAdjustmentRed | 0 |
SaturationAdjustmentYellow | 0 |
SensitivityType | Unknown |
Shadows | 0 |
ShadowTint | 0 |
SharpenDetail | 25 |
SharpenEdgeMasking | 0 |
SharpenRadius | +1.0 |
Sharpness | 0 |
ShutterSpeed | 1/200 |
ShutterSpeedValue | 1/200 |
Software | QuickTime 7.6.3 |
SplitToningBalance | 0 |
SplitToningHighlightHue | 0 |
SplitToningHighlightSaturation | 0 |
SplitToningShadowHue | 0 |
SplitToningShadowSaturation | 0 |
ToneCurve | 0, 0, 255, 255 |
ToneCurveName | Linear |
Version | 6.2 |
Vibrance | +25 |
VignetteAmount | 0 |
WhiteBalance | Custom |