Felt | Verdi |
AlreadyApplied | True |
Aperture | 11.0 |
ApertureValue | 11.0 |
Artist | Ulf Rugumayo Amundsen |
BitsPerSample | 8 |
BlackClip | 0.603600 |
BlueHue | 0 |
BlueSaturation | 0 |
Brightness | +7 |
By-line | Ulf Rugumayo Amundsen |
CameraProfile | Embedded |
ChromaticAberrationB | 0 |
ChromaticAberrationR | 0 |
Clarity | +9 |
ColorComponents | 3 |
ColorMode | RGB |
ColorNoiseReduction | 0 |
ColorSaturation | 19.0 |
ColorSpace | Uncalibrated |
ColorTemperature | -6.0 |
Contrast | +3 |
ConvertToGrayscale | False |
Copyright | Rugumayo Amundsen Photos |
CopyrightNotice | Rugumayo Amundsen Photos |
CreateDate | 2010:07:01 19:10:33+02:00 |
Creator | Ulf Rugumayo Amundsen |
CreatorTool | Adobe Photoshop CS4 Macintosh |
CropAngle | 0 |
CropBottom | 0.858758 |
CropLeft | 0 |
CropRight | 1 |
CropTop | 0 |
DateTimeOriginal (1) | 2010:07:01 19:10:33+02:00 |
DateTimeOriginal | 2010:07:01 19:10:33 |
Defringe | 0 |
ExifImageHeight | 731 |
ExifImageWidth | 1280 |
Exposure | 0.00 |
FillLight | 0 |
FNumber | 11.0 |
FocalLength | 24.0 mm |
FocalLength35efl | 24.0 mm |
Format | image/jpeg |
Gamma | 1.4 |
GrainAmount | 0 |
GreenHue | 0 |
GreenSaturation | 0 |
HasCrop | True |
HasSettings | True |
HighlightRecovery | 0 |
HighlightsSmoothing | 10.0 |
HueAdjustmentAqua | 0 |
HueAdjustmentBlue | 0 |
HueAdjustmentGreen | 0 |
HueAdjustmentMagenta | 0 |
HueAdjustmentOrange | 0 |
HueAdjustmentPurple | 0 |
HueAdjustmentRed | 0 |
HueAdjustmentYellow | 0 |
ICCProfileName | ProPhoto RGB |
ImageHeight | 731 |
ImageSize | 1280x731 |
ImageWidth | 1280 |
IncrementalTemperature | 0 |
IncrementalTint | 0 |
ISO | 100 |
Label | |
LuminanceAdjustmentAqua | 0 |
LuminanceAdjustmentBlue | 0 |
LuminanceAdjustmentGreen | 0 |
LuminanceAdjustmentMagenta | 0 |
LuminanceAdjustmentOrange | 0 |
LuminanceAdjustmentPurple | 0 |
LuminanceAdjustmentRed | 0 |
LuminanceAdjustmentYellow | 0 |
LuminanceNoiseReductionContrast | 0 |
LuminanceNoiseReductionDetail | 50 |
LuminanceSmoothing | 16 |
Luminosity | 1.7 |
Megapixels | 0.936 |
Method | Details Enhancer |
Microcontrast | 1.0 |
Microsmoothing | 3.0 |
Model | NIKON D700 |
ModifyDate (1) | 2010:07:06 21:36:01+02:00 |
ModifyDate | 2010:07:06 21:36:01 |
Orientation | Horizontal (normal) |
ParametricDarks | 0 |
ParametricHighlights | 0 |
ParametricHighlightSplit | 75 |
ParametricLights | 0 |
ParametricMidtoneSplit | 50 |
ParametricShadows | 0 |
ParametricShadowSplit | 25 |
PostCropVignetteAmount | -35 |
PostCropVignetteFeather | 50 |
PostCropVignetteHighlightContrast | 0 |
PostCropVignetteMidpoint | 50 |
PostCropVignetteRoundness | 0 |
PostCropVignetteStyle | 1 |
ProcessVersion | 5.7 |
ProfileDescription | ProPhoto RGB |
Rating | 0 |
RawFileName | _DSC1006_07_08_09_10-Edit.psd |
RedHue | 0 |
RedSaturation | 0 |
Rights | Rugumayo Amundsen Photos |
Saturation | -30 |
SaturationAdjustmentAqua | 0 |
SaturationAdjustmentBlue | -42 |
SaturationAdjustmentGreen | 0 |
SaturationAdjustmentMagenta | 0 |
SaturationAdjustmentOrange | -8 |
SaturationAdjustmentPurple | 0 |
SaturationAdjustmentRed | 0 |
SaturationAdjustmentYellow | 0 |
SaturationHighlights | 0.0 |
SaturationShadows | 0.0 |
Shadows | 0 |
ShadowsClipping | 0.0 |
ShadowsSmoothing | 0.0 |
ShadowTint | 0 |
SharpenDetail | 25 |
SharpenEdgeMasking | 0 |
SharpenRadius | +1.0 |
Sharpness | 26 |
Smoothing | High |
SmoothingMode | Light |
Software | Adobe Photoshop CS4 Macintosh |
SplitToningBalance | 0 |
SplitToningHighlightHue | 0 |
SplitToningHighlightSaturation | 0 |
SplitToningShadowHue | 0 |
SplitToningShadowSaturation | 0 |
Strength | 100.0 |
ToneCurve | 0, 0, 255, 255 |
ToneCurveName | Linear |
URL_List | |
Version (1) | 3.2 |
Version | 5.7 |
Vibrance | +23 |
VignetteAmount | 0 |
WhiteBalance | As Shot |
WhiteClip | 1.985700 |