Felt | Verdi |
AlreadyApplied | True |
Aperture | 9.0 |
ApertureValue | 9.0 |
Artist | Photographer:Lars Oestreim |
BitsPerSample | 8 |
BlueHue | 0 |
BlueSaturation | +33 |
Brightness | +36 |
By-line | Photographer:Lars Oestreim |
CameraProfile | Adobe Standard |
ChromaticAberrationB | 0 |
ChromaticAberrationR | 0 |
CircleOfConfusion | 0.031 mm |
Clarity | +85 |
ColorComponents | 3 |
ColorMode | RGB |
ColorNoiseReduction | 25 |
ColorSpace | Uncalibrated |
ColorTemperature | 50000 |
Contrast | +59 |
ConvertToGrayscale | False |
Copyright | Copyright:Lars Oestreim |
CopyrightNotice | Copyright:Lars Oestreim |
CreateDate (1) | 2009:10:11 13:28:39.17+02:00 |
CreateDate | 2009:10:11 13:28:39 |
Creator | Photographer:Lars Oestreim |
CropAngle | 3.557053 |
CropBottom | 0.987389 |
CropLeft | 0.072656 |
CropRight | 0.927344 |
CropTop | 0.012611 |
CustomRendered | Normal |
DateTimeDigitized | 2009:10:11 13:28:39.17+02:00 |
DateTimeOriginal (1) | 2009:10:11 13:28:39.17+02:00 |
DateTimeOriginal | 2009:10:11 13:28:39 |
Defringe | 0 |
ExifImageHeight | 3344 |
ExifImageWidth | 5017 |
Exposure | 0.00 |
ExposureCompensation | 0 |
ExposureMode | Manual |
ExposureProgram | Manual |
ExposureTime | 1/200 |
FillLight | 0 |
Firmware | 1.1.0 |
Flash | On, Fired |
FlashCompensation | -0.333333333333333 |
FlashFired | True |
FlashFunction | False |
FlashMode | On |
FlashRedEyeMode | False |
FlashReturn | No return detection |
FNumber | 9.0 |
FocalLength | 24.0 mm |
FocalLength35efl | 24.0 mm (35 mm equivalent: 23.4 mm) |
Format | image/jpeg |
FOV | 75.1 deg |
GreenHue | -8 |
GreenSaturation | +100 |
HasCrop | True |
HasSettings | True |
HighlightRecovery | 0 |
HueAdjustmentAqua | 0 |
HueAdjustmentBlue | 0 |
HueAdjustmentGreen | 0 |
HueAdjustmentMagenta | 0 |
HueAdjustmentOrange | -15 |
HueAdjustmentPurple | 0 |
HueAdjustmentRed | -23 |
HueAdjustmentYellow | 0 |
HyperfocalDistance | 2.08 m |
ICCProfileName | Adobe RGB (1998) |
ImageHeight | 3344 |
ImageNumber | 0 |
ImageSize | 5017x3344 |
ImageWidth | 5017 |
ISO | 2000 |
Lens | EF24-105mm f/4L IS USM |
LensInfo | 24-105mm f/? |
LightValue | 9.7 |
LuminanceAdjustmentAqua | 0 |
LuminanceAdjustmentBlue | 0 |
LuminanceAdjustmentGreen | 0 |
LuminanceAdjustmentMagenta | 0 |
LuminanceAdjustmentOrange | 0 |
LuminanceAdjustmentPurple | 0 |
LuminanceAdjustmentRed | -100 |
LuminanceAdjustmentYellow | 0 |
LuminanceSmoothing | 0 |
Make | Canon |
MaxApertureValue | 4.0 |
Megapixels | 16.8 |
MeteringMode | Multi-segment |
Model | Canon EOS 5D Mark II |
ModifyDate (1) | 2009:10:13 22:20:17+02:00 |
ModifyDate | 2009:10:13 22:20:17 |
Orientation | Horizontal (normal) |
OwnerName | Lars Oestreim |
ParametricDarks | 0 |
ParametricHighlights | 0 |
ParametricHighlightSplit | 75 |
ParametricLights | 0 |
ParametricMidtoneSplit | 50 |
ParametricShadows | 0 |
ParametricShadowSplit | 25 |
PostCropVignetteAmount | 0 |
ProfileDescription | Adobe RGB (1998) |
Rating | 0 |
RawFileName | IMG_5577.CR2 |
RedHue | +43 |
RedSaturation | 0 |
Rights | Copyright:Lars Oestreim |
Saturation | +10 |
SaturationAdjustmentAqua | 0 |
SaturationAdjustmentBlue | 0 |
SaturationAdjustmentGreen | 0 |
SaturationAdjustmentMagenta | 0 |
SaturationAdjustmentOrange | +78 |
SaturationAdjustmentPurple | 0 |
SaturationAdjustmentRed | +100 |
SaturationAdjustmentYellow | 0 |
ScaleFactor35efl | 1.0 |
SceneCaptureType | Standard |
SerialNumber | 530318205 |
Shadows | 7 |
ShadowTint | 0 |
SharpenDetail | 25 |
SharpenEdgeMasking | 0 |
SharpenRadius | +1.0 |
Sharpness | 25 |
ShutterSpeed | 1/200 |
ShutterSpeedValue | 1/200 |
SidecarForExtension | CR2 |
Software | Adobe Photoshop CS4 Windows |
SplitToningBalance | -100 |
SplitToningHighlightHue | 221 |
SplitToningHighlightSaturation | 75 |
SplitToningShadowHue | 227 |
SplitToningShadowSaturation | 60 |
Tint | -13 |
ToneCurve | 0, 0, 32, 22, 64, 56, 128, 128, 192, 196, 255, 255 |
ToneCurveName | Medium Contrast |
URL_List | |
Version | 5.3 |
Vibrance | -100 |
VignetteAmount | -85 |
VignetteMidpoint | 70 |
WhiteBalance (2) | Custom |
WhiteBalance | Auto |