Felt | Verdi |
AlreadyApplied | True |
Aperture | 4.0 |
ApertureValue | 4.0 |
Artist | Venche Jensen |
BitsPerSample | 8 |
BlueHue | 0 |
BlueSaturation | 0 |
Brightness | +50 |
By-line | Venche Jensen |
CameraProfile | Camera Vivid |
CFAPattern | [Red,Green][Green,Blue] |
ChromaticAberrationB | 0 |
ChromaticAberrationR | 0 |
CircleOfConfusion | 0.020 mm |
Clarity | +50 |
ColorComponents | 3 |
ColorMode | RGB |
ColorNoiseReduction | 25 |
ColorSpace | sRGB |
ColorTemperature | 5150 |
Contrast (2) | +25 |
Contrast | Normal |
ConvertToGrayscale | False |
Copyright | © 2008 |
CopyrightNotice | © 2008 |
CreateDate (1) | 2009:07:19 15:12:54.69+02:00 |
CreateDate | 2009:07:19 15:12:54 |
Creator | Venche Jensen |
CreatorTool | Ver.1.10 |
CropAngle | 0 |
CropBottom | 0.893417 |
CropLeft | 0.100937 |
CropRight | 0.793965 |
CropTop | 0.122257 |
CustomRendered | Normal |
DateTimeDigitized | 2009:07:19 15:12:54.69+02:00 |
DateTimeOriginal (1) | 2009:07:19 15:12:54.69+02:00 |
DateTimeOriginal | 2009:07:19 15:12:54 |
Defringe | 0 |
DigitalZoomRatio | 1 |
ExifImageHeight | 820 |
ExifImageWidth | 1071 |
Exposure | +0.15 |
ExposureCompensation | -1 |
ExposureMode | Auto |
ExposureProgram | Aperture-priority AE |
ExposureTime | 1/1000 |
FillLight | 31 |
Flash | No Flash |
FlashFired | False |
FlashFunction | False |
FlashMode | Unknown |
FlashRedEyeMode | False |
FlashReturn | No return detection |
FNumber | 4.0 |
FocalLength | 280.0 mm |
FocalLength35efl | 280.0 mm (35 mm equivalent: 420.0 mm) |
FocalLengthIn35mmFormat | 420 mm |
Format | image/jpeg |
FOV | 4.9 deg |
GainControl | Low gain up |
GreenHue | 0 |
GreenSaturation | 0 |
HasCrop | True |
HasSettings | True |
HighlightRecovery | 0 |
HueAdjustmentAqua | 0 |
HueAdjustmentBlue | 0 |
HueAdjustmentGreen | 0 |
HueAdjustmentMagenta | 0 |
HueAdjustmentOrange | 0 |
HueAdjustmentPurple | 0 |
HueAdjustmentRed | 0 |
HueAdjustmentYellow | 0 |
HyperfocalDistance | 978.49 m |
ICCProfileName | sRGB IEC61966-2.1 |
ImageHeight (1) | 2196 |
ImageHeight | 820 |
ImageNumber | 13871 |
ImageSize | 1071x820 |
ImageWidth (1) | 2972 |
ImageWidth | 1071 |
ISO | 400 |
Lens | 70.0-200.0 mm f/2.8 |
LensInfo | 70-200mm f/2.8 |
LightSource | Unknown |
LightValue | 12.0 |
LuminanceAdjustmentAqua | 0 |
LuminanceAdjustmentBlue | 0 |
LuminanceAdjustmentGreen | 0 |
LuminanceAdjustmentMagenta | 0 |
LuminanceAdjustmentOrange | 0 |
LuminanceAdjustmentPurple | 0 |
LuminanceAdjustmentRed | 0 |
LuminanceAdjustmentYellow | 0 |
LuminanceSmoothing | 0 |
Make | NIKON CORPORATION |
MaxApertureValue | 4.0 |
Megapixels | 0.878 |
MeteringMode | Multi-segment |
Model | NIKON D300 |
ModifyDate (1) | 2009:07:21 17:37:41+02:00 |
ModifyDate | 2009:07:21 17:37:41 |
Orientation | Horizontal (normal) |
ParametricDarks | 0 |
ParametricHighlights | 0 |
ParametricHighlightSplit | 75 |
ParametricLights | 0 |
ParametricMidtoneSplit | 50 |
ParametricShadows | 0 |
ParametricShadowSplit | 25 |
PostCropVignetteAmount | 0 |
ProfileDescription | sRGB IEC61966-2.1 |
Rating | 4 |
RawFileName | _2VJ3512.NEF |
RedHue | 0 |
RedSaturation | 0 |
Rights | © 2008 |
Saturation (2) | 0 |
Saturation | High |
SaturationAdjustmentAqua | 0 |
SaturationAdjustmentBlue | 0 |
SaturationAdjustmentGreen | 0 |
SaturationAdjustmentMagenta | 0 |
SaturationAdjustmentOrange | 0 |
SaturationAdjustmentPurple | 0 |
SaturationAdjustmentRed | 0 |
SaturationAdjustmentYellow | 0 |
ScaleFactor35efl | 1.5 |
SceneCaptureType | Standard |
SceneType | Directly photographed |
SensingMethod | One-chip color area |
SerialNumber | 4006116 |
Shadows | 5 |
ShadowTint | 0 |
SharpenDetail | 25 |
SharpenEdgeMasking | 0 |
SharpenRadius | +1.0 |
Sharpness (2) | 25 |
Sharpness | Normal |
ShutterSpeed | 1/1000 |
ShutterSpeedValue | 1/1000 |
Software | Adobe Photoshop CS4 Macintosh |
SplitToningBalance | 0 |
SplitToningHighlightHue | 0 |
SplitToningHighlightSaturation | 0 |
SplitToningShadowHue | 0 |
SplitToningShadowSaturation | 0 |
SubjectDistanceRange | Unknown |
Tint | +3 |
ToneCurve | 0, 0, 32, 22, 64, 56, 128, 128, 192, 196, 255, 255 |
ToneCurveName | Medium Contrast |
URL_List | |
Version | 5.3 |
Vibrance | +6 |
VignetteAmount | 0 |
WhiteBalance (2) | Custom |
WhiteBalance | Manual |