Felt | Verdi |
AlreadyApplied | True |
Aperture | 6.7 |
ApertureValue | 6.7 |
Artist | Eric Fagerheim |
BitsPerSample | 8 |
BlueHue | +11 |
BlueSaturation | -70 |
Brightness | +57 |
By-line | Eric Fagerheim |
CameraProfile | ACR 2.4 |
Caption-Abstract | emfphoto |
CFAPattern | [Blue,Green][Green,Red] |
ChromaticAberrationB | 0 |
ChromaticAberrationR | 0 |
CircleOfConfusion | 0.020 mm |
Clarity | 0 |
ColorComponents | 3 |
ColorMode | RGB |
ColorNoiseReduction | 25 |
ColorSpace (1) | Unknown (-1) |
ColorSpace | Uncalibrated |
Contrast (2) | +25 |
Contrast | Normal |
ConvertToGrayscale | False |
Copyright | Eric Fagerheim |
CopyrightFlag | True |
CopyrightNotice | Eric Fagerheim |
CreateDate (1) | 2008:07:27 12:33:59+02:00 |
CreateDate | 2008:07:25 21:19:59 |
Creator | Eric Fagerheim |
CreatorCity | Melhus |
CreatorCountry | Norway |
CreatorPostalCode | 7232 |
CreatorTool | Adobe Photoshop CS3 Windows |
CreatorWorkEmail | mail@emfphoto.no |
CreatorWorkURL | www.emfphoto.no |
CustomRendered | Normal |
DateTimeDigitized | 2008:07:25 21:19:59+02:00 |
DateTimeOriginal (1) | 2008:07:25 21:19:59+02:00 |
DateTimeOriginal | 2008:07:25 21:19:59 |
Defringe | 0 |
Description | emfphoto |
ExifImageHeight | 735 |
ExifImageWidth | 532 |
Exposure | -1.71 |
ExposureCompensation | 0 |
ExposureMode | Manual |
ExposureProgram | Manual |
ExposureTime | 1/180 |
FillLight | 0 |
Flash | Off, Did not fire |
FlashFired | False |
FlashFunction | False |
FlashMode | Off |
FlashRedEyeMode | False |
FlashReturn | No return detection |
FNumber | 6.7 |
FocalLength | 50.0 mm |
FocalLength35efl | 50.0 mm (35 mm equivalent: 75.0 mm) |
FocalLengthIn35mmFormat | 75 mm |
Format | image/jpeg |
FOV | 27.0 deg |
GreenHue | +11 |
GreenSaturation | +25 |
HasCrop | False |
HasSettings | True |
HierarchicalSubject | bryllup, bryllupsfotograf, choco boco, fashion, fotofashion, fotograf, konfirmasjon, lundamo, modell, stil, style, tfp, trondheim |
HighlightRecovery | 0 |
HueAdjustmentAqua | 0 |
HueAdjustmentBlue | 0 |
HueAdjustmentGreen | 0 |
HueAdjustmentMagenta | 0 |
HueAdjustmentOrange | 0 |
HueAdjustmentPurple | 0 |
HueAdjustmentRed | 0 |
HueAdjustmentYellow | 0 |
HyperfocalDistance | 18.63 m |
ImageDescription | emfphoto |
ImageHeight (1) | 4672 |
ImageHeight | 735 |
ImageSize | 532x735 |
ImageWidth (1) | 3104 |
ImageWidth | 532 |
IncrementalTemperature | +59 |
IncrementalTint | +27 |
ISO | 100 |
Keywords | bryllup, bryllupsfotograf, choco boco, fashion, fotofashion, fotograf, konfirmasjon, lundamo, modell, stil, style, tfp, trondheim |
Label | emfphoto |
Lens | smc PENTAX-DA* 50-135mm F2.8 ED [IF] SDM |
LensID (1) | 8 241 |
LensID | smc PENTAX-DA* 50-135mm F2.8 ED [IF] SDM |
LensInfo | 50-135mm f/2.8 |
LightValue | 13.0 |
LuminanceAdjustmentAqua | 0 |
LuminanceAdjustmentBlue | 0 |
LuminanceAdjustmentGreen | 0 |
LuminanceAdjustmentMagenta | 0 |
LuminanceAdjustmentOrange | 0 |
LuminanceAdjustmentPurple | 0 |
LuminanceAdjustmentRed | 0 |
LuminanceAdjustmentYellow | 0 |
LuminanceSmoothing | 0 |
Make | PENTAX |
Marked | True |
Megapixels | 0.391 |
MeteringMode | Center-weighted average |
Model | PENTAX K20D |
ModifyDate (1) | 2008:07:27 13:27:05+02:00 |
ModifyDate | 2008:07:27 13:27:05 |
Orientation | Horizontal (normal) |
ParametricDarks | -3 |
ParametricHighlights | 0 |
ParametricHighlightSplit | 75 |
ParametricLights | 0 |
ParametricMidtoneSplit | 50 |
ParametricShadows | -14 |
ParametricShadowSplit | 25 |
Rating | 1 |
RedHue | +96 |
RedSaturation | +3 |
Rights | Eric Fagerheim |
Saturation (2) | -71 |
Saturation | Normal |
SaturationAdjustmentAqua | 0 |
SaturationAdjustmentBlue | 0 |
SaturationAdjustmentGreen | 0 |
SaturationAdjustmentMagenta | 0 |
SaturationAdjustmentOrange | 0 |
SaturationAdjustmentPurple | 0 |
SaturationAdjustmentRed | 0 |
SaturationAdjustmentYellow | 0 |
ScaleFactor35efl | 1.5 |
SceneCaptureType | Standard |
SensingMethod | One-chip color area |
Shadows | 11 |
ShadowTint | +8 |
SharpenDetail | 25 |
SharpenEdgeMasking | 0 |
SharpenRadius | +1.0 |
Sharpness (2) | 25 |
Sharpness | Normal |
ShutterSpeed | 1/180 |
ShutterSpeedValue | 1/180 |
Software | Adobe Photoshop CS3 Windows |
SplitToningBalance | 0 |
SplitToningHighlightHue | 0 |
SplitToningHighlightSaturation | 0 |
SplitToningShadowHue | 0 |
SplitToningShadowSaturation | 0 |
Subject | bryllup, bryllupsfotograf, choco boco, fashion, fotofashion, fotograf, konfirmasjon, lundamo, modell, stil, style, tfp, trondheim |
SubjectDistanceRange | Close |
ToneCurve | 0, 0, 255, 255 |
ToneCurveName | Linear |
URL | www.emfphoto.no |
URL_List | |
Version | 4.4.1 |
Vibrance | 0 |
VignetteAmount | +88 |
VignetteMidpoint | 34 |
WebStatement | www.emfphoto.no |
WhiteBalance (2) | Custom |
WhiteBalance | Auto |