Felt | Verdi |
AlreadyApplied | True |
Aperture | 4.8 |
ApertureValue | 4.8 |
Artist | Solveig Selj |
BitsPerSample (1) | 8, 8, 8 |
BitsPerSample | 8 |
BlueHue | 0 |
BlueSaturation | 0 |
Brightness | +50 |
By-line | Solveig Selj |
CameraProfile | ACR 3.7 |
CFAPattern | [Red,Green][Green,Blue] |
ChromaticAberrationB | 0 |
ChromaticAberrationR | 0 |
CircleOfConfusion | 0.020 mm |
Clarity | 0 |
ColorComponents | 3 |
ColorMode | RGB |
ColorNoiseReduction | 25 |
ColorSpace (1) | Unknown (-1) |
ColorSpace | Uncalibrated |
ColorTemperature | 5300 |
Contrast (2) | +73 |
Contrast | Normal |
ConvertToGrayscale | True |
Copyright | do not copy |
CopyrightFlag | False |
CopyrightNotice | do not copy |
CreateDate (1) | 2008:07:16 02:39:48+02:00 |
CreateDate | 2008:07:03 16:39:52 |
Creator | Solveig Selj |
CreatorTool | Adobe Photoshop CS3 Macintosh |
CustomRendered | Normal |
DateTimeDigitized | 2008:07:03 16:39:52.00+02:00 |
DateTimeOriginal (1) | 2008:07:03 16:39:52.00+02:00 |
DateTimeOriginal | 2008:07:03 16:39:52 |
Defringe | 0 |
DerivedFrom | |
DigitalZoomRatio | 1 |
ExifImageHeight | 768 |
ExifImageWidth | 510 |
Exposure | 0.00 |
ExposureCompensation | 0 |
ExposureMode | Manual |
ExposureProgram | Manual |
ExposureTime | 1/2500 |
FillLight | 29 |
Flash | No Flash |
FlashFired | False |
FlashFunction | False |
FlashMode | Unknown |
FlashRedEyeMode | False |
FlashReturn | No return detection |
FNumber | 4.8 |
FocalLength | 38.0 mm |
FocalLength35efl | 38.0 mm (35 mm equivalent: 57.0 mm) |
FocalLengthIn35mmFormat | 57 mm |
Format | image/jpeg |
FOV | 35.1 deg |
GainControl | None |
GrayMixerAqua | -16 |
GrayMixerBlue | +16 |
GrayMixerGreen | -28 |
GrayMixerMagenta | +5 |
GrayMixerOrange | -20 |
GrayMixerPurple | +19 |
GrayMixerRed | -11 |
GrayMixerYellow | -24 |
GreenHue | 0 |
GreenSaturation | 0 |
HasCrop | False |
HasSettings | True |
HierarchicalSubject | Places|Lofoten |
HighlightRecovery | 36 |
HyperfocalDistance | 15.02 m |
ICCProfileName | Adobe RGB (1998) |
ImageHeight (1) | 4288 |
ImageHeight | 768 |
ImageNumber | 793 |
ImageSize | 510x768 |
ImageWidth (1) | 2848 |
ImageWidth | 510 |
ISO | 200 |
Keywords | Lofoten |
Lens | 16.0-85.0 mm f/3.5-5.6 |
LensInfo | 16-85mm f/3.5-5.6 |
LightSource | Unknown |
LightValue | 14.8 |
LuminanceSmoothing | 0 |
Make | NIKON CORPORATION |
MaxApertureValue | 4.8 |
Megapixels | 0.392 |
MeteringMode | Spot |
Model | NIKON D300 |
ModifyDate (1) | 2008:07:16 03:01:22+02:00 |
ModifyDate | 2008:07:16 03:01:22 |
Orientation | Horizontal (normal) |
ParametricDarks | +11 |
ParametricHighlights | -28 |
ParametricHighlightSplit | 75 |
ParametricLights | -3 |
ParametricMidtoneSplit | 50 |
ParametricShadows | -10 |
ParametricShadowSplit | 25 |
PhotometricInterpretation | RGB |
ProfileDescription | Adobe RGB (1998) |
Rating | 2 |
RawFileName | Lofoten&Hjemme_0236.NEF |
RedHue | 0 |
RedSaturation | 0 |
Rights | do not copy |
SamplesPerPixel | 3 |
Saturation | Normal |
ScaleFactor35efl | 1.5 |
SceneCaptureType | Standard |
SceneType | Directly photographed |
SensingMethod | One-chip color area |
Shadows | 20 |
ShadowTint | 0 |
SharpenDetail | 25 |
SharpenEdgeMasking | 0 |
SharpenRadius | +1.0 |
Sharpness (2) | 25 |
Sharpness | Normal |
ShutterSpeed | 1/2500 |
ShutterSpeedValue | 1/2500 |
Software | Adobe Photoshop CS3 Macintosh |
SplitToningBalance | +68 |
SplitToningHighlightHue | 38 |
SplitToningHighlightSaturation | 34 |
SplitToningShadowHue | 0 |
SplitToningShadowSaturation | 0 |
Subject | Lofoten |
SubjectDistanceRange | Unknown |
Tint | -110 |
ToneCurve | 0, 0, 32, 22, 64, 56, 128, 128, 192, 196, 255, 255 |
ToneCurveName | Medium Contrast |
URL_List | |
Version | 4.4.1 |
VignetteAmount | 0 |
WhiteBalance (2) | Custom |
WhiteBalance | Auto |