Felt | Verdi |
AlreadyApplied | True |
Aperture | 20.0 |
ApertureValue | 20.0 |
BitsPerSample | 8 |
BlueHue | 0 |
BlueSaturation | 0 |
Brightness | 0 |
CameraProfile | Embedded |
ChromaticAberrationB | 0 |
ChromaticAberrationR | 0 |
Clarity | 0 |
ColorComponents | 3 |
ColorNoiseReduction | 100 |
Contrast | 0 |
ConvertToGrayscale | False |
CreatorTool | Adobe Photoshop Lightroom |
DateTimeOriginal (1) | 2008:07:10 20:00:02+02:00 |
DateTimeOriginal | 2008:07:10 20:00:02 |
Defringe | 0 |
Exposure | +0.48 |
ExposureTime | 1/5 |
FillLight | 0 |
FNumber | 20.0 |
FocalLength | 50.0 mm |
FocalLength35efl | 50.0 mm |
GreenHue | 0 |
GreenSaturation | 0 |
HasCrop | False |
HasSettings | True |
HighlightRecovery | 0 |
HueAdjustmentAqua | 0 |
HueAdjustmentBlue | 0 |
HueAdjustmentGreen | 0 |
HueAdjustmentMagenta | 0 |
HueAdjustmentOrange | -17 |
HueAdjustmentPurple | 0 |
HueAdjustmentRed | +14 |
HueAdjustmentYellow | 0 |
ImageHeight | 768 |
ImageSize | 1145x768 |
ImageWidth | 1145 |
IncrementalTemperature | 0 |
IncrementalTint | 0 |
ISO | 100 |
LightValue | 11.0 |
LuminanceAdjustmentAqua | 0 |
LuminanceAdjustmentBlue | 0 |
LuminanceAdjustmentGreen | 0 |
LuminanceAdjustmentMagenta | 0 |
LuminanceAdjustmentOrange | 0 |
LuminanceAdjustmentPurple | 0 |
LuminanceAdjustmentRed | 0 |
LuminanceAdjustmentYellow | 0 |
LuminanceSmoothing | 100 |
Megapixels | 0.879 |
Model | NIKON D200 |
ModifyDate (1) | 2008:07:13 15:38:02+02:00 |
ModifyDate | 2008:07:13 15:38:02 |
PaintCorrectionActive | true |
PaintCorrectionAmount | 1.000000 |
PaintCorrectionClarity | 0.000000 |
PaintCorrectionCorrectionID | 6830B939-B3B0-4C76-A5C7-66E6F0482CB5 |
PaintCorrectionCorrectionReferenceX | 0.707948 |
PaintCorrectionCorrectionReferenceY | 0.287879 |
PaintCorrectionExposure | 0.250000 |
PaintCorrectionHue | 50.000000 |
PaintCorrectionLocalToningLuminance | 0.000000 |
PaintCorrectionMaskCenterWeight | 0.000000 |
PaintCorrectionMaskFlow | 1.000000 |
PaintCorrectionMaskMaskID (1) | 6283E088-B74F-4E41-BCD5-A33F2C150CC2 |
PaintCorrectionMaskMaskID (2) | 00A31CF0-30AA-471C-AF23-AE00176B3B08 |
PaintCorrectionMaskMaskID (3) | C6D5C71C-E29D-4BD1-8498-EB11935F81C5 |
PaintCorrectionMaskMaskID (4) | 0CCAC93A-7936-4C09-80E9-0FD87FF48895 |
PaintCorrectionMaskMaskID | A3B2C855-983D-4FC9-B86A-F657F2CEFAEA |
PaintCorrectionMaskRadius (1) | 0.100055 |
PaintCorrectionMaskRadius (3) | 0.023166 |
PaintCorrectionMaskRadius | 0.122629 |
PaintCorrectionMaskValue | 1.000000 |
PaintCorrectionMaskWhat | Mask/Paint |
PaintCorrectionSaturation (1) | 0.000000 |
PaintCorrectionSaturation | 1.000000 |
PaintCorrectionWhat | Correction |
ParametricDarks | 0 |
ParametricHighlights | 0 |
ParametricHighlightSplit | 75 |
ParametricLights | 0 |
ParametricMidtoneSplit | 50 |
ParametricShadows | 0 |
ParametricShadowSplit | 25 |
PostCropVignetteAmount | 0 |
ProfileDescription | sRGB IEC61966-2.1 |
RedHue | 0 |
RedSaturation | 0 |
Saturation | 0 |
SaturationAdjustmentAqua | 0 |
SaturationAdjustmentBlue | 0 |
SaturationAdjustmentGreen | 0 |
SaturationAdjustmentMagenta | 0 |
SaturationAdjustmentOrange | 0 |
SaturationAdjustmentPurple | 0 |
SaturationAdjustmentRed | 0 |
SaturationAdjustmentYellow | 0 |
Shadows | 0 |
ShadowTint | 0 |
SharpenDetail | 25 |
SharpenEdgeMasking | 0 |
SharpenRadius | +1.0 |
Sharpness | 0 |
ShutterSpeed | 1/5 |
ShutterSpeedValue | 1/5 |
SplitToningBalance | 0 |
SplitToningHighlightHue | 0 |
SplitToningHighlightSaturation | 0 |
SplitToningShadowHue | 0 |
SplitToningShadowSaturation | 0 |
ToneCurve | 0, 0, 255, 255 |
ToneCurveName | Linear |
Version | 5.0 |
Vibrance | 0 |
VignetteAmount | 0 |
WhiteBalance | As Shot |