Felt | Verdi |
AlreadyApplied | True |
Aperture | 5.6 |
ApertureValue | 5.6 |
Artist | unknown |
BitsPerSample | 8 |
BlueHue | 0 |
BlueSaturation | 0 |
Brightness | +71 |
By-line | unknown |
CameraProfile | ACR 3.6 |
ChromaticAberrationB | 0 |
ChromaticAberrationR | 0 |
CircleOfConfusion | 0.019 mm |
ColorComponents | 3 |
ColorMode | RGB |
ColorNoiseReduction | 25 |
ColorSpace (1) | Unknown (-1) |
ColorSpace | Uncalibrated |
ColorTemperature | 5400 |
Contrast | +38 |
ConvertToGrayscale | False |
CopyrightFlag | False |
CreateDate (1) | 2007:09:16 20:23:23+02:00 |
CreateDate | 2007:09:15 16:19:22 |
Creator | unknown |
CreatorTool | Adobe Photoshop CS3 Windows |
CustomRendered | Normal |
DateTimeDigitized | 2007:09:15 16:19:22+02:00 |
DateTimeOriginal (1) | 2007:09:15 16:19:22+02:00 |
DateTimeOriginal | 2007:09:15 16:19:22 |
DerivedFrom | |
ExifImageHeight | 384 |
ExifImageWidth | 850 |
Exposure | -0.10 |
ExposureCompensation | 0 |
ExposureMode | Manual |
ExposureProgram | Manual |
ExposureTime | 1/60 |
FillLight | 6 |
Firmware | 1.0.4 |
Flash | Off, Did not fire |
FlashCompensation | 0 |
FlashFired | False |
FlashFunction | False |
FlashMode | Off |
FlashRedEyeMode | False |
FlashReturn | No return detection |
FNumber | 5.6 |
FocalLength | 55.0 mm |
FocalLength35efl | 55.0 mm (35 mm equivalent: 89.0 mm) |
Format | image/jpeg |
FOV | 22.9 deg |
GreenHue | 0 |
GreenSaturation | 0 |
HasCrop | False |
HasSettings | True |
HighlightRecovery | 49 |
HueAdjustmentAqua | 0 |
HueAdjustmentBlue | 0 |
HueAdjustmentGreen | 0 |
HueAdjustmentMagenta | 0 |
HueAdjustmentOrange | 0 |
HueAdjustmentPurple | 0 |
HueAdjustmentRed | 0 |
HueAdjustmentYellow | 0 |
HyperfocalDistance | 29.10 m |
ICCProfileName | Adobe RGB (1998) |
ImageHeight | 384 |
ImageNumber | 80 |
ImageSize | 850x384 |
ImageWidth | 850 |
ISO | 100 |
Lens | EF-S18-55mm f/3.5-5.6 |
LensInfo | 18-55mm f/? |
LightValue | 10.9 |
LuminanceAdjustmentAqua | 0 |
LuminanceAdjustmentBlue | 0 |
LuminanceAdjustmentGreen | 0 |
LuminanceAdjustmentMagenta | 0 |
LuminanceAdjustmentOrange | 0 |
LuminanceAdjustmentPurple | 0 |
LuminanceAdjustmentRed | 0 |
LuminanceAdjustmentYellow | 0 |
LuminanceSmoothing | 0 |
Make | Canon |
Megapixels | 0.326 |
MeteringMode | Multi-segment |
Model | Canon EOS 400D DIGITAL |
ModifyDate (1) | 2007:09:22 10:50:09+02:00 |
ModifyDate | 2007:09:22 10:50:09 |
Orientation | Horizontal (normal) |
OwnerName | unknown |
ParametricDarks | 0 |
ParametricHighlights | 0 |
ParametricHighlightSplit | 75 |
ParametricLights | 0 |
ParametricMidtoneSplit | 50 |
ParametricShadows | 0 |
ParametricShadowSplit | 25 |
ProfileDescription | Adobe RGB (1998) |
Rating | 0 |
RawFileName | IMG_2981.CR2 |
RedHue | 0 |
RedSaturation | 0 |
Saturation | +28 |
SaturationAdjustmentAqua | 0 |
SaturationAdjustmentBlue | 0 |
SaturationAdjustmentGreen | 0 |
SaturationAdjustmentMagenta | 0 |
SaturationAdjustmentOrange | 0 |
SaturationAdjustmentPurple | 0 |
SaturationAdjustmentRed | 0 |
SaturationAdjustmentYellow | 0 |
ScaleFactor35efl | 1.6 |
SceneCaptureType | Standard |
SerialNumber | 630316436 |
Shadows | 12 |
ShadowTint | 0 |
Sharpness | 25 |
ShutterSpeed | 1/60 |
ShutterSpeedValue | 1/60 |
SidecarForExtension | CR2 |
Software | Adobe Photoshop CS3 Windows |
SplitToningBalance | 0 |
SplitToningHighlightHue | 0 |
SplitToningHighlightSaturation | 0 |
SplitToningShadowHue | 0 |
SplitToningShadowSaturation | 0 |
TimeZoneOffset | 2 2 |
Tint | +7 |
ToneCurve | 0, 0, 32, 22, 64, 56, 128, 128, 192, 196, 255, 255 |
ToneCurveName | Medium Contrast |
URL_List | |
Version | 4.0 |
Vibrance | +71 |
VignetteAmount | 0 |
WhiteBalance (2) | Custom |
WhiteBalance | Auto |