Felt | Verdi |
AlreadyApplied | True |
Aperture | 8.0 |
ApertureValue | 8.0 |
BitsPerSample | 8 |
BlueHue | 0 |
BlueSaturation | 0 |
Brightness | +50 |
By-line | Eivind Sjursen |
CameraProfile | ACR 3.6 |
CFAPattern | [Green,Blue][Red,Green] |
ChromaticAberrationB | 0 |
ChromaticAberrationR | 0 |
CircleOfConfusion | 0.020 mm |
ColorComponents | 3 |
ColorNoiseReduction | 25 |
ColorTemperature | 4235 |
Contrast (2) | +25 |
Contrast | Normal |
ConvertToGrayscale | False |
Copyright | Eivind Sjursen |
CopyrightNotice | Eivind Sjursen |
CreateDate | 2007:06:14 20:24:51 |
Creator | Eivind Sjursen |
CreatorAddress | Tormodsveg 7 |
CreatorCity | Haugesund |
CreatorCountry | Norway |
CreatorPostalCode | 5518 |
CreatorRegion | Rogaland |
CreatorTool | Adobe Photoshop Lightroom |
CreatorWorkURL | sjurfoto.googlepages.com |
CustomRendered | Normal |
DateTimeDigitized | 2007:06:14 20:24:51.90+02:00 |
DateTimeOriginal (1) | 2007:06:14 20:24:51.90+02:00 |
DateTimeOriginal | 2007:06:14 20:24:51 |
DigitalZoomRatio | 1 |
Exposure | -1.27 |
ExposureCompensation | 0 |
ExposureMode | Auto |
ExposureProgram | Not Defined |
ExposureTime | 1/1000 |
FillLight | 0 |
Flash | No Flash |
FlashFired | False |
FlashFunction | False |
FlashMode | Unknown |
FlashRedEyeMode | False |
FlashReturn | No return detection |
FNumber | 8.0 |
FocalLength | 18.0 mm |
FocalLength35efl | 18.0 mm (35 mm equivalent: 27.0 mm) |
FocalLengthIn35mmFormat | 27 mm |
FOV | 67.4 deg |
GainControl | None |
GreenHue | 0 |
GreenSaturation | 0 |
HasCrop | False |
HasSettings | True |
HighlightRecovery | 0 |
HueAdjustmentAqua | +100 |
HueAdjustmentBlue | +11 |
HueAdjustmentGreen | 0 |
HueAdjustmentMagenta | -100 |
HueAdjustmentOrange | 0 |
HueAdjustmentPurple | 0 |
HueAdjustmentRed | +100 |
HueAdjustmentYellow | 0 |
HyperfocalDistance | 2.02 m |
ImageHeight | 669 |
ImageNumber | 6178 |
ImageSize | 1000x669 |
ImageWidth | 1000 |
ISO | 100 |
Keywords | d80 |
Lens | 18.0-200.0 mm f/3.5-6.3 |
LensInfo | 18-200mm f/3.5-6.3 |
LightSource | Unknown |
LightValue | 16.0 |
LuminanceAdjustmentAqua | 0 |
LuminanceAdjustmentBlue | 0 |
LuminanceAdjustmentGreen | 0 |
LuminanceAdjustmentMagenta | 0 |
LuminanceAdjustmentOrange | 0 |
LuminanceAdjustmentPurple | 0 |
LuminanceAdjustmentRed | 0 |
LuminanceAdjustmentYellow | 0 |
LuminanceSmoothing | 0 |
Make | NIKON CORPORATION |
MaxApertureValue | 3.5 |
Megapixels | 0.669 |
MeteringMode | Multi-segment |
Model | NIKON D80 |
ModifyDate (1) | 2007:07:07 02:41:19+02:00 |
ModifyDate | 2007:07:07 02:41:19 |
ParametricDarks | +6 |
ParametricHighlights | +100 |
ParametricHighlightSplit | 75 |
ParametricLights | -34 |
ParametricMidtoneSplit | 50 |
ParametricShadows | -100 |
ParametricShadowSplit | 25 |
PrivateRTKInfo | cHJpdmF0ZVJUS0luZm8gPSB7Cgl7CgkJZmxhdCA9IHsKCQkJImQ4MCIsCgkJfSwKCQlwYXRoID0gewoJCQkiZDgwIiwKCQl9LAoJCXByaW1hcnkgPSAiZDgwIiwKCQl1dWlkID0gIjlBRUMwODRGLTM0NTUtNDlCQi05RkZDLTc3QUMxMjIyMUY1QiIsCgl9LAp9Cg== |
ProfileDescription | Adobe RGB (1998) |
RedHue | 0 |
RedSaturation | 0 |
Rights | Eivind Sjursen |
Saturation (2) | 0 |
Saturation | Normal |
SaturationAdjustmentAqua | 0 |
SaturationAdjustmentBlue | 0 |
SaturationAdjustmentGreen | 0 |
SaturationAdjustmentMagenta | 0 |
SaturationAdjustmentOrange | 0 |
SaturationAdjustmentPurple | 0 |
SaturationAdjustmentRed | 0 |
SaturationAdjustmentYellow | 0 |
ScaleFactor35efl | 1.5 |
SceneCaptureType | Standard |
SceneType | Directly photographed |
SensingMethod | One-chip color area |
Shadows | 5 |
ShadowTint | 0 |
Sharpness (2) | 25 |
Sharpness | Normal |
ShutterSpeed | 1/1000 |
ShutterSpeedValue | 1/1000 |
Software | Ver.1.00 |
SplitToningBalance | 0 |
SplitToningHighlightHue | 0 |
SplitToningHighlightSaturation | 0 |
SplitToningShadowHue | 0 |
SplitToningShadowSaturation | 0 |
Subject | d80 |
SubjectDistanceRange | Unknown |
Tint | +5 |
ToneCurve | 0, 0, 32, 22, 64, 56, 128, 128, 192, 196, 255, 255 |
ToneCurveName | Medium Contrast |
Version | 1.0 |
Vibrance | 0 |
VignetteAmount | 0 |
WebStatement | sjurfoto.googlepages.com |
WhiteBalance (2) | Custom |
WhiteBalance | Auto |