Felt | Verdi |
AlreadyApplied | True |
Aperture | 5.6 |
ApertureValue | 5.6 |
Artist | Kjetil Greger Pedersen |
BitsPerSample | 8 |
BlueHue | 0 |
BlueSaturation | 0 |
Brightness | +50 |
By-line | Kjetil Greger Pedersen |
CameraProfile | ACR 2.4 |
ChromaticAberrationB | 0 |
ChromaticAberrationR | 0 |
CircleOfConfusion | 0.019 mm |
City | Askøy |
ColorComponents | 3 |
ColorMode | RGB |
ColorNoiseReduction | 25 |
ColorSpace | sRGB |
ColorTemperature | 5412 |
Contrast | +25 |
ConvertToGrayscale | False |
Copyright | Kjetil Greger Pedersen |
CopyrightFlag | True |
CopyrightNotice | Kjetil Greger Pedersen |
Country | Norway |
Country-PrimaryLocationName | Norway |
CountryCode | 47 |
CreateDate (1) | 2007:06:02 15:15:14+02:00 |
CreateDate | 2007:05:17 17:43:36 |
Creator | Kjetil Greger Pedersen |
CreatorContactInfo | |
CreatorTool | Adobe Photoshop CS3 Windows |
CropAngle | 0 |
CropBottom | 0.943925 |
CropHeight | 2403 |
CropLeft | 0.164589 |
CropRight | 0.955112 |
CropTop | 0.130841 |
CropUnit | pixels |
CropWidth | 3504 |
CustomRendered | Normal |
DateTimeDigitized | 2007:05:17 17:43:36+02:00 |
DateTimeOriginal (1) | 2007:05:17 17:43:36+02:00 |
DateTimeOriginal | 2007:05:17 17:43:36 |
DerivedFrom | |
ExifImageHeight | 549 |
ExifImageWidth | 800 |
Exposure | 0.00 |
ExposureCompensation | -1/3 |
ExposureMode | Auto |
ExposureProgram | Aperture-priority AE |
ExposureTime | 1/1000 |
FillLight | 33 |
Firmware | 2.0.3 |
Flash | Off, Did not fire |
FlashCompensation | 0 |
FlashFired | False |
FlashFunction | False |
FlashMode | Off |
FlashRedEyeMode | False |
FlashReturn | No return detection |
FNumber | 5.6 |
FocalLength | 400.0 mm |
FocalLength35efl | 400.0 mm (35 mm equivalent: 640.6 mm) |
Format | image/jpeg |
FOV | 3.2 deg |
GreenHue | 0 |
GreenSaturation | 0 |
HasCrop | True |
HasSettings | True |
HighlightRecovery | 0 |
HueAdjustmentAqua | 0 |
HueAdjustmentBlue | 0 |
HueAdjustmentGreen | 0 |
HueAdjustmentMagenta | 0 |
HueAdjustmentOrange | 0 |
HueAdjustmentPurple | 0 |
HueAdjustmentRed | 0 |
HueAdjustmentYellow | 0 |
HyperfocalDistance | 1522.88 m |
ICCProfileName | sRGB IEC61966-2.1 |
ImageHeight (1) | 2403 |
ImageHeight | 549 |
ImageNumber | 217 |
ImageSize | 800x549 |
ImageWidth (1) | 3504 |
ImageWidth | 800 |
ISO | 100 |
Keywords | Animalia, Aves, Birds, Charadriidae, Charadriiformes, Chordata, Flying, Seabirds, Vanellus vanellus, Vertebrata, Vipe, lofamilien, ryggstrengdyr, sjøfugl |
Lens | 100.0-400.0 mm |
LensInfo | 100-400mm f/? |
LightValue | 14.9 |
Location | Herdla |
LuminanceAdjustmentAqua | 0 |
LuminanceAdjustmentBlue | 0 |
LuminanceAdjustmentGreen | 0 |
LuminanceAdjustmentMagenta | 0 |
LuminanceAdjustmentOrange | 0 |
LuminanceAdjustmentPurple | 0 |
LuminanceAdjustmentRed | 0 |
LuminanceAdjustmentYellow | 0 |
LuminanceSmoothing | 0 |
Make | Canon |
Marked | True |
Megapixels | 0.439 |
MeteringMode | Multi-segment |
Model | Canon EOS 20D |
ModifyDate (1) | 2007:06:02 15:15:57+02:00 |
ModifyDate | 2007:06:02 15:15:57 |
Orientation | Horizontal (normal) |
OwnerName | Ariel Foto as |
ParametricDarks | 0 |
ParametricHighlights | 0 |
ParametricHighlightSplit | 75 |
ParametricLights | 0 |
ParametricMidtoneSplit | 50 |
ParametricShadows | 0 |
ParametricShadowSplit | 25 |
ProfileDescription | sRGB IEC61966-2.1 |
Province-State | Hordaland |
RedHue | 0 |
RedSaturation | 0 |
Rights | Kjetil Greger Pedersen |
Saturation | +11 |
SaturationAdjustmentAqua | +53 |
SaturationAdjustmentBlue | +53 |
SaturationAdjustmentGreen | 0 |
SaturationAdjustmentMagenta | 0 |
SaturationAdjustmentOrange | 0 |
SaturationAdjustmentPurple | 0 |
SaturationAdjustmentRed | 0 |
SaturationAdjustmentYellow | 0 |
ScaleFactor35efl | 1.6 |
SceneCaptureType | Standard |
SerialNumber | 1430910402 |
Shadows | 5 |
ShadowTint | 0 |
Sharpness | 25 |
ShutterSpeed | 1/1000 |
ShutterSpeedValue | 1/1000 |
Software | Adobe Photoshop CS3 Windows |
SplitToningBalance | 0 |
SplitToningHighlightHue | 0 |
SplitToningHighlightSaturation | 0 |
SplitToningShadowHue | 0 |
SplitToningShadowSaturation | 0 |
State | Hordaland |
Sub-location | Herdla |
Subject | Animalia, Aves, Birds, Charadriidae, Charadriiformes, Chordata, Flying, Seabirds, Vanellus vanellus, Vertebrata, Vipe, lofamilien, ryggstrengdyr, sjøfugl |
Tint | +16 |
ToneCurve | 0, 0, 32, 22, 64, 56, 128, 128, 192, 196, 255, 255 |
ToneCurveName | Medium Contrast |
URL | www.dolphinsmind.com/greg/copyright/ |
URL_List | |
Version | 1.0 |
Vibrance | +6 |
VignetteAmount | 0 |
WebStatement | www.dolphinsmind.com/greg/copyright/ |
WhiteBalance (2) | Custom |
WhiteBalance | Auto |