Felt | Verdi |
2023-12-22T00:35:25+01:00 File 2023_Iphone_ny-827-5225.psd saved
2023-12-22T00:35:31+01:00 File Skjermbilde 2023-12-22 kl. 00.32.05.png closed
2023-12-22T00:47:36+01:00 File 2023_Iphone_ny-827-5225.psd saved
AlreadyApplied | True |
Aperture | 2.2 |
ApertureValue | 2.2 |
Artist | Igor Kostin |
AutoLateralCA | 0 |
BitsPerSample | 8 |
Blacks2012 | 0 |
BlueHue | 0 |
BlueSaturation | 0 |
BrightnessValue | 10.07384503 |
By-line | Igor Kostin |
CameraProfile | Embedded |
CircleOfConfusion | 0.004 mm |
City | Kilmacanogue |
Clarity2012 | 0 |
ColorComponents | 3 |
ColorGradeBlending | 50 |
ColorGradeGlobalHue | 0 |
ColorGradeGlobalLum | 0 |
ColorGradeGlobalSat | 0 |
ColorGradeHighlightLum | 0 |
ColorGradeMidtoneHue | 0 |
ColorGradeMidtoneLum | 0 |
ColorGradeMidtoneSat | 0 |
ColorGradeShadowLum | 0 |
ColorNoiseReduction | 0 |
ColorSpace | Uncalibrated |
ColorTransform | YCbCr |
CompatibleVersion | 251658240 |
Contrast2012 | 0 |
ConvertToGrayscale | False |
Copyright | All rights reserved |
CopyrightFlag | True |
CopyrightNotice | All rights reserved |
Country | Ireland |
Country-PrimaryLocationCode | IE |
Country-PrimaryLocationName | Ireland |
CountryCode | IE |
CreateDate (1) | 2023:09:02 11:20:17.958+01:00 |
CreateDate | 2023:09:02 11:20:17 |
Creator | Igor Kostin |
CreatorCity | Bodø |
CreatorCountry | Norway |
CreatorTool | Adobe Photoshop Lightroom Classic 13.0.2 (Macintosh) |
CropAngle | 0 |
CropBottom | 1 |
CropConstrainToWarp | 0 |
CropLeft | 0 |
CropRight | 1 |
CropTop | 0 |
DateCreated (1) | 2023:09:02 |
DateCreated | 2023:09:02 11:20:17.958+01:00 |
DateTimeOriginal | 2023:09:02 11:20:17 |
DefringeGreenAmount | 0 |
DefringeGreenHueHi | 60 |
DefringeGreenHueLo | 40 |
DefringePurpleAmount | 0 |
DefringePurpleHueHi | 70 |
DefringePurpleHueLo | 30 |
Dehaze | 0 |
DigitalZoomRatio | 1.375796178 |
Exposure2012 | 0.00 |
ExposureCompensation | 0 |
ExposureMode | Auto |
ExposureProgram | Program AE |
ExposureTime | 1/2100 |
Flash | Off, Did not fire |
FNumber | 2.2 |
FocalLength | 2.2 mm |
FocalLength35efl | 2.2 mm (35 mm equivalent: 19.0 mm) |
FocalLengthIn35mmFormat | 19 mm |
Format | image/jpeg |
FOV | 86.9 deg |
GPSAltitude (1) | 63.51549053 m |
GPSAltitude | 63.5 m Above Sea Level |
GPSAltitudeRef | Above Sea Level |
GPSDestBearing | 104.0325851 |
GPSDestBearingRef | True North |
GPSHPositioningError | 33.23520782 m |
GPSImgDirection | 104.0325851 |
GPSImgDirectionRef | True North |
GPSLatitude (1) | 53 deg 10' 48.89" |
GPSLatitude | 53 deg 10' 48.89" N |
GPSLatitudeRef | North |
GPSLongitude (1) | 6 deg 5' 58.43" |
GPSLongitude | 6 deg 5' 58.43" W |
GPSLongitudeRef | West |
GPSPosition | 53 deg 10' 48.89" N, 6 deg 5' 58.43" W |
GPSSpeed | 0 |
GPSSpeedRef | km/h |
GrainAmount | 0 |
GreenHue | 0 |
GreenSaturation | 0 |
HasCrop | False |
HasSettings | True |
HDREditMode | 0 |
Highlights2012 | 0 |
HueAdjustmentAqua | 0 |
HueAdjustmentBlue | 0 |
HueAdjustmentGreen | 0 |
HueAdjustmentMagenta | 0 |
HueAdjustmentOrange | 0 |
HueAdjustmentPurple | 0 |
HueAdjustmentRed | 0 |
HueAdjustmentYellow | 0 |
HyperfocalDistance | 0.64 m |
ImageHeight | 2048 |
ImageSize | 1879x2048 |
ImageWidth | 1879 |
IncrementalTemperature | 0 |
IncrementalTint | 0 |
ISO | 40 |
Keywords | 2022, @igorkostin74, Bodø, Canon, CanonEOSR, Digital, Landscape, Natur, Nordland, Norge, Norway, Sørfold, exposure, travel |
Lens | iPhone 14 Pro back triple camera 2.22mm f/2.2 |
LensInfo (1) | 2.22-9mm f/1.77999997138807-2.8 |
LensInfo | 2.22-9mm f/1.779999971-2.8 |
LensMake | Apple |
LensManualDistortionAmount | 0 |
LensModel | iPhone 14 Pro back triple camera 2.22mm f/2.2 |
LensProfileEnable | 0 |
LightValue | 14.6 |
Location | Kilruddery Demesne West |
LuminanceAdjustmentAqua | 0 |
LuminanceAdjustmentBlue | 0 |
LuminanceAdjustmentGreen | 0 |
LuminanceAdjustmentMagenta | 0 |
LuminanceAdjustmentOrange | 0 |
LuminanceAdjustmentPurple | 0 |
LuminanceAdjustmentRed | 0 |
LuminanceAdjustmentYellow | 0 |
LuminanceSmoothing | 0 |
Make | Apple |
Marked | True |
Megapixels | 3.8 |
MeteringMode | Spot |
Model | iPhone 14 Pro |
ModifyDate (1) | 2023:12:22 00:57:52+01:00 |
ModifyDate | 2023:12:22 00:57:52 |
OverrideLookVignette | False |
ParametricDarks | 0 |
ParametricHighlights | 0 |
ParametricHighlightSplit | 75 |
ParametricLights | 0 |
ParametricMidtoneSplit | 50 |
ParametricShadows | 0 |
ParametricShadowSplit | 25 |
PerspectiveAspect | 0 |
PerspectiveHorizontal | 0 |
PerspectiveRotate | 0.0 |
PerspectiveScale | 100 |
PerspectiveUpright | 0 |
PerspectiveVertical | 0 |
PerspectiveX | 0.00 |
PerspectiveY | 0.00 |
PostCropVignetteAmount | 0 |
PreservedFileName | IMG_1385.HEIC |
ProcessVersion | 15.4 |
ProfileDescription | Display P3 |
Province-State | Wicklow |
Rating | 5 |
RawFileName | 2023_Iphone_ny-827-5225.psd |
RedHue | 0 |
RedSaturation | 0 |
Rights | All rights reserved |
Saturation | 0 |
SaturationAdjustmentAqua | 0 |
SaturationAdjustmentBlue | 0 |
SaturationAdjustmentGreen | 0 |
SaturationAdjustmentMagenta | 0 |
SaturationAdjustmentOrange | 0 |
SaturationAdjustmentPurple | 0 |
SaturationAdjustmentRed | 0 |
SaturationAdjustmentYellow | 0 |
ScaleFactor35efl | 8.6 |
SceneType | Directly photographed |
SensingMethod | One-chip color area |
Shadows2012 | 0 |
ShadowTint | 0 |
Sharpness | 0 |
ShutterSpeed | 1/2100 |
ShutterSpeedValue | 1/2100 |
Software | Adobe Photoshop Lightroom Classic 13.0.2 (Macintosh) |
SplitToningBalance | 0 |
SplitToningHighlightHue | 0 |
SplitToningHighlightSaturation | 0 |
SplitToningShadowHue | 0 |
SplitToningShadowSaturation | 0 |
State | Wicklow |
Sub-location | Kilruddery Demesne West |
Subject | 2022, @igorkostin74, Bodø, Canon, CanonEOSR, Digital, Landscape, Natur, Nordland, Norge, Norway, Sørfold, exposure, travel |
SubjectArea | 1376 1296 755 753 |
Texture | 0 |
ToneCurveName2012 | Linear |
ToneCurvePV2012 | 0, 0, 255, 255 |
ToneCurvePV2012Blue | 0, 0, 255, 255 |
ToneCurvePV2012Green | 0, 0, 255, 255 |
ToneCurvePV2012Red | 0, 0, 255, 255 |
UsageTerms | Please contact |
Version | 16.0 |
Vibrance | 0 |
VignetteAmount | 0 |
WeightedFlatSubject | 2022, Bodø, Norway, @igorkostin74, Landscape, Norge, CanonEOSR, Nordland, Natur, travel, Sørfold, Canon, Digital, exposure |
WhiteBalance (1) | As Shot |
WhiteBalance | Auto |
Whites2012 | 0 |