Felt | Verdi |
2023-06-23T18:27:54+02:00 File 20230125_GranCa-028-5117.psd saved
2023-06-23T18:41:46+02:00 File 20230125_GranCa-028-5117-5119.tif opened
2023-06-23T18:47:31+02:00 File 20230125_GranCa-028-5117-5119-5120.psd saved
AlreadyApplied | True |
Aperture | 9.0 |
ApertureValue | 9.0 |
ApproximateFocusDistance | 4294967295 |
Artist | Igor Kostin |
AutoLateralCA | 0 |
BitsPerSample | 8 |
Blacks2012 | +14 |
BlueHue | 0 |
BlueSaturation | 0 |
By-line | Igor Kostin |
CameraProfile | Embedded |
CircleOfConfusion | 0.009 mm |
Clarity2012 | +5 |
ColorComponents | 3 |
ColorGradeBlending | 40 |
ColorGradeGlobalHue | 0 |
ColorGradeGlobalLum | 0 |
ColorGradeGlobalSat | 0 |
ColorGradeHighlightLum | +3 |
ColorGradeMidtoneHue | 198 |
ColorGradeMidtoneLum | +64 |
ColorGradeMidtoneSat | 5 |
ColorGradeShadowLum | +7 |
ColorNoiseReduction | 0 |
ColorSpace | Uncalibrated |
ColorTransform | YCbCr |
Contrast2012 | 0 |
ConvertToGrayscale | False |
Copyright | All rights reserved |
CopyrightFlag | True |
CopyrightNotice | All rights reserved |
CreateDate (1) | 2023:01:26 23:43:12Z |
CreateDate | 2023:01:26 23:43:12 |
Creator | Igor Kostin |
CreatorCity | Bodø |
CreatorCountry | Norway |
CreatorTool | Adobe Photoshop Lightroom Classic 12.3 (Macintosh) |
CropAngle | 0 |
CropBottom | 1 |
CropConstrainToWarp | 0 |
CropLeft | 0.012807 |
CropRight | 0.986081 |
CropTop | 0.042492 |
CustomRendered | Normal |
DateCreated (1) | 2023:01:26 |
DateCreated | 2023:01:26 23:43:12 |
DateTimeOriginal | 2023:01:26 23:43:12 |
DefringeGreenAmount | 0 |
DefringeGreenHueHi | 60 |
DefringeGreenHueLo | 40 |
DefringePurpleAmount | 0 |
DefringePurpleHueHi | 70 |
DefringePurpleHueLo | 30 |
Dehaze | 0 |
DistortionCorrectionAlreadyApplied | True |
DOF | inf (14.94 m - inf) |
Exposure2012 | 0.00 |
ExposureCompensation | 0 |
ExposureMode | Manual |
ExposureProgram | Manual |
ExposureTime | 1/400 |
Firmware | 1.7.0 |
Flash | No Flash |
FlashCompensation | 0 |
FNumber | 9.0 |
FocalLength | 35.0 mm |
FocalLength35efl | 35.0 mm (35 mm equivalent: 115.4 mm) |
Format | image/jpeg |
FOV | 17.7 deg |
GrainAmount | 0 |
GreenHue | 0 |
GreenSaturation | 0 |
HasCrop | True |
HasSettings | True |
Highlights2012 | 0 |
HueAdjustmentAqua | -5 |
HueAdjustmentBlue | -23 |
HueAdjustmentGreen | +5 |
HueAdjustmentMagenta | -18 |
HueAdjustmentOrange | +5 |
HueAdjustmentPurple | -91 |
HueAdjustmentRed | +9 |
HueAdjustmentYellow | -14 |
HyperfocalDistance | 14.94 m |
ImageHeight | 1343 |
ImageNumber | 0 |
ImageSize | 2048x1343 |
ImageWidth | 2048 |
IncrementalTemperature | 0 |
IncrementalTint | 0 |
ISO | 100 |
Keywords | 2022, @igorkostin74, Bodø, Canon, CanonEOSR, Digital, Landscape, Natur, Nordland, Norge, Norway, Sørfold, exposure, travel |
LateralChromaticAberrationCorrectionAlreadyApplied | True |
Lens | RF35mm F1.8 MACRO IS STM |
LensID (1) | 61182 |
LensID | Canon RF 35mm F1.8 Macro IS STM |
LensInfo | 35mm f/? |
LensManualDistortionAmount | 0 |
LensModel | RF35mm F1.8 MACRO IS STM |
LensProfileEnable | 0 |
LensSerialNumber | 0000000000 |
LightValue | 15.0 |
LuminanceAdjustmentAqua | -14 |
LuminanceAdjustmentBlue | -5 |
LuminanceAdjustmentGreen | +9 |
LuminanceAdjustmentMagenta | +9 |
LuminanceAdjustmentOrange | +14 |
LuminanceAdjustmentPurple | +55 |
LuminanceAdjustmentRed | +46 |
LuminanceAdjustmentYellow | +18 |
LuminanceSmoothing | 0 |
Make | Canon |
Marked | True |
MaxApertureValue | 1.8 |
Megapixels | 2.8 |
MeteringMode | Multi-segment |
Model | Canon EOS R |
ModifyDate (1) | 2023:06:23 18:52:09+02:00 |
ModifyDate | 2023:06:23 18:52:09 |
OverrideLookVignette | False |
ParametricDarks | 0 |
ParametricHighlights | 0 |
ParametricHighlightSplit | 75 |
ParametricLights | 0 |
ParametricMidtoneSplit | 50 |
ParametricShadows | 0 |
ParametricShadowSplit | 25 |
PerspectiveAspect | 0 |
PerspectiveHorizontal | 0 |
PerspectiveRotate | 0.0 |
PerspectiveScale | 100 |
PerspectiveUpright | 0 |
PerspectiveVertical | 0 |
PerspectiveX | 0.00 |
PerspectiveY | 0.00 |
PostCropVignetteAmount | 0 |
PreservedFileName | _Q3A9343.CR3 |
ProcessVersion | 11.0 |
ProfileDescription | Display P3 |
Rating | 5 |
RawFileName | 20230125_GranCa-028-5117-5119-5120.psd |
RecommendedExposureIndex | 100 |
RedHue | 0 |
RedSaturation | 0 |
Rights | All rights reserved |
Saturation | +9 |
SaturationAdjustmentAqua | +9 |
SaturationAdjustmentBlue | +18 |
SaturationAdjustmentGreen | -14 |
SaturationAdjustmentMagenta | -9 |
SaturationAdjustmentOrange | +14 |
SaturationAdjustmentPurple | -23 |
SaturationAdjustmentRed | +23 |
SaturationAdjustmentYellow | +9 |
ScaleFactor35efl | 3.3 |
SceneCaptureType | Standard |
SensitivityType | Recommended Exposure Index |
SerialNumber | 032021005303 |
Shadows2012 | 0 |
ShadowTint | 0 |
Sharpness | 0 |
ShutterSpeed | 1/400 |
ShutterSpeedValue | 1/400 |
Software | Adobe Photoshop Lightroom Classic 12.3 (Macintosh) |
SplitToningBalance | +40 |
SplitToningHighlightHue | 50 |
SplitToningHighlightSaturation | 11 |
SplitToningShadowHue | 0 |
SplitToningShadowSaturation | 0 |
Subject | 2022, @igorkostin74, Bodø, Canon, CanonEOSR, Digital, Landscape, Natur, Nordland, Norge, Norway, Sørfold, exposure, travel |
Texture | -5 |
ToneCurveName2012 | Custom |
ToneCurvePV2012 | 0, 0, 58, 64, 191, 182, 255, 255 |
ToneCurvePV2012Blue | 0, 0, 70, 64, 134, 135, 196, 196, 255, 255 |
ToneCurvePV2012Green | 0, 0, 255, 255 |
ToneCurvePV2012Red | 0, 0, 255, 255 |
UsageTerms | Please contact |
Version | 15.3 |
Vibrance | +18 |
VignetteAmount | 0 |
VignetteCorrectionAlreadyApplied | True |
Virtualpaths | kywd:||Bodø|, kywd:||Norge|, kywd:||Digital|, kywd:||2022|, kywd:||Natur|, kywd:||@igorkostin74|, kywd:||Nordland|, kywd:||Norway|, kywd:||Landskap|, kywd:||Sørfold|, kywd:||Landscape|, kywd:||travel|, kywd:||Canon|, kywd:||CanonEOSR|, kywd:||exposure| |
WeightedFlatSubject | 2022, @igorkostin74, Bodø, Canon, CanonEOSR, Digital, Landscape, Natur, Nordland, Norge, Norway, Sørfold, exposure, travel |
WhiteBalance (1) | As Shot |
WhiteBalance | Auto |
Whites2012 | 0 |