Felt | Verdi |
AlreadyApplied | True |
Aperture | 2.4 |
ApertureValue | 2.4 |
AutoLateralCA | 0 |
BitsPerSample | 8 |
Blacks2012 | 0 |
BlueHue | 0 |
BlueSaturation | 0 |
BrightnessValue | 28.65 |
CameraProfile | Embedded |
CircleOfConfusion | 0.005 mm |
Clarity2012 | +10 |
ColorComponents | 3 |
ColorNoiseReduction | 0 |
ColorSpace | sRGB |
ColorTransform | YCbCr |
Contrast2012 | 0 |
ConvertToGrayscale | True |
CreateDate | 2020:04:04 14:07:38 |
CreatorTool | Adobe Photoshop Lightroom Classic 9.2 (Windows) |
DateCreated (1) | 2020:04:04 |
DateCreated | 2020:04:04 14:07:38 |
DateTimeOriginal | 2020:04:04 14:07:38 |
Dehaze | 0 |
DigitalZoomRatio | 1 |
Exposure2012 | 0.00 |
ExposureCompensation | 0 |
ExposureMode | Auto |
ExposureProgram | Program AE |
ExposureTime | 1/6900 |
Flash | No Flash |
FNumber | 2.4 |
FocalLength | 4.3 mm |
FocalLength35efl | 4.3 mm (35 mm equivalent: 26.0 mm) |
FocalLengthIn35mmFormat | 26 mm |
Format | image/jpeg |
FOV | 69.4 deg |
GrainAmount | 0 |
GrayMixerAqua | 0 |
GrayMixerBlue | -20 |
GrayMixerGreen | +20 |
GrayMixerMagenta | 0 |
GrayMixerOrange | 0 |
GrayMixerPurple | -11 |
GrayMixerRed | 0 |
GrayMixerYellow | +10 |
GreenHue | 0 |
GreenSaturation | 0 |
HasCrop | False |
HasSettings | True |
Highlights2012 | 0 |
HyperfocalDistance | 1.56 m |
ImageHeight | 1200 |
ImageSize | 960x1200 |
ImageWidth | 960 |
IncrementalTemperature | 0 |
IncrementalTint | 0 |
ISO | 50 |
LensManualDistortionAmount | 0 |
LensProfileEnable | 0 |
LensProfileSetup | LensDefaults |
LightValue | 16.3 |
LookAmount | 0.800000 |
LookCluster | Adobe |
LookGroup | B&W |
LookName | B&W 04 |
LookParametersClarity2012 | +8 |
LookParametersContrast2012 | +8 |
LookParametersConvertToGrayscale | True |
LookParametersLookTable | AC0E24EFC658D3BD29B430044AE2FB7C |
LookParametersProcessVersion | 11.0 |
LookParametersToneCurvePV2012 | 0, 0, 17, 10, 34, 24, 51, 41, 68, 63, 85, 89, 102, 116, 119, 143, 136, 169, 153, 193, 170, 212, 187, 228, 204, 239, 221, 246, 238, 251, 255, 255 |
LookParametersToneCurvePV2012Blue | 0, 0, 255, 255 |
LookParametersToneCurvePV2012Green | 0, 0, 255, 255 |
LookParametersToneCurvePV2012Red | 0, 0, 255, 255 |
LookParametersVersion | 12.2 |
LookSortName | B&W 04 |
LookSupportsMonochrome | false |
LuminanceSmoothing | 0 |
Make | samsung |
MaxApertureValue | 2.4 |
Megapixels | 1.2 |
MeteringMode | Center-weighted average |
MicroVideo | 1 |
MicroVideoOffset | 4531697 |
MicroVideoPresentationTimestampUs | -1 |
MicroVideoVersion | 1 |
Model | SM-G975F |
ModifyDate (1) | 2020:04:05 19:42:00+02:00 |
ModifyDate | 2020:04:05 19:42:00 |
OverrideLookVignette | False |
ParametricDarks | 0 |
ParametricHighlights | 0 |
ParametricHighlightSplit | 75 |
ParametricLights | 0 |
ParametricMidtoneSplit | 50 |
ParametricShadows | 0 |
ParametricShadowSplit | 25 |
PerspectiveAspect | 0 |
PerspectiveHorizontal | 0 |
PerspectiveRotate | 0.0 |
PerspectiveScale | 100 |
PerspectiveUpright | 0 |
PerspectiveVertical | 0 |
PerspectiveX | 0.00 |
PerspectiveY | 0.00 |
PostCropVignetteAmount | 0 |
PreservedFileName | 20200404_140739.jpg |
ProcessVersion | 11.0 |
ProfileDescription | sRGB IEC61966-2.1 |
RawFileName | |
RedHue | 0 |
RedSaturation | 0 |
ScaleFactor35efl | 6.0 |
SceneCaptureType | Standard |
Shadows2012 | 0 |
ShadowTint | 0 |
SharpenDetail | 25 |
SharpenEdgeMasking | 0 |
SharpenRadius | +1.0 |
Sharpness | 0 |
ShutterSpeed | 1/6900 |
ShutterSpeedValue | 1/6900 |
Software | Adobe Photoshop Lightroom Classic 9.2 (Windows) |
SplitToningBalance | 0 |
SplitToningHighlightHue | 0 |
SplitToningHighlightSaturation | 0 |
SplitToningShadowHue | 0 |
SplitToningShadowSaturation | 0 |
Texture | 0 |
ToneCurve | 0, 0, 255, 255 |
ToneCurveBlue | 0, 0, 255, 255 |
ToneCurveGreen | 0, 0, 255, 255 |
ToneCurveName | Linear |
ToneCurveName2012 | Linear |
ToneCurvePV2012 | 0, 0, 255, 255 |
ToneCurvePV2012Blue | 0, 0, 255, 255 |
ToneCurvePV2012Green | 0, 0, 255, 255 |
ToneCurvePV2012Red | 0, 0, 255, 255 |
ToneCurveRed | 0, 0, 255, 255 |
ToneMapStrength | 0 |
Version | 12.2 |
VignetteAmount | 0 |
WhiteBalance (1) | As Shot |
WhiteBalance | Auto |
Whites2012 | 0 |