Felt | Verdi |
AlreadyApplied | True |
Aperture | 8.0 |
ApertureValue | 8.0 |
Artist | GEIR BRAATHEN |
AutoLateralCA | 1 |
BitsPerSample | 8 |
Blacks2012 | 0 |
BlueHue | 0 |
BlueSaturation | 0 |
BrightnessValue | 7.17 |
By-line | GEIR BRAATHEN |
CameraProfile | Camera Velvia/VIVID |
CircleOfConfusion | 0.038 mm |
Clarity2012 | 0 |
ColorComponents | 3 |
ColorGradeBlending | 50 |
ColorGradeGlobalHue | 0 |
ColorGradeGlobalLum | 0 |
ColorGradeGlobalSat | 0 |
ColorGradeHighlightLum | 0 |
ColorGradeMidtoneHue | 0 |
ColorGradeMidtoneLum | 0 |
ColorGradeMidtoneSat | 0 |
ColorGradeShadowLum | 0 |
ColorNoiseReduction | 25 |
ColorNoiseReductionDetail | 50 |
ColorNoiseReductionSmoothness | 50 |
ColorSpace | Uncalibrated |
ColorTemperature | 5500 |
ColorTransform | YCbCr |
Contrast2012 | +17 |
ConvertToGrayscale | False |
Copyright | GEIR BRAATHEN |
CopyrightNotice | GEIR BRAATHEN |
CreateDate | 2021:05:02 11:19:37 |
Creator | GEIR BRAATHEN |
CreatorTool | Adobe Photoshop Lightroom Classic 10.2 (Macintosh) |
CropAngle | 1.51907 |
CropBottom | 1 |
CropConstrainToWarp | 0 |
CropLeft | 0.016099 |
CropRight | 0.983901 |
CropTop | 0.155797 |
CustomRendered | Normal |
DateCreated (1) | 2021:05:02 |
DateCreated | 2021:05:02 11:19:37 |
DateTimeOriginal | 2021:05:02 11:19:37 |
DefringeGreenAmount | 0 |
DefringeGreenHueHi | 60 |
DefringeGreenHueLo | 40 |
DefringePurpleAmount | 0 |
DefringePurpleHueHi | 70 |
DefringePurpleHueLo | 30 |
Dehaze | 0 |
DistortionCorrectionAlreadyApplied | True |
Exposure2012 | 0.00 |
ExposureCompensation | +1.33 |
ExposureMode | Auto bracket |
ExposureProgram | Aperture-priority AE |
ExposureTime | 1/200 |
Flash | No Flash |
FNumber | 8.0 |
FocalLength | 32.0 mm |
FocalLength35efl | 32.0 mm (35 mm equivalent: 25.0 mm) |
FocalLengthIn35mmFormat | 25 mm |
Format | image/jpeg |
FOV | 71.5 deg |
FujiRatingAlreadyApplied | True |
GrainAmount | 0 |
GreenHue | 0 |
GreenSaturation | 0 |
HasCrop | True |
HasSettings | True |
Highlights2012 | -100 |
HueAdjustmentAqua | 0 |
HueAdjustmentBlue | 0 |
HueAdjustmentGreen | 0 |
HueAdjustmentMagenta | 0 |
HueAdjustmentOrange | 0 |
HueAdjustmentPurple | 0 |
HueAdjustmentRed | 0 |
HueAdjustmentYellow | 0 |
HyperfocalDistance | 3.33 m |
ImageHeight | 1580 |
ImageSize | 2560x1580 |
ImageWidth | 2560 |
ISO | 800 |
LateralChromaticAberrationCorrectionAlreadyApplied | True |
Lens | GF32-64mmF4 R LM WR |
LensInfo | 32-64mm f/4 |
LensMake | FUJIFILM |
LensManualDistortionAmount | 0 |
LensModel | GF32-64mmF4 R LM WR |
LensProfileEnable | 0 |
LensSerialNumber | 98C00495 |
LightSource | Unknown |
LightValue | 10.6 |
LuminanceAdjustmentAqua | 0 |
LuminanceAdjustmentBlue | 0 |
LuminanceAdjustmentGreen | 0 |
LuminanceAdjustmentMagenta | 0 |
LuminanceAdjustmentOrange | 0 |
LuminanceAdjustmentPurple | 0 |
LuminanceAdjustmentRed | 0 |
LuminanceAdjustmentYellow | 0 |
LuminanceSmoothing | 0 |
Make | FUJIFILM |
MaxApertureValue | 4.0 |
Megapixels | 4.0 |
MeteringMode | Multi-segment |
Model | GFX 50S |
ModifyDate (1) | 2021:05:02 16:04:31+02:00 |
ModifyDate | 2021:05:02 16:04:31 |
OverrideLookVignette | False |
ParametricDarks | 0 |
ParametricHighlights | 0 |
ParametricHighlightSplit | 75 |
ParametricLights | 0 |
ParametricMidtoneSplit | 50 |
ParametricShadows | 0 |
ParametricShadowSplit | 25 |
PerspectiveAspect | 0 |
PerspectiveHorizontal | 0 |
PerspectiveRotate | 0.0 |
PerspectiveScale | 100 |
PerspectiveUpright | 0 |
PerspectiveVertical | 0 |
PerspectiveX | 0.00 |
PerspectiveY | 0.00 |
PostCropVignetteAmount | 0 |
PreservedFileName | GFXX4332.RAF |
ProcessVersion | 11.0 |
ProfileDescription | Display P3 |
RawFileName | GFXX4332.RAF |
RedHue | 0 |
RedSaturation | 0 |
Rights | GEIR BRAATHEN |
Saturation | 0 |
SaturationAdjustmentAqua | 0 |
SaturationAdjustmentBlue | 0 |
SaturationAdjustmentGreen | 0 |
SaturationAdjustmentMagenta | 0 |
SaturationAdjustmentOrange | 0 |
SaturationAdjustmentPurple | 0 |
SaturationAdjustmentRed | 0 |
SaturationAdjustmentYellow | 0 |
ScaleFactor35efl | 0.8 |
SceneCaptureType | Standard |
SceneType | Directly photographed |
SensingMethod | One-chip color area |
SensitivityType | Standard Output Sensitivity |
SerialNumber | 71003652 |
Shadows2012 | 0 |
ShadowTint | 0 |
SharpenDetail | 25 |
SharpenEdgeMasking | 0 |
SharpenRadius | +1.0 |
Sharpness (1) | 40 |
Sharpness | Hard |
ShutterSpeed | 1/200 |
ShutterSpeedValue | 1/200 |
Software | Adobe Photoshop Lightroom Classic 10.2 (Macintosh) |
SplitToningBalance | 0 |
SplitToningHighlightHue | 0 |
SplitToningHighlightSaturation | 0 |
SplitToningShadowHue | 0 |
SplitToningShadowSaturation | 0 |
StandardOutputSensitivity | 800 |
SubjectDistanceRange | Unknown |
Texture | 0 |
Tint | +10 |
ToneCurveName2012 | Linear |
ToneCurvePV2012 | 0, 0, 255, 255 |
ToneCurvePV2012Blue | 0, 0, 255, 255 |
ToneCurvePV2012Green | 0, 0, 255, 255 |
ToneCurvePV2012Red | 0, 0, 255, 255 |
Version | 13.2 |
Vibrance | +32 |
VignetteAmount | 0 |
VignetteCorrectionAlreadyApplied | True |
WhiteBalance (1) | Daylight |
WhiteBalance | Auto |
Whites2012 | -39 |