Felt | Verdi |
AlreadyApplied | True |
Aperture | 7.1 |
ApertureValue | 7.1 |
AutoLateralCA | 1 |
BitsPerSample | 8 |
Blacks2012 | -32 |
BlueHue | 0 |
BlueSaturation | 0 |
BrightnessValue | -6.46328125 |
CameraProfile | Embedded |
CircleOfConfusion | 0.020 mm |
Clarity2012 | +14 |
ColorComponents | 3 |
ColorNoiseReduction | 40 |
ColorNoiseReductionDetail | 50 |
ColorNoiseReductionSmoothness | 50 |
ColorSpace | sRGB |
ColorTransform | YCbCr |
Contrast | Normal |
Contrast2012 | 0 |
ConvertToGrayscale | False |
CreateDate | 2019:12:18 17:44:09 |
CreatorTool | Adobe Photoshop Lightroom Classic 8.3.1 (Macintosh) |
CustomRendered | Normal |
DateCreated (1) | 2019:12:18 |
DateCreated | 2019:12:18 17:44:09 |
DateTimeOriginal | 2019:12:18 17:44:09 |
DefringeGreenAmount | 0 |
DefringeGreenHueHi | 60 |
DefringeGreenHueLo | 40 |
DefringePurpleAmount | 0 |
DefringePurpleHueHi | 70 |
DefringePurpleHueLo | 30 |
Dehaze | 0 |
DigitalZoomRatio | 1 |
Exposure2012 | 0.00 |
ExposureCompensation | 0 |
ExposureMode | Manual |
ExposureProgram | Manual |
ExposureTime | 1.3 |
Flash | Off, Did not fire |
FNumber | 7.1 |
FocalLength | 16.0 mm |
FocalLength35efl | 16.0 mm (35 mm equivalent: 24.0 mm) |
FocalLengthIn35mmFormat | 24 mm |
Format | image/jpeg |
FOV | 73.7 deg |
GrainAmount | 0 |
GreenHue | 0 |
GreenSaturation | 0 |
HasCrop | False |
HasSettings | True |
Highlights2012 | -46 |
HueAdjustmentAqua | 0 |
HueAdjustmentBlue | -16 |
HueAdjustmentGreen | 0 |
HueAdjustmentMagenta | 0 |
HueAdjustmentOrange | -100 |
HueAdjustmentPurple | -1 |
HueAdjustmentRed | 0 |
HueAdjustmentYellow | 0 |
HyperfocalDistance | 1.80 m |
ImageHeight | 5168 |
ImageSize | 3448x5168 |
ImageWidth | 3448 |
IncrementalTemperature | -7 |
IncrementalTint | +7 |
ISO | 320 |
LateralChromaticAberrationCorrectionAlreadyApplied | True |
Lens | FE 16-35mm F4 ZA OSS |
LensDistortInfo | 33268/32768 -66731481/1073741824 47501619/1073741824 -16338381/1073741824 |
LensInfo | 16-35mm f/4 |
LensManualDistortionAmount | 0 |
LensModel | FE 16-35mm F4 ZA OSS |
LensProfileChromaticAberrationScale | 100 |
LensProfileDistortionScale | 100 |
LensProfileEnable | 0 |
LensProfileFilename | DSLR-A700 (Sony DT 18-200mm f3.5-6.3).lcp |
LensProfileName | Adobe (Sony DT 18-200mm f/3.5-6.3) |
LensProfileSetup | Custom |
LensProfileVignettingScale | 100 |
LightSource | Unknown |
LightValue | 3.6 |
LookName | |
LuminanceAdjustmentAqua | +50 |
LuminanceAdjustmentBlue | +32 |
LuminanceAdjustmentGreen | 0 |
LuminanceAdjustmentMagenta | 0 |
LuminanceAdjustmentOrange | 0 |
LuminanceAdjustmentPurple | 0 |
LuminanceAdjustmentRed | 0 |
LuminanceAdjustmentYellow | +35 |
LuminanceSmoothing | 0 |
Make | SONY |
MaxApertureValue | 4.0 |
Megapixels | 17.8 |
MeteringMode | Multi-segment |
Model | ILCE-7RM2 |
ModifyDate (1) | 2019:12:19 13:49:46+01:00 |
ModifyDate | 2019:12:19 13:49:46 |
OverrideLookVignette | True |
PaintCorrectionActive | true |
PaintCorrectionAmount | 1.000000 |
PaintCorrectionBrightness | 0.000000 |
PaintCorrectionClarity2012 | 0.000000 |
PaintCorrectionContrast2012 (1) | 0.165516 |
PaintCorrectionContrast2012 | 0.000000 |
PaintCorrectionCorrectionRangeMaskColorAmount | 0.500000 |
PaintCorrectionCorrectionRangeMaskDepthFeather | 0.500000 |
PaintCorrectionCorrectionRangeMaskDepthMax | 1.000000 |
PaintCorrectionCorrectionRangeMaskDepthMin | 0.000000 |
PaintCorrectionCorrectionRangeMaskLumFeather | 0.500000 |
PaintCorrectionCorrectionRangeMaskLumMax | 1.000000 |
PaintCorrectionCorrectionRangeMaskLumMin | 0.000000 |
PaintCorrectionCorrectionRangeMaskType | 0 |
PaintCorrectionCorrectionRangeMaskVersion | +2 |
PaintCorrectionDefringe | 0.000000 |
PaintCorrectionExposure2012 (1) | -0.033430 |
PaintCorrectionExposure2012 (2) | 0.000000 |
PaintCorrectionExposure2012 (3) | 0.197129 |
PaintCorrectionExposure2012 (4) | 0.165153 |
PaintCorrectionExposure2012 | 0.144622 |
PaintCorrectionHighlights2012 (2) | -0.255451 |
PaintCorrectionHighlights2012 | 0.000000 |
PaintCorrectionHue | 0.000000 |
PaintCorrectionLocalBlacks2012 | 0.000000 |
PaintCorrectionLocalDehaze (4) | 0.000000 |
PaintCorrectionLocalDehaze | 0.120730 |
PaintCorrectionLocalTexture | 0.000000 |
PaintCorrectionLocalWhites2012 | 0.000000 |
PaintCorrectionLuminanceNoise | 0.000000 |
PaintCorrectionMaskCenterWeight | 0.000000 |
PaintCorrectionMaskFlow | 1.000000 |
PaintCorrectionMaskRadius (1) | 0.059428 |
PaintCorrectionMaskRadius (10) | 0.006382 |
PaintCorrectionMaskRadius (2) | 0.121691 |
PaintCorrectionMaskRadius (3) | 0.087113 |
PaintCorrectionMaskRadius (4) | 0.245854 |
PaintCorrectionMaskRadius (6) | 0.191620 |
PaintCorrectionMaskRadius (7) | 0.030732 |
PaintCorrectionMaskRadius (9) | 0.011778 |
PaintCorrectionMaskRadius | 0.004353 |
PaintCorrectionMaskValue (8) | 0.000000 |
PaintCorrectionMaskValue | 1.000000 |
PaintCorrectionMaskWhat | Mask/Paint |
PaintCorrectionMoire | 0.000000 |
PaintCorrectionSaturation (1) | 0.139353 |
PaintCorrectionSaturation | 0.000000 |
PaintCorrectionShadows2012 (1) | 0.494095 |
PaintCorrectionShadows2012 (3) | -0.099927 |
PaintCorrectionShadows2012 (4) | 0.576490 |
PaintCorrectionShadows2012 | 0.000000 |
PaintCorrectionSharpness (1) | 0.295967 |
PaintCorrectionSharpness | 0.000000 |
PaintCorrectionTemperature | 0.000000 |
PaintCorrectionTint | 0.000000 |
PaintCorrectionWhat | Correction |
ParametricDarks | 0 |
ParametricHighlights | 0 |
ParametricHighlightSplit | 75 |
ParametricLights | 0 |
ParametricMidtoneSplit | 50 |
ParametricShadows | 0 |
ParametricShadowSplit | 25 |
PerspectiveAspect | 0 |
PerspectiveHorizontal | 0 |
PerspectiveRotate | 0.0 |
PerspectiveScale | 100 |
PerspectiveUpright | 0 |
PerspectiveVertical | 0 |
PerspectiveX | 0.00 |
PerspectiveY | 0.00 |
PostCropVignetteAmount | -3 |
PostCropVignetteFeather | 50 |
PostCropVignetteHighlightContrast | 0 |
PostCropVignetteMidpoint | 50 |
PostCropVignetteRoundness | 0 |
PostCropVignetteStyle | 1 |
PreservedFileName | DSC01083.ARW |
ProcessVersion | 11.0 |
ProfileDescription | sRGB IEC61966-2.1 |
RawFileName | |
RecommendedExposureIndex | 320 |
RedHue | 0 |
RedSaturation | 0 |
Saturation (1) | 0 |
Saturation | Normal |
SaturationAdjustmentAqua | -100 |
SaturationAdjustmentBlue | -63 |
SaturationAdjustmentGreen | -66 |
SaturationAdjustmentMagenta | -1 |
SaturationAdjustmentOrange | -11 |
SaturationAdjustmentPurple | -16 |
SaturationAdjustmentRed | +20 |
SaturationAdjustmentYellow | -100 |
ScaleFactor35efl | 1.5 |
SceneCaptureType | Standard |
SceneType | Directly photographed |
SensitivityType | Recommended Exposure Index |
Shadows2012 | 0 |
ShadowTint | 0 |
SharpenDetail | 25 |
SharpenEdgeMasking | 95 |
SharpenRadius | +1.0 |
Sharpness (1) | 0 |
Sharpness | Normal |
ShutterSpeed | 1.3 |
ShutterSpeedValue | 1.3 |
Software | Adobe Photoshop Lightroom Classic 8.3.1 (Macintosh) |
SplitToningBalance | 0 |
SplitToningHighlightHue | 212 |
SplitToningHighlightSaturation | 4 |
SplitToningShadowHue | 229 |
SplitToningShadowSaturation | 9 |
Texture | 0 |
ToneCurve | 0, 0, 255, 255 |
ToneCurveBlue | 0, 0, 255, 255 |
ToneCurveGreen | 0, 0, 255, 255 |
ToneCurveName | Linear |
ToneCurveName2012 | Custom |
ToneCurvePV2012 | 1, 14, 60, 53, 95, 91, 148, 161, 206, 216, 255, 255 |
ToneCurvePV2012Blue | 0, 0, 255, 255 |
ToneCurvePV2012Green | 0, 0, 255, 255 |
ToneCurvePV2012Red | 0, 0, 255, 255 |
ToneCurveRed | 0, 0, 255, 255 |
ToneMapStrength | 0 |
Version | 11.3 |
Vibrance | +19 |
VignetteAmount | 0 |
WhiteBalance (1) | Custom |
WhiteBalance | Auto |
Whites2012 | +23 |