Felt | Verdi |
AlreadyApplied | True |
Aperture | 18.0 |
ApertureValue | 18.0 |
AutoLateralCA | 0 |
BitsPerSample | 8 |
Blacks2012 | 0 |
BlueHue | 0 |
BlueSaturation | 0 |
CameraProfile | Embedded |
CircleOfConfusion | 0.007 mm |
Clarity2012 | 0 |
ColorComponents | 3 |
ColorNoiseReduction | 0 |
ColorSpace | sRGB |
ColorTransform | YCbCr |
Contrast2012 | 0 |
ConvertToGrayscale | False |
CreateDate (1) | 2020:01:18 17:02:18.68 |
CreateDate | 2020:01:18 17:02:18 |
CreatorTool | Adobe Lightroom 5.1.0 (iOS) |
CustomRendered | Normal |
DateCreated (1) | 2020:01:18 17:02:18.68 |
DateCreated | 2020:01:18 |
DateTimeOriginal | 2020:01:18 17:02:18 |
DefringeGreenAmount | 0 |
DefringeGreenHueHi | 60 |
DefringeGreenHueLo | 40 |
DefringePurpleAmount | 0 |
DefringePurpleHueHi | 70 |
DefringePurpleHueLo | 30 |
Dehaze | 0 |
ExifImageHeight | 1365 |
ExifImageWidth | 2048 |
Exposure2012 | +0.13 |
ExposureCompensation | 0 |
ExposureMode | Manual |
ExposureProgram | Manual |
ExposureTime | 1.3 |
Firmware | 1.0.2 |
Flash | Off, Did not fire |
FlashCompensation | 0 |
FNumber | 18.0 |
FocalLength | 17.0 mm |
FocalLength35efl | 17.0 mm (35 mm equivalent: 72.9 mm) |
Format | image/jpeg |
FOV | 27.7 deg |
GradientBasedCorrActive | true |
GradientBasedCorrAmount | 1.000000 |
GradientBasedCorrBrightness | 0.000000 |
GradientBasedCorrClarity | 0.000000 |
GradientBasedCorrClarity2012 | 0.000000 |
GradientBasedCorrContrast | 0.000000 |
GradientBasedCorrContrast2012 | 0.093532 |
GradientBasedCorrCorrectionRangeMaskColorAmount | 0.500000 |
GradientBasedCorrCorrectionRangeMaskDepthFeather | 0.500000 |
GradientBasedCorrCorrectionRangeMaskDepthMax | 1.000000 |
GradientBasedCorrCorrectionRangeMaskDepthMin | 0.000000 |
GradientBasedCorrCorrectionRangeMaskLumFeather | 0.500000 |
GradientBasedCorrCorrectionRangeMaskLumMax | 1.000000 |
GradientBasedCorrCorrectionRangeMaskLumMin | 0.000000 |
GradientBasedCorrCorrectionRangeMaskType | 0 |
GradientBasedCorrCorrectionRangeMaskVersion | +2 |
GradientBasedCorrDefringe | 0.000000 |
GradientBasedCorrExposure | 0.000000 |
GradientBasedCorrExposure2012 | 0.086408 |
GradientBasedCorrHighlights2012 | 0.055540 |
GradientBasedCorrHue | 0.000000 |
GradientBasedCorrLocalBlacks2012 | 0.000000 |
GradientBasedCorrLocalDehaze | 0.102996 |
GradientBasedCorrLocalTexture | 0.000000 |
GradientBasedCorrLocalWhites2012 | 0.000000 |
GradientBasedCorrLuminanceNoise | 0.000000 |
GradientBasedCorrMaskCenterWeight | 0.133393 |
GradientBasedCorrMaskFlow | 0.502790 |
GradientBasedCorrMaskFullX | 0.706119 |
GradientBasedCorrMaskFullY | 0.314568 |
GradientBasedCorrMaskRadius | 0.085822 |
GradientBasedCorrMaskValue (1) | 1.000000 |
GradientBasedCorrMaskValue | 0.000000 |
GradientBasedCorrMaskWhat (1) | Mask/Gradient |
GradientBasedCorrMaskWhat | Mask/Paint |
GradientBasedCorrMaskZeroX | 0.685185 |
GradientBasedCorrMaskZeroY | 0.487316 |
GradientBasedCorrMoire | 0.000000 |
GradientBasedCorrSaturation (1) | 0.196629 |
GradientBasedCorrSaturation | 0.000000 |
GradientBasedCorrShadows2012 | 0.199251 |
GradientBasedCorrSharpness | 0.000000 |
GradientBasedCorrTemperature | 0.000000 |
GradientBasedCorrTint | 0.000000 |
GradientBasedCorrWhat | Correction |
GrainAmount | 0 |
GreenHue | 0 |
GreenSaturation | 0 |
HasCrop | False |
HasExtendedXMP | 0518A7EF0AD61614FCDF7202F2685CB0 |
HasSettings | True |
Highlights2012 | 0 |
HueAdjustmentAqua | 0 |
HueAdjustmentBlue | 0 |
HueAdjustmentGreen | 0 |
HueAdjustmentMagenta | 0 |
HueAdjustmentOrange | 0 |
HueAdjustmentPurple | 0 |
HueAdjustmentRed | 0 |
HueAdjustmentYellow | 0 |
HyperfocalDistance | 2.29 m |
ImageHeight | 1365 |
ImageNumber | 0 |
ImageSize | 2048x1365 |
ImageWidth | 2048 |
IncrementalTemperature | 0 |
IncrementalTint | 0 |
ISO | 160 |
Lens | 17-70mm |
LensID (1) | 137 |
LensID | Sigma 17-70mm f/2.8-4 DC Macro OS HSM | C |
LensInfo (1) | 17-70mm f/? |
LensInfo | 17-70mm f/0 |
LensManualDistortionAmount | 0 |
LensModel | 17-70mm |
LensProfileEnable | 0 |
LensProfileSetup | LensDefaults |
LensSerialNumber | 0000000000 |
LightValue | 7.3 |
LuminanceAdjustmentAqua | 0 |
LuminanceAdjustmentBlue | 0 |
LuminanceAdjustmentGreen | 0 |
LuminanceAdjustmentMagenta | 0 |
LuminanceAdjustmentOrange | 0 |
LuminanceAdjustmentPurple | 0 |
LuminanceAdjustmentRed | 0 |
LuminanceAdjustmentYellow | +33 |
LuminanceSmoothing | 0 |
Make | Canon |
MaxApertureValue | 2.8 |
Megapixels | 2.8 |
MeteringMode | Multi-segment |
Model | Canon EOS 7D Mark II |
ModifyDate (1) | 2020:01:27 04:24:28+01:00 |
ModifyDate | 2020:01:27 04:24:28 |
OverrideLookVignette | False |
PaintCorrectionActive | true |
PaintCorrectionAmount | 1.000000 |
PaintCorrectionBrightness | 0.000000 |
PaintCorrectionClarity | 0.000000 |
PaintCorrectionClarity2012 | 0.000000 |
PaintCorrectionContrast | 0.000000 |
PaintCorrectionContrast2012 (13) | 0.119516 |
PaintCorrectionContrast2012 (3) | 0.096393 |
PaintCorrectionContrast2012 (4) | -0.096393 |
PaintCorrectionContrast2012 (5) | 0.072282 |
PaintCorrectionContrast2012 (6) | 0.084989 |
PaintCorrectionContrast2012 (7) | 0.069476 |
PaintCorrectionContrast2012 (8) | 0.174656 |
PaintCorrectionContrast2012 (9) | 0.297465 |
PaintCorrectionContrast2012 | 0.000000 |
PaintCorrectionCorrectionRangeMaskColorAmount | 0.500000 |
PaintCorrectionCorrectionRangeMaskDepthFeather | 0.500000 |
PaintCorrectionCorrectionRangeMaskDepthMax | 1.000000 |
PaintCorrectionCorrectionRangeMaskDepthMin | 0.000000 |
PaintCorrectionCorrectionRangeMaskLumFeather | 0.500000 |
PaintCorrectionCorrectionRangeMaskLumMax | 1.000000 |
PaintCorrectionCorrectionRangeMaskLumMin | 0.000000 |
PaintCorrectionCorrectionRangeMaskType | 0 |
PaintCorrectionCorrectionRangeMaskVersion | +2 |
PaintCorrectionDefringe | 0.000000 |
PaintCorrectionExposure | 0.000000 |
PaintCorrectionExposure2012 (10) | 0.000000 |
PaintCorrectionExposure2012 (11) | -0.177705 |
PaintCorrectionExposure2012 (12) | -0.134186 |
PaintCorrectionExposure2012 (13) | -0.132711 |
PaintCorrectionExposure2012 (14) | -0.096393 |
PaintCorrectionExposure2012 (15) | -0.102134 |
PaintCorrectionExposure2012 (16) | -0.113696 |
PaintCorrectionExposure2012 (3) | 0.048630 |
PaintCorrectionExposure2012 (4) | 0.005308 |
PaintCorrectionExposure2012 (5) | 0.149026 |
PaintCorrectionExposure2012 (6) | 0.141585 |
PaintCorrectionExposure2012 (7) | 0.238629 |
PaintCorrectionExposure2012 (8) | 0.002651 |
PaintCorrectionExposure2012 (9) | -0.010640 |
PaintCorrectionExposure2012 | -0.233841 |
PaintCorrectionHighlights2012 (1) | 0.274277 |
PaintCorrectionHighlights2012 (2) | 0.304164 |
PaintCorrectionHighlights2012 (3) | 0.345063 |
PaintCorrectionHighlights2012 (4) | 0.203914 |
PaintCorrectionHighlights2012 (5) | 0.039022 |
PaintCorrectionHighlights2012 (6) | 0.213291 |
PaintCorrectionHighlights2012 (7) | 0.056927 |
PaintCorrectionHighlights2012 | 0.000000 |
PaintCorrectionHue | 0.000000 |
PaintCorrectionLocalBlacks2012 (9) | 0.249869 |
PaintCorrectionLocalBlacks2012 | 0.000000 |
PaintCorrectionLocalDehaze | 0.000000 |
PaintCorrectionLocalTexture | 0.000000 |
PaintCorrectionLocalWhites2012 (10) | 0.000000 |
PaintCorrectionLocalWhites2012 (3) | 0.058315 |
PaintCorrectionLocalWhites2012 (4) | 0.246648 |
PaintCorrectionLocalWhites2012 | 0.056927 |
PaintCorrectionLuminanceNoise | 0.000000 |
PaintCorrectionMaskCenterWeight | 0.133393 |
PaintCorrectionMaskFlow (14) | 0.034479 |
PaintCorrectionMaskFlow (18) | 0.177327 |
PaintCorrectionMaskFlow (4) | 0.051333 |
PaintCorrectionMaskFlow (5) | 0.192017 |
PaintCorrectionMaskFlow (7) | 0.131874 |
PaintCorrectionMaskFlow (9) | 0.363499 |
PaintCorrectionMaskFlow | 0.000000 |
PaintCorrectionMaskRadius (10) | 0.018805 |
PaintCorrectionMaskRadius (11) | 0.016379 |
PaintCorrectionMaskRadius (12) | 0.027576 |
PaintCorrectionMaskRadius (16) | 0.048577 |
PaintCorrectionMaskRadius (19) | 0.027508 |
PaintCorrectionMaskRadius (20) | 0.016655 |
PaintCorrectionMaskRadius (21) | 0.009047 |
PaintCorrectionMaskRadius (6) | 0.085822 |
PaintCorrectionMaskRadius (9) | 0.031012 |
PaintCorrectionMaskRadius | 0.008674 |
PaintCorrectionMaskValue | 1.000000 |
PaintCorrectionMaskWhat | Mask/Paint |
PaintCorrectionMoire | 0.000000 |
PaintCorrectionSaturation | 0.000000 |
PaintCorrectionShadows2012 (10) | 0.414214 |
PaintCorrectionShadows2012 (5) | 0.319358 |
PaintCorrectionShadows2012 (6) | -0.001325 |
PaintCorrectionShadows2012 (8) | -0.149026 |
PaintCorrectionShadows2012 (9) | -0.118058 |
PaintCorrectionShadows2012 | 0.000000 |
PaintCorrectionSharpness | 0.000000 |
PaintCorrectionTemperature | 0.000000 |
PaintCorrectionTint | 0.000000 |
PaintCorrectionWhat | Correction |
ParametricDarks | 0 |
ParametricHighlights | 0 |
ParametricHighlightSplit | 75 |
ParametricLights | 0 |
ParametricMidtoneSplit | 50 |
ParametricShadows | 0 |
ParametricShadowSplit | 25 |
PerspectiveAspect | 0 |
PerspectiveHorizontal | 0 |
PerspectiveRotate | 0.0 |
PerspectiveScale | 100 |
PerspectiveUpright | 0 |
PerspectiveVertical | 0 |
PerspectiveX | 0.00 |
PerspectiveY | 0.00 |
PostCropVignetteAmount | 0 |
ProcessVersion | 11.0 |
ProfileDescription | sRGB IEC61966-2.1 |
RecommendedExposureIndex | 160 |
RedHue | 0 |
RedSaturation | 0 |
Saturation | 0 |
SaturationAdjustmentAqua | 0 |
SaturationAdjustmentBlue | 0 |
SaturationAdjustmentGreen | 0 |
SaturationAdjustmentMagenta | 0 |
SaturationAdjustmentOrange | +17 |
SaturationAdjustmentPurple | 0 |
SaturationAdjustmentRed | 0 |
SaturationAdjustmentYellow | 0 |
ScaleFactor35efl | 4.3 |
SceneCaptureType | Standard |
SensitivityType | Recommended Exposure Index |
SerialNumber | 063021007969 |
Shadows2012 | 0 |
ShadowTint | 0 |
SharpenDetail | 25 |
SharpenEdgeMasking | 0 |
SharpenRadius | +1.0 |
Sharpness | 0 |
ShutterSpeed | 1.3 |
ShutterSpeedValue | 1.3 |
Software | Adobe Lightroom 5.1.0 (iOS) |
SplitToningBalance | 0 |
SplitToningHighlightHue | 0 |
SplitToningHighlightSaturation | 0 |
SplitToningShadowHue | 0 |
SplitToningShadowSaturation | 0 |
Texture | 0 |
ToneCurve | 0, 0, 255, 255 |
ToneCurveBlue | 0, 0, 255, 255 |
ToneCurveGreen | 0, 0, 255, 255 |
ToneCurveName | Linear |
ToneCurveName2012 | Custom |
ToneCurvePV2012 | 0, 0, 44, 44, 121, 131, 208, 208, 255, 255 |
ToneCurvePV2012Blue | 0, 0, 255, 255 |
ToneCurvePV2012Green | 0, 0, 255, 255 |
ToneCurvePV2012Red | 0, 0, 255, 255 |
ToneCurveRed | 0, 0, 255, 255 |
ToneMapStrength | 0 |
Version | 12.1 |
Vibrance | 0 |
VignetteAmount | 0 |
WhiteBalance (1) | As Shot |
WhiteBalance | Auto |
Whites2012 | 0 |