Felt | Verdi |
AlreadyApplied | True |
Aperture | 1.0 |
ApertureValue | 1.0 |
Artist | ARILD THINGVOLL |
AutoLateralCA | 1 |
BitsPerSample | 8 |
Blacks2012 | -57 |
BlueHue | 0 |
BlueSaturation | 0 |
BrightnessValue | 2.55 |
By-line | ARILD THINGVOLL |
CameraProfile | Camera ACROS+G FILTER |
CircGradBasedCorrActive | true |
CircGradBasedCorrAmount | 1.000000 |
CircGradBasedCorrBrightness | 0.000000 |
CircGradBasedCorrClarity2012 | 0.000000 |
CircGradBasedCorrContrast2012 | 0.000000 |
CircGradBasedCorrDefringe | 0.000000 |
CircGradBasedCorrExposure2012 | 0.130500 |
CircGradBasedCorrHue | 101.000000 |
CircGradBasedCorrLocalDehaze | 0.000000 |
CircGradBasedCorrLocalTexture | 0.000000 |
CircGradBasedCorrLuminanceNoise | 0.000000 |
CircGradBasedCorrMaskAngle (17) | 5.607410 |
CircGradBasedCorrMaskAngle | 0.000000 |
CircGradBasedCorrMaskBottom (13) | 0.332961 |
CircGradBasedCorrMaskBottom (14) | 0.341042 |
CircGradBasedCorrMaskBottom (15) | 0.987958 |
CircGradBasedCorrMaskBottom (16) | 0.968527 |
CircGradBasedCorrMaskBottom (17) | 0.680738 |
CircGradBasedCorrMaskBottom (18) | 0.540815 |
CircGradBasedCorrMaskBottom (2) | 0.628096 |
CircGradBasedCorrMaskBottom (3) | 0.566171 |
CircGradBasedCorrMaskBottom (4) | 0.557113 |
CircGradBasedCorrMaskBottom (5) | 0.589372 |
CircGradBasedCorrMaskBottom (6) | 0.554963 |
CircGradBasedCorrMaskBottom (7) | 0.418876 |
CircGradBasedCorrMaskBottom (8) | 0.504337 |
CircGradBasedCorrMaskBottom (9) | 0.375582 |
CircGradBasedCorrMaskBottom | 0.524431 |
CircGradBasedCorrMaskFeather | +100 |
CircGradBasedCorrMaskFlipped | true |
CircGradBasedCorrMaskLeft (10) | 0.554426 |
CircGradBasedCorrMaskLeft (11) | 0.683801 |
CircGradBasedCorrMaskLeft (12) | 0.777300 |
CircGradBasedCorrMaskLeft (13) | 0.559335 |
CircGradBasedCorrMaskLeft (14) | 0.477833 |
CircGradBasedCorrMaskLeft (15) | 0.050195 |
CircGradBasedCorrMaskLeft (16) | 0.332393 |
CircGradBasedCorrMaskLeft (17) | 0.744520 |
CircGradBasedCorrMaskLeft (18) | 0.827231 |
CircGradBasedCorrMaskLeft (2) | 0.020349 |
CircGradBasedCorrMaskLeft (3) | 0.358122 |
CircGradBasedCorrMaskLeft (4) | 0.320208 |
CircGradBasedCorrMaskLeft (5) | 0.239915 |
CircGradBasedCorrMaskLeft (6) | 0.162937 |
CircGradBasedCorrMaskLeft (7) | 0.034983 |
CircGradBasedCorrMaskLeft (8) | 0.737270 |
CircGradBasedCorrMaskLeft (9) | 0.408478 |
CircGradBasedCorrMaskLeft | 0.595894 |
CircGradBasedCorrMaskMidpoint | +50 |
CircGradBasedCorrMaskRight (1) | 0.577541 |
CircGradBasedCorrMaskRight (10) | 0.664756 |
CircGradBasedCorrMaskRight (11) | 0.792554 |
CircGradBasedCorrMaskRight (12) | 0.884928 |
CircGradBasedCorrMaskRight (13) | 0.669727 |
CircGradBasedCorrMaskRight (14) | 0.589200 |
CircGradBasedCorrMaskRight (15) | 0.293949 |
CircGradBasedCorrMaskRight (16) | 0.568992 |
CircGradBasedCorrMaskRight (17) | 0.877959 |
CircGradBasedCorrMaskRight (18) | 0.924838 |
CircGradBasedCorrMaskRight (2) | 0.247690 |
CircGradBasedCorrMaskRight (4) | 0.540542 |
CircGradBasedCorrMaskRight (5) | 0.462073 |
CircGradBasedCorrMaskRight (6) | 0.386994 |
CircGradBasedCorrMaskRight (7) | 0.262381 |
CircGradBasedCorrMaskRight (8) | 0.906499 |
CircGradBasedCorrMaskRight (9) | 0.520644 |
CircGradBasedCorrMaskRight | 0.678798 |
CircGradBasedCorrMaskRoundness | 0 |
CircGradBasedCorrMaskTop (10) | 0.352103 |
CircGradBasedCorrMaskTop (11) | 0.370605 |
CircGradBasedCorrMaskTop (12) | 0.373419 |
CircGradBasedCorrMaskTop (13) | 0.244913 |
CircGradBasedCorrMaskTop (14) | 0.252216 |
CircGradBasedCorrMaskTop (15) | 0.853759 |
CircGradBasedCorrMaskTop (16) | 0.838267 |
CircGradBasedCorrMaskTop (17) | 0.571318 |
CircGradBasedCorrMaskTop (18) | 0.500006 |
CircGradBasedCorrMaskTop (2) | 0.419627 |
CircGradBasedCorrMaskTop (3) | 0.424928 |
CircGradBasedCorrMaskTop (4) | 0.415281 |
CircGradBasedCorrMaskTop (5) | 0.446366 |
CircGradBasedCorrMaskTop (6) | 0.410735 |
CircGradBasedCorrMaskTop (7) | 0.272498 |
CircGradBasedCorrMaskTop (8) | 0.408187 |
CircGradBasedCorrMaskTop (9) | 0.286119 |
CircGradBasedCorrMaskTop | 0.483961 |
CircGradBasedCorrMaskValue | 1.000000 |
CircGradBasedCorrMaskVersion | +2 |
CircGradBasedCorrMoire | 0.000000 |
CircGradBasedCorrSaturation | 0.000000 |
CircGradBasedCorrShadows2012 | 0.000000 |
CircGradBasedCorrSharpness (5) | 0.217390 |
CircGradBasedCorrSharpness | 0.000000 |
CircGradBasedCorrTemperature | 0.000000 |
CircGradBasedCorrTint | 0.000000 |
CircGradBasedCorrWhat | Correction |
CircleOfConfusion | 0.020 mm |
Clarity2012 | +24 |
ColorComponents | 3 |
ColorNoiseReduction | 25 |
ColorNoiseReductionDetail | 50 |
ColorNoiseReductionSmoothness | 50 |
ColorSpace | sRGB |
ColorTemperature | 6762 |
ColorTransform | YCbCr |
Contrast2012 | +5 |
ConvertToGrayscale | True |
CreateDate | 2019:09:01 13:14:19 |
Creator | ARILD THINGVOLL |
CropAngle | 0 |
CropBottom | 1 |
CropConstrainToWarp | 0 |
CropLeft | 0 |
CropRight | 1 |
CropTop | 0.25797 |
CustomRendered | Normal |
DateCreated (1) | 2019:09:01 |
DateCreated | 2019:09:01 13:14:19 |
DateTimeOriginal | 2019:09:01 13:14:19 |
Dehaze | +10 |
Exposure2012 | -0.48 |
ExposureCompensation | -1.33 |
ExposureMode | Manual |
ExposureProgram | Manual |
ExposureTime | 1/160 |
Flash | No Flash |
FNumber | 1.0 |
FocalLength | 24.0 mm |
FocalLengthIn35mmFormat | 36 mm |
Format | image/jpeg |
FOV | 53.1 deg |
GradientBasedCorrActive | true |
GradientBasedCorrAmount | 1.000000 |
GradientBasedCorrBrightness | 0.000000 |
GradientBasedCorrClarity2012 | 0.065220 |
GradientBasedCorrContrast2012 | 0.239130 |
GradientBasedCorrDefringe | 0.000000 |
GradientBasedCorrExposure2012 | -0.217500 |
GradientBasedCorrHighlights2012 | -0.065220 |
GradientBasedCorrHue | 101.000000 |
GradientBasedCorrLocalBlacks2012 | 0.000000 |
GradientBasedCorrLocalDehaze | -0.108700 |
GradientBasedCorrLocalTexture | 0.000000 |
GradientBasedCorrLocalWhites2012 | 0.000000 |
GradientBasedCorrLuminanceNoise | 0.000000 |
GradientBasedCorrMaskFullX | 0.681893 |
GradientBasedCorrMaskFullY | 0.345002 |
GradientBasedCorrMaskValue | 1.000000 |
GradientBasedCorrMaskWhat | Mask/Gradient |
GradientBasedCorrMaskZeroX | 0.682542 |
GradientBasedCorrMaskZeroY | 0.645996 |
GradientBasedCorrMoire | 0.000000 |
GradientBasedCorrSaturation | 0.000000 |
GradientBasedCorrShadows2012 | 0.000000 |
GradientBasedCorrSharpness | 0.000000 |
GradientBasedCorrTemperature | 0.000000 |
GradientBasedCorrTint | 0.000000 |
GradientBasedCorrWhat | Correction |
GrainAmount | 0 |
GreenHue | 0 |
GreenSaturation | 0 |
HasCrop | True |
HasSettings | True |
Highlights2012 | -100 |
HyperfocalDistance | 28.76 m |
ImageHeight | 594 |
ImageSize | 1200x594 |
ImageWidth | 1200 |
ISO | 200 |
Keywords | 0819, Vik, landskap |
Lens | 24.0 mm |
LensInfo | 24mm f/? |
LensManualDistortionAmount | 0 |
LensModel | 24.0 mm |
LensProfileEnable | 0 |
LensProfileSetup | LensDefaults |
LightSource | Unknown |
LightValue | 6.3 |
LookName | |
LuminanceSmoothing | 0 |
Make | FUJIFILM |
Megapixels | 0.713 |
MeteringMode | Multi-segment |
Model | X-H1 |
ModifyDate (1) | 2019:12:12 20:09:22+01:00 |
ModifyDate | 2019:12:12 20:09:22 |
OverrideLookVignette | False |
PaintCorrectionActive | true |
PaintCorrectionAmount | 1.000000 |
PaintCorrectionBrightness | 0.000000 |
PaintCorrectionClarity2012 | 0.000000 |
PaintCorrectionContrast2012 | 0.000000 |
PaintCorrectionCorrectionRangeMaskType | 0 |
PaintCorrectionDefringe | 0.000000 |
PaintCorrectionExposure2012 (1) | -0.021750 |
PaintCorrectionExposure2012 (2) | 0.000000 |
PaintCorrectionExposure2012 (3) | 0.065250 |
PaintCorrectionExposure2012 (4) | 0.108750 |
PaintCorrectionExposure2012 (5) | 0.021750 |
PaintCorrectionExposure2012 | 0.130500 |
PaintCorrectionHighlights2012 | 0.000000 |
PaintCorrectionHue | 101.000000 |
PaintCorrectionLocalBlacks2012 | 0.000000 |
PaintCorrectionLocalDehaze | 0.000000 |
PaintCorrectionLocalTexture | 0.000000 |
PaintCorrectionLocalWhites2012 | 0.173910 |
PaintCorrectionLuminanceNoise | 0.000000 |
PaintCorrectionMaskCenterWeight | 0.000000 |
PaintCorrectionMaskFlow | 1.000000 |
PaintCorrectionMaskRadius (1) | 0.036001 |
PaintCorrectionMaskRadius (10) | 0.020349 |
PaintCorrectionMaskRadius (11) | 0.020260 |
PaintCorrectionMaskRadius (12) | 0.025139 |
PaintCorrectionMaskRadius (13) | 0.025555 |
PaintCorrectionMaskRadius (14) | 0.025316 |
PaintCorrectionMaskRadius (15) | 0.025593 |
PaintCorrectionMaskRadius (16) | 0.025336 |
PaintCorrectionMaskRadius (17) | 0.025578 |
PaintCorrectionMaskRadius (18) | 0.025335 |
PaintCorrectionMaskRadius (19) | 0.051300 |
PaintCorrectionMaskRadius (2) | 0.035522 |
PaintCorrectionMaskRadius (20) | 0.038436 |
PaintCorrectionMaskRadius (21) | 0.038094 |
PaintCorrectionMaskRadius (22) | 0.038237 |
PaintCorrectionMaskRadius (23) | 0.038538 |
PaintCorrectionMaskRadius (24) | 0.039407 |
PaintCorrectionMaskRadius (25) | 0.039157 |
PaintCorrectionMaskRadius (26) | 0.039418 |
PaintCorrectionMaskRadius (27) | 0.038175 |
PaintCorrectionMaskRadius (28) | 0.038062 |
PaintCorrectionMaskRadius (29) | 0.038540 |
PaintCorrectionMaskRadius (3) | 0.034868 |
PaintCorrectionMaskRadius (30) | 0.038187 |
PaintCorrectionMaskRadius (31) | 0.039396 |
PaintCorrectionMaskRadius (32) | 0.038576 |
PaintCorrectionMaskRadius (33) | 0.038208 |
PaintCorrectionMaskRadius (34) | 0.038310 |
PaintCorrectionMaskRadius (35) | 0.038011 |
PaintCorrectionMaskRadius (36) | 0.038000 |
PaintCorrectionMaskRadius (37) | 0.038001 |
PaintCorrectionMaskRadius (38) | 0.039513 |
PaintCorrectionMaskRadius (39) | 0.039277 |
PaintCorrectionMaskRadius (4) | 0.036540 |
PaintCorrectionMaskRadius (40) | 0.039293 |
PaintCorrectionMaskRadius (41) | 0.039519 |
PaintCorrectionMaskRadius (42) | 0.039405 |
PaintCorrectionMaskRadius (43) | 0.039381 |
PaintCorrectionMaskRadius (44) | 0.039546 |
PaintCorrectionMaskRadius (45) | 0.039260 |
PaintCorrectionMaskRadius (46) | 0.039254 |
PaintCorrectionMaskRadius (47) | 0.039207 |
PaintCorrectionMaskRadius (48) | 0.039320 |
PaintCorrectionMaskRadius (49) | 0.039266 |
PaintCorrectionMaskRadius (5) | 0.058203 |
PaintCorrectionMaskRadius (50) | 0.039466 |
PaintCorrectionMaskRadius (51) | 0.039365 |
PaintCorrectionMaskRadius (52) | 0.039118 |
PaintCorrectionMaskRadius (53) | 0.038661 |
PaintCorrectionMaskRadius (54) | 0.038368 |
PaintCorrectionMaskRadius (55) | 0.038146 |
PaintCorrectionMaskRadius (56) | 0.022500 |
PaintCorrectionMaskRadius (57) | 0.026319 |
PaintCorrectionMaskRadius (58) | 0.026317 |
PaintCorrectionMaskRadius (6) | 0.047393 |
PaintCorrectionMaskRadius (60) | 0.031706 |
PaintCorrectionMaskRadius (61) | 0.016220 |
PaintCorrectionMaskRadius (62) | 0.021300 |
PaintCorrectionMaskRadius (63) | 0.021170 |
PaintCorrectionMaskRadius (64) | 0.020701 |
PaintCorrectionMaskRadius (65) | 0.021191 |
PaintCorrectionMaskRadius (66) | 0.021146 |
PaintCorrectionMaskRadius (67) | 0.021253 |
PaintCorrectionMaskRadius (68) | 0.010891 |
PaintCorrectionMaskRadius (69) | 0.010897 |
PaintCorrectionMaskRadius (7) | 0.045225 |
PaintCorrectionMaskRadius (70) | 0.010898 |
PaintCorrectionMaskRadius (71) | 0.010869 |
PaintCorrectionMaskRadius (72) | 0.010952 |
PaintCorrectionMaskRadius (73) | 0.010954 |
PaintCorrectionMaskRadius (74) | 0.017060 |
PaintCorrectionMaskRadius (75) | 0.017044 |
PaintCorrectionMaskRadius (76) | 0.016876 |
PaintCorrectionMaskRadius (77) | 0.016725 |
PaintCorrectionMaskRadius (78) | 0.016625 |
PaintCorrectionMaskRadius (79) | 0.016444 |
PaintCorrectionMaskRadius (8) | 0.044716 |
PaintCorrectionMaskRadius (80) | 0.017045 |
PaintCorrectionMaskRadius (82) | 0.016956 |
PaintCorrectionMaskRadius (83) | 0.016949 |
PaintCorrectionMaskRadius (84) | 0.016967 |
PaintCorrectionMaskRadius (85) | 0.016977 |
PaintCorrectionMaskRadius (86) | 0.016989 |
PaintCorrectionMaskRadius (87) | 0.016926 |
PaintCorrectionMaskRadius (88) | 0.016957 |
PaintCorrectionMaskRadius (89) | 0.016955 |
PaintCorrectionMaskRadius (9) | 0.020525 |
PaintCorrectionMaskRadius (90) | 0.016894 |
PaintCorrectionMaskRadius (91) | 0.016840 |
PaintCorrectionMaskRadius (92) | 0.016838 |
PaintCorrectionMaskRadius | 0.016634 |
PaintCorrectionMaskValue | 1.000000 |
PaintCorrectionMaskWhat | Mask/Paint |
PaintCorrectionMoire | 0.000000 |
PaintCorrectionSaturation | 0.000000 |
PaintCorrectionShadows2012 (3) | 0.217390 |
PaintCorrectionShadows2012 (4) | 0.000000 |
PaintCorrectionShadows2012 | 0.304350 |
PaintCorrectionSharpness | 0.000000 |
PaintCorrectionTemperature | 0.000000 |
PaintCorrectionTint | 0.000000 |
PaintCorrectionWhat | Correction |
ParametricDarks | -9 |
ParametricHighlights | 0 |
ParametricHighlightSplit | 75 |
ParametricLights | +38 |
ParametricMidtoneSplit | 50 |
ParametricShadows | +46 |
ParametricShadowSplit | 25 |
PerspectiveAspect | 0 |
PerspectiveHorizontal | 0 |
PerspectiveRotate | 0.0 |
PerspectiveScale | 100 |
PerspectiveUpright | 5 |
PerspectiveVertical | 0 |
PerspectiveX | 0.00 |
PerspectiveY | 0.00 |
PostCropVignetteAmount | 0 |
PreservedFileName | XH108895.RAF |
ProcessVersion | 11.0 |
ProfileDescription | sRGB IEC61966-2.1 |
RedHue | 0 |
RedSaturation | 0 |
ScaleFactor35efl | 1.5 |
SceneCaptureType | Standard |
SceneType | Directly photographed |
SensingMethod | One-chip color area |
SerialNumber | 81A55422 |
Shadows2012 | +79 |
ShadowTint | 0 |
SharpenDetail | 24 |
SharpenEdgeMasking | 65 |
SharpenRadius | +1.0 |
Sharpness (1) | 70 |
Sharpness | Normal |
ShutterSpeed | 1/160 |
ShutterSpeedValue | 1/160 |
SplitToningBalance | 0 |
SplitToningHighlightHue | 0 |
SplitToningHighlightSaturation | 0 |
SplitToningShadowHue | 0 |
SplitToningShadowSaturation | 0 |
Subject | 0819, Vik, landskap |
SubjectDistanceRange | Unknown |
Texture | +21 |
Tint | +25 |
ToneCurve | 0, 0, 255, 255 |
ToneCurveBlue | 0, 0, 255, 255 |
ToneCurveGreen | 0, 0, 255, 255 |
ToneCurveName | Linear |
ToneCurveName2012 | Linear |
ToneCurvePV2012 | 0, 0, 255, 255 |
ToneCurvePV2012Blue | 0, 0, 255, 255 |
ToneCurvePV2012Green | 0, 0, 255, 255 |
ToneCurvePV2012Red | 0, 0, 255, 255 |
ToneCurveRed | 0, 0, 255, 255 |
ToneMapStrength | 0 |
Version | 12.1 |
VignetteAmount | 0 |
WhiteBalance (1) | Custom |
WhiteBalance | Auto |
Whites2012 | +42 |