Felt | Verdi |
AlreadyApplied | True |
Aperture | 7.1 |
ApertureValue | 7.1 |
ApproximateFocusDistance | 1.45 |
AutoLateralCA | 1 |
BitsPerSample | 8 |
Blacks2012 | +34 |
BlueHue | 0 |
BlueSaturation | 0 |
CameraProfile | Adobe Standard |
CircleOfConfusion | 0.018 mm |
Clarity2012 | +10 |
ColorComponents | 3 |
ColorNoiseReduction | 25 |
ColorNoiseReductionDetail | 50 |
ColorNoiseReductionSmoothness | 50 |
ColorSpace | sRGB |
ColorTemperature | 4737 |
ColorTransform | YCbCr |
Contrast2012 | +34 |
ConvertToGrayscale | False |
CreateDate (1) | 2019:10:11 13:03:29.26 |
CreateDate | 2019:10:11 13:03:29 |
CreatorTool | Adobe Photoshop Lightroom Classic 8.4 (Macintosh) |
CropAngle | 0.108372 |
CropBottom | 0.996307 |
CropConstrainToWarp | 0 |
CropLeft | 0.005722 |
CropRight | 0.994278 |
CropTop | 0.003693 |
CustomRendered | Normal |
DateCreated (1) | 2019:10:11 |
DateCreated | 2019:10:11 13:03:29.26 |
DateTimeOriginal | 2019:10:11 13:03:29 |
DefringeGreenAmount | 0 |
DefringeGreenHueHi | 60 |
DefringeGreenHueLo | 40 |
DefringePurpleAmount | 0 |
DefringePurpleHueHi | 70 |
DefringePurpleHueLo | 30 |
Dehaze | +5 |
DOF | 2.52 m (0.92 - 3.44 m) |
Exposure2012 | +0.30 |
ExposureCompensation | 0 |
ExposureMode | Auto |
ExposureProgram | Aperture-priority AE |
ExposureTime | 1/40 |
Firmware | 1.0.1 |
Flash | Off, Did not fire |
FlashCompensation | 0 |
FNumber | 7.1 |
FocalLength | 18.0 mm |
FocalLength35efl | 18.0 mm (35 mm equivalent: 29.3 mm) |
Format | image/jpeg |
FOV | 63.1 deg |
GradientBasedCorrActive | true |
GradientBasedCorrAmount | 1.000000 |
GradientBasedCorrBrightness | 0.000000 |
GradientBasedCorrClarity2012 | 0.000000 |
GradientBasedCorrContrast2012 | 0.000000 |
GradientBasedCorrCorrectionRangeMaskColorAmount | 0.500000 |
GradientBasedCorrCorrectionRangeMaskDepthFeather | 0.500000 |
GradientBasedCorrCorrectionRangeMaskDepthMax | 1.000000 |
GradientBasedCorrCorrectionRangeMaskDepthMin | 0.000000 |
GradientBasedCorrCorrectionRangeMaskLumFeather | 0.500000 |
GradientBasedCorrCorrectionRangeMaskLumMax | 1.000000 |
GradientBasedCorrCorrectionRangeMaskLumMin | 0.000000 |
GradientBasedCorrCorrectionRangeMaskType | 0 |
GradientBasedCorrCorrectionRangeMaskVersion | +2 |
GradientBasedCorrDefringe | 0.000000 |
GradientBasedCorrExposure2012 (1) | -0.344749 |
GradientBasedCorrExposure2012 | -0.078216 |
GradientBasedCorrHighlights2012 | 0.000000 |
GradientBasedCorrHue | 240.000000 |
GradientBasedCorrLocalBlacks2012 | 0.000000 |
GradientBasedCorrLocalDehaze | 0.000000 |
GradientBasedCorrLocalTexture | 0.000000 |
GradientBasedCorrLocalWhites2012 | 0.000000 |
GradientBasedCorrLuminanceNoise | 0.000000 |
GradientBasedCorrMaskFullX (1) | 0.531921 |
GradientBasedCorrMaskFullX | 0.562260 |
GradientBasedCorrMaskFullY (1) | 0.006381 |
GradientBasedCorrMaskFullY | 0.969210 |
GradientBasedCorrMaskValue | 1.000000 |
GradientBasedCorrMaskWhat | Mask/Gradient |
GradientBasedCorrMaskZeroX (1) | 0.537262 |
GradientBasedCorrMaskZeroX | 0.557405 |
GradientBasedCorrMaskZeroY (1) | 0.357803 |
GradientBasedCorrMaskZeroY | 0.649771 |
GradientBasedCorrMoire | 0.000000 |
GradientBasedCorrSaturation | 0.000000 |
GradientBasedCorrShadows2012 | 0.000000 |
GradientBasedCorrSharpness | 0.000000 |
GradientBasedCorrTemperature | 0.000000 |
GradientBasedCorrTint | 0.000000 |
GradientBasedCorrWhat | Correction |
GrainAmount | 32 |
GrainFrequency | 13 |
GrainSize | 19 |
GreenHue | 0 |
GreenSaturation | 0 |
HasCrop | True |
HasSettings | True |
Highlights2012 | -100 |
HueAdjustmentAqua | -14 |
HueAdjustmentBlue | -11 |
HueAdjustmentGreen | -24 |
HueAdjustmentMagenta | -22 |
HueAdjustmentOrange | -45 |
HueAdjustmentPurple | -65 |
HueAdjustmentRed | -25 |
HueAdjustmentYellow | +38 |
HyperfocalDistance | 2.48 m |
ImageHeight | 3959 |
ImageNumber | 0 |
ImageSize | 5938x3959 |
ImageWidth | 5938 |
ISO | 100 |
LateralChromaticAberrationCorrectionAlreadyApplied | True |
Lens | EF-S18-55mm f/3.5-5.6 III |
LensID (1) | 53 |
LensID | Canon EF-S 18-55mm f/3.5-5.6 III |
LensInfo | 18-55mm f/? |
LensManualDistortionAmount | 0 |
LensModel | EF-S18-55mm f/3.5-5.6 III |
LensProfileEnable | 0 |
LensProfileSetup | LensDefaults |
LensSerialNumber | 00008fdc92 |
LightValue | 11.0 |
LookAmount | 1.000000 |
LookGroup | Profiles |
LookName | Adobe Color |
LookParametersCameraProfile | Adobe Standard |
LookParametersConvertToGrayscale | False |
LookParametersLookTable | E1095149FDB39D7A057BAB208837E2E1 |
LookParametersProcessVersion | 11.0 |
LookParametersToneCurvePV2012 | 0, 0, 22, 16, 40, 35, 127, 127, 224, 230, 240, 246, 255, 255 |
LookParametersToneCurvePV2012Blue | 0, 0, 255, 255 |
LookParametersToneCurvePV2012Green | 0, 0, 255, 255 |
LookParametersToneCurvePV2012Red | 0, 0, 255, 255 |
LookParametersVersion | 11.4 |
LookSupportsAmount | false |
LookSupportsMonochrome | false |
LookSupportsOutputReferred | false |
LuminanceAdjustmentAqua | +22 |
LuminanceAdjustmentBlue | +1 |
LuminanceAdjustmentGreen | -19 |
LuminanceAdjustmentMagenta | -26 |
LuminanceAdjustmentOrange | -24 |
LuminanceAdjustmentPurple | -29 |
LuminanceAdjustmentRed | -50 |
LuminanceAdjustmentYellow | -18 |
LuminanceNoiseReductionContrast | 0 |
LuminanceNoiseReductionDetail | 50 |
LuminanceSmoothing | 10 |
Make | Canon |
MaxApertureValue | 3.5 |
Megapixels | 23.5 |
MeteringMode | Multi-segment |
Model | Canon EOS 200D |
ModifyDate (1) | 2019:10:11 16:53:15+02:00 |
ModifyDate | 2019:10:11 16:53:15 |
OverrideLookVignette | False |
ParametricDarks | 0 |
ParametricHighlights | 0 |
ParametricHighlightSplit | 75 |
ParametricLights | 0 |
ParametricMidtoneSplit | 50 |
ParametricShadows | 0 |
ParametricShadowSplit | 25 |
PerspectiveAspect | 0 |
PerspectiveHorizontal | 0 |
PerspectiveRotate | 0.0 |
PerspectiveScale | 100 |
PerspectiveUpright | 0 |
PerspectiveVertical | 0 |
PerspectiveX | 0.00 |
PerspectiveY | 0.00 |
PostCropVignetteAmount | -15 |
PostCropVignetteFeather | 50 |
PostCropVignetteHighlightContrast | 0 |
PostCropVignetteMidpoint | 50 |
PostCropVignetteRoundness | 0 |
PostCropVignetteStyle | 1 |
PreservedFileName | IMG_7429.CR2 |
ProcessVersion | 11.0 |
ProfileDescription | sRGB IEC61966-2.1 |
Rating | 4 |
RawFileName | IMG_7429.CR2 |
RecommendedExposureIndex | 100 |
RedHue | 0 |
RedSaturation | 0 |
Saturation | 0 |
SaturationAdjustmentAqua | -15 |
SaturationAdjustmentBlue | -62 |
SaturationAdjustmentGreen | -12 |
SaturationAdjustmentMagenta | -100 |
SaturationAdjustmentOrange | -49 |
SaturationAdjustmentPurple | -49 |
SaturationAdjustmentRed | -11 |
SaturationAdjustmentYellow | -45 |
ScaleFactor35efl | 1.6 |
SceneCaptureType | Standard |
SensitivityType | Recommended Exposure Index |
SerialNumber | 113071003459 |
Shadows2012 | +56 |
ShadowTint | 0 |
SharpenDetail | 25 |
SharpenEdgeMasking | 100 |
SharpenRadius | +1.0 |
Sharpness | 40 |
ShutterSpeed | 1/40 |
ShutterSpeedValue | 1/40 |
Software | Adobe Photoshop Lightroom Classic 8.4 (Macintosh) |
SplitToningBalance | 0 |
SplitToningHighlightHue | 193 |
SplitToningHighlightSaturation | 13 |
SplitToningShadowHue | 341 |
SplitToningShadowSaturation | 14 |
Texture | 0 |
Tint | -1 |
ToneCurve | 0, 0, 255, 255 |
ToneCurveBlue | 0, 0, 255, 255 |
ToneCurveGreen | 0, 0, 255, 255 |
ToneCurveName | Linear |
ToneCurveName2012 | Custom |
ToneCurvePV2012 | 0, 21, 76, 56, 132, 128, 187, 198, 255, 255 |
ToneCurvePV2012Blue | 0, 0, 255, 255 |
ToneCurvePV2012Green | 0, 0, 255, 255 |
ToneCurvePV2012Red | 0, 0, 255, 255 |
ToneCurveRed | 0, 0, 255, 255 |
ToneMapStrength | 0 |
Version | 11.4 |
Vibrance | 0 |
VignetteAmount | 0 |
WhiteBalance (1) | Custom |
WhiteBalance | Auto |
Whites2012 | -21 |