Felt | Verdi |
AlreadyApplied | True |
Aperture | 3.2 |
ApertureValue | 3.2 |
ApproximateFocusDistance | 4294967295 |
Artist | Bjorn Eirik B. Hansen |
AutoLateralCA | 0 |
BitsPerSample | 8 |
Blacks2012 | 0 |
BlueHue | 0 |
BlueSaturation | 0 |
By-line | Bjorn Eirik B. Hansen |
CameraProfile | Adobe Standard |
CFAPattern | [Red,Green][Green,Blue] |
CircleOfConfusion | 0.030 mm |
Clarity2012 | +25 |
ColorComponents | 3 |
ColorNoiseReduction | 25 |
ColorNoiseReductionDetail | 50 |
ColorNoiseReductionSmoothness | 50 |
ColorSpace | Uncalibrated |
ColorTemperature | 4450 |
ColorTransform | YCbCr |
Contrast | Normal |
Contrast2012 | 0 |
ConvertToGrayscale | False |
Copyright | Bjorn Eirik B. Hansen |
CopyrightNotice | Bjorn Eirik B. Hansen |
CreateDate (1) | 2018:10:15 20:29:07.13 |
CreateDate | 2018:10:15 20:29:07 |
Creator | Bjorn Eirik B. Hansen |
CropAngle | 6.683475 |
CropBottom | 0.853179 |
CropConstrainToWarp | 1 |
CropLeft | 0.10794 |
CropRight | 0.903542 |
CropTop | 0 |
CustomRendered | Normal |
DateCreated (1) | 2018:10:15 |
DateCreated | 2018:10:15 20:29:07.13 |
DateTimeOriginal | 2018:10:15 20:29:07 |
DefringeGreenAmount | 0 |
DefringeGreenHueHi | 60 |
DefringeGreenHueLo | 40 |
DefringePurpleAmount | 0 |
DefringePurpleHueHi | 70 |
DefringePurpleHueLo | 30 |
Dehaze | +34 |
DigitalZoomRatio | 1 |
DistortionCorrectionAlreadyApplied | True |
DOF | inf (2.04 m - inf) |
Exposure2012 | 0.00 |
ExposureCompensation | 0 |
ExposureMode | Manual |
ExposureProgram | Manual |
ExposureTime | 210 |
Flash | Off, Did not fire |
FNumber | 3.2 |
FocalLength | 14.0 mm |
FocalLengthIn35mmFormat | 14 mm |
Format | image/jpeg |
FOV | 104.3 deg |
GainControl | Low gain up |
GrainAmount | 0 |
GreenHue | 0 |
GreenSaturation | -7 |
HasCrop | True |
HasSettings | True |
Highlights2012 | +18 |
HueAdjustmentAqua | 0 |
HueAdjustmentBlue | 0 |
HueAdjustmentGreen | 0 |
HueAdjustmentMagenta | 0 |
HueAdjustmentOrange | 0 |
HueAdjustmentPurple | 0 |
HueAdjustmentRed | 0 |
HueAdjustmentYellow | 0 |
HyperfocalDistance | 2.04 m |
ImageHeight | 3481 |
ImageNumber | 49067 |
ImageSize | 6304x3481 |
ImageWidth | 6304 |
ISO | 500 |
Lens | 14.0-24.0 mm f/2.8 |
LensID (1) | 146 |
LensInfo | 14-24mm f/2.8 |
LensManualDistortionAmount | 0 |
LensModel | 14.0-24.0 mm f/2.8 |
LensProfileChromaticAberrationScale | 100 |
LensProfileDistortionScale | 100 |
LensProfileEnable | 1 |
LensProfileSetup | LensDefaults |
LensProfileVignettingScale | 100 |
LightSource | Unknown |
LightValue | -6.7 |
LuminanceAdjustmentAqua | 0 |
LuminanceAdjustmentBlue | 0 |
LuminanceAdjustmentGreen | 0 |
LuminanceAdjustmentMagenta | 0 |
LuminanceAdjustmentOrange | 0 |
LuminanceAdjustmentPurple | +24 |
LuminanceAdjustmentRed | 0 |
LuminanceAdjustmentYellow | 0 |
LuminanceNoiseReductionContrast | 0 |
LuminanceNoiseReductionDetail | 50 |
LuminanceSmoothing | 13 |
Make | NIKON CORPORATION |
MaxApertureValue | 2.8 |
Megapixels | 21.9 |
MeteringMode | Spot |
Model | NIKON D810 |
ModifyDate | 2018:10:17 23:56:30 |
PaintCorrectionActive | true |
PaintCorrectionAmount | 1.000000 |
PaintCorrectionBrightness | 0.000000 |
PaintCorrectionClarity | 0.000000 |
PaintCorrectionClarity2012 (1) | 0.680000 |
PaintCorrectionClarity2012 (2) | 1.000000 |
PaintCorrectionClarity2012 | 0.000000 |
PaintCorrectionContrast | 0.000000 |
PaintCorrectionContrast2012 | 0.000000 |
PaintCorrectionDefringe | 0.000000 |
PaintCorrectionExposure | 0.000000 |
PaintCorrectionExposure2012 | 0.000000 |
PaintCorrectionHighlights2012 | 0.000000 |
PaintCorrectionHue (1) | 0.000000 |
PaintCorrectionHue (3) | 287.000000 |
PaintCorrectionHue (5) | 232.000000 |
PaintCorrectionHue (6) | 280.000000 |
PaintCorrectionHue | 301.000000 |
PaintCorrectionLocalBlacks2012 | 0.000000 |
PaintCorrectionLocalDehaze (1) | 0.120000 |
PaintCorrectionLocalDehaze | 0.000000 |
PaintCorrectionLocalWhites2012 | 0.140000 |
PaintCorrectionLuminanceNoise | 0.000000 |
PaintCorrectionMaskFlow (1100) | 0.338028 |
PaintCorrectionMaskFlow (1102) | 0.074766 |
PaintCorrectionMaskFlow (1106) | 0.727273 |
PaintCorrectionMaskFlow (1115) | 0.410256 |
PaintCorrectionMaskFlow (131) | 0.521739 |
PaintCorrectionMaskFlow (226) | 0.375839 |
PaintCorrectionMaskFlow (274) | 0.250000 |
PaintCorrectionMaskFlow (291) | 0.198347 |
PaintCorrectionMaskFlow (369) | 0.637168 |
PaintCorrectionMaskFlow (959) | 0.544503 |
PaintCorrectionMaskFlow | 0.497175 |
PaintCorrectionMaskRadius (1) | 0.010297 |
PaintCorrectionMaskRadius (10) | 0.007116 |
PaintCorrectionMaskRadius (12) | 0.007118 |
PaintCorrectionMaskRadius (2) | 0.005526 |
PaintCorrectionMaskRadius (22) | 0.007123 |
PaintCorrectionMaskRadius (25) | 0.007124 |
PaintCorrectionMaskRadius (29) | 0.007117 |
PaintCorrectionMaskRadius (3) | 0.005525 |
PaintCorrectionMaskRadius (32) | 0.007112 |
PaintCorrectionMaskRadius (34) | 0.007114 |
PaintCorrectionMaskRadius (38) | 0.007106 |
PaintCorrectionMaskRadius (39) | 0.007109 |
PaintCorrectionMaskRadius (40) | 0.007099 |
PaintCorrectionMaskRadius (42) | 0.007101 |
PaintCorrectionMaskRadius (43) | 0.007096 |
PaintCorrectionMaskRadius (44) | 0.007093 |
PaintCorrectionMaskRadius (46) | 0.007098 |
PaintCorrectionMaskRadius (48) | 0.007103 |
PaintCorrectionMaskRadius (49) | 0.007104 |
PaintCorrectionMaskRadius (50) | 0.007105 |
PaintCorrectionMaskRadius (51) | 0.007102 |
PaintCorrectionMaskRadius (52) | 0.007107 |
PaintCorrectionMaskRadius (55) | 0.007110 |
PaintCorrectionMaskRadius (59) | 0.007119 |
PaintCorrectionMaskRadius (6) | 0.007120 |
PaintCorrectionMaskRadius (61) | 0.007111 |
PaintCorrectionMaskRadius (62) | 0.007122 |
PaintCorrectionMaskRadius (67) | 0.007121 |
PaintCorrectionMaskRadius (70) | 0.027035 |
PaintCorrectionMaskRadius (71) | 0.027039 |
PaintCorrectionMaskRadius (72) | 0.027037 |
PaintCorrectionMaskRadius (73) | 0.027028 |
PaintCorrectionMaskRadius (75) | 0.027029 |
PaintCorrectionMaskRadius (76) | 0.032143 |
PaintCorrectionMaskRadius (77) | 0.032129 |
PaintCorrectionMaskRadius (78) | 0.032112 |
PaintCorrectionMaskRadius (79) | 0.003728 |
PaintCorrectionMaskRadius (831) | 0.004688 |
PaintCorrectionMaskRadius (832) | 0.004685 |
PaintCorrectionMaskRadius (833) | 0.018739 |
PaintCorrectionMaskRadius (834) | 0.018766 |
PaintCorrectionMaskRadius (835) | 0.018809 |
PaintCorrectionMaskRadius (836) | 0.018793 |
PaintCorrectionMaskRadius (837) | 0.018786 |
PaintCorrectionMaskRadius (838) | 0.018774 |
PaintCorrectionMaskRadius (839) | 0.018753 |
PaintCorrectionMaskRadius (84) | 0.003727 |
PaintCorrectionMaskRadius (840) | 0.018806 |
PaintCorrectionMaskRadius (841) | 0.018817 |
PaintCorrectionMaskRadius (842) | 0.018831 |
PaintCorrectionMaskRadius (843) | 0.018869 |
PaintCorrectionMaskRadius (844) | 0.018918 |
PaintCorrectionMaskRadius (845) | 0.018973 |
PaintCorrectionMaskRadius (846) | 0.018972 |
PaintCorrectionMaskRadius (847) | 0.018994 |
PaintCorrectionMaskRadius (848) | 0.019061 |
PaintCorrectionMaskRadius (849) | 0.019024 |
PaintCorrectionMaskRadius (85) | 0.015068 |
PaintCorrectionMaskRadius (850) | 0.018990 |
PaintCorrectionMaskRadius (851) | 0.018968 |
PaintCorrectionMaskRadius (852) | 0.018957 |
PaintCorrectionMaskRadius (853) | 0.018929 |
PaintCorrectionMaskRadius (854) | 0.018920 |
PaintCorrectionMaskRadius (855) | 0.018895 |
PaintCorrectionMaskRadius (856) | 0.018877 |
PaintCorrectionMaskRadius (857) | 0.018863 |
PaintCorrectionMaskRadius (858) | 0.018905 |
PaintCorrectionMaskRadius (859) | 0.018903 |
PaintCorrectionMaskRadius (86) | 0.015077 |
PaintCorrectionMaskRadius (860) | 0.018937 |
PaintCorrectionMaskRadius (861) | 0.018893 |
PaintCorrectionMaskRadius (862) | 0.018855 |
PaintCorrectionMaskRadius (863) | 0.018835 |
PaintCorrectionMaskRadius (864) | 0.018897 |
PaintCorrectionMaskRadius (865) | 0.018932 |
PaintCorrectionMaskRadius (866) | 0.018884 |
PaintCorrectionMaskRadius (867) | 0.018823 |
PaintCorrectionMaskRadius (868) | 0.018795 |
PaintCorrectionMaskRadius (869) | 0.018849 |
PaintCorrectionMaskRadius (87) | 0.015085 |
PaintCorrectionMaskRadius (870) | 0.012533 |
PaintCorrectionMaskRadius (871) | 0.012545 |
PaintCorrectionMaskRadius (872) | 0.012563 |
PaintCorrectionMaskRadius (873) | 0.012527 |
PaintCorrectionMaskRadius (874) | 0.012504 |
PaintCorrectionMaskRadius (875) | 0.012489 |
PaintCorrectionMaskRadius (876) | 0.004682 |
PaintCorrectionMaskRadius (877) | 0.004659 |
PaintCorrectionMaskRadius (878) | 0.004658 |
PaintCorrectionMaskRadius (879) | 0.004655 |
PaintCorrectionMaskRadius (880) | 0.004660 |
PaintCorrectionMaskRadius (881) | 0.004645 |
PaintCorrectionMaskRadius (885) | 0.004586 |
PaintCorrectionMaskRadius (886) | 0.004589 |
PaintCorrectionMaskRadius (89) | 0.007497 |
PaintCorrectionMaskRadius (891) | 0.004598 |
PaintCorrectionMaskRadius (892) | 0.004604 |
PaintCorrectionMaskRadius (898) | 0.004603 |
PaintCorrectionMaskRadius (899) | 0.004601 |
PaintCorrectionMaskRadius (90) | 0.007503 |
PaintCorrectionMaskRadius (901) | 0.004585 |
PaintCorrectionMaskRadius (903) | 0.004587 |
PaintCorrectionMaskRadius (904) | 0.004595 |
PaintCorrectionMaskRadius (914) | 0.004621 |
PaintCorrectionMaskRadius (915) | 0.004619 |
PaintCorrectionMaskRadius (917) | 0.004618 |
PaintCorrectionMaskRadius (92) | 0.007513 |
PaintCorrectionMaskRadius (922) | 0.004615 |
PaintCorrectionMaskRadius (923) | 0.004617 |
PaintCorrectionMaskRadius (924) | 0.004616 |
PaintCorrectionMaskRadius (925) | 0.004612 |
PaintCorrectionMaskRadius (93) | 0.002782 |
PaintCorrectionMaskRadius (931) | 0.004605 |
PaintCorrectionMaskRadius (935) | 0.004613 |
PaintCorrectionMaskRadius (936) | 0.004622 |
PaintCorrectionMaskRadius (938) | 0.004620 |
PaintCorrectionMaskRadius (943) | 0.004609 |
PaintCorrectionMaskRadius (946) | 0.004610 |
PaintCorrectionMaskRadius (949) | 0.009314 |
PaintCorrectionMaskRadius (95) | 0.002780 |
PaintCorrectionMaskRadius (950) | 0.009301 |
PaintCorrectionMaskRadius (951) | 0.009302 |
PaintCorrectionMaskRadius (953) | 0.009319 |
PaintCorrectionMaskRadius (954) | 0.009312 |
PaintCorrectionMaskRadius (955) | 0.009304 |
PaintCorrectionMaskRadius (956) | 0.009326 |
PaintCorrectionMaskRadius (957) | 0.009327 |
PaintCorrectionMaskRadius (96) | 0.005628 |
PaintCorrectionMaskRadius (962) | 0.004572 |
PaintCorrectionMaskRadius (963) | 0.004567 |
PaintCorrectionMaskRadius (968) | 0.004581 |
PaintCorrectionMaskRadius (970) | 0.004584 |
PaintCorrectionMaskRadius (971) | 0.004583 |
PaintCorrectionMaskRadius (972) | 0.004580 |
PaintCorrectionMaskRadius (974) | 0.004574 |
PaintCorrectionMaskRadius (975) | 0.004573 |
PaintCorrectionMaskRadius (977) | 0.004569 |
PaintCorrectionMaskRadius (978) | 0.004571 |
PaintCorrectionMaskRadius (980) | 0.004575 |
PaintCorrectionMaskRadius (981) | 0.004577 |
PaintCorrectionMaskRadius (984) | 0.004578 |
PaintCorrectionMaskRadius (99) | 0.005629 |
PaintCorrectionMaskRadius (990) | 0.004579 |
PaintCorrectionMaskRadius (991) | 0.004596 |
PaintCorrectionMaskRadius (992) | 0.004594 |
PaintCorrectionMaskRadius (994) | 0.004591 |
PaintCorrectionMaskRadius (995) | 0.004592 |
PaintCorrectionMaskRadius (997) | 0.004582 |
PaintCorrectionMaskRadius (999) | 0.004558 |
PaintCorrectionMaskRadius | 0.012262 |
PaintCorrectionMaskValue | 1.000000 |
PaintCorrectionMaskWhat | Mask/Paint |
PaintCorrectionMoire | 0.000000 |
PaintCorrectionSaturation (10) | 0.750000 |
PaintCorrectionSaturation (12) | 0.390000 |
PaintCorrectionSaturation (13) | 1.000000 |
PaintCorrectionSaturation (4) | 0.000000 |
PaintCorrectionSaturation (5) | 0.540000 |
PaintCorrectionSaturation (9) | 0.670000 |
PaintCorrectionSaturation | 0.510000 |
PaintCorrectionShadows2012 (1) | 0.150000 |
PaintCorrectionShadows2012 | 0.000000 |
PaintCorrectionSharpness (1) | 0.110000 |
PaintCorrectionSharpness | 0.000000 |
PaintCorrectionTemperature | 0.000000 |
PaintCorrectionTint (2) | 0.000000 |
PaintCorrectionTint (6) | 0.950000 |
PaintCorrectionTint | 0.010000 |
PaintCorrectionWhat | Correction |
ParametricDarks | +1 |
ParametricHighlights | 0 |
ParametricHighlightSplit | 75 |
ParametricLights | +32 |
ParametricMidtoneSplit | 50 |
ParametricShadows | 0 |
ParametricShadowSplit | 25 |
PerspectiveAspect | 0 |
PerspectiveHorizontal | 0 |
PerspectiveRotate | 0.0 |
PerspectiveScale | 100 |
PerspectiveUpright | 0 |
PerspectiveVertical | 0 |
PerspectiveX | 0.00 |
PerspectiveY | 0.00 |
PostCropVignetteAmount | -24 |
PostCropVignetteFeather | 50 |
PostCropVignetteHighlightContrast | 0 |
PostCropVignetteMidpoint | 50 |
PostCropVignetteRoundness | 0 |
PostCropVignetteStyle | 1 |
ProcessVersion | 10.0 |
ProfileDescription | Adobe RGB (1998) |
RawFileName | _BEH7118.NEF |
RedHue | 0 |
RedSaturation | 0 |
Rights | Bjorn Eirik B. Hansen |
Saturation (1) | +8 |
Saturation | Normal |
SaturationAdjustmentAqua | 0 |
SaturationAdjustmentBlue | 0 |
SaturationAdjustmentGreen | 0 |
SaturationAdjustmentMagenta | 0 |
SaturationAdjustmentOrange | 0 |
SaturationAdjustmentPurple | 0 |
SaturationAdjustmentRed | 0 |
SaturationAdjustmentYellow | 0 |
ScaleFactor35efl | 1.0 |
SceneCaptureType | Standard |
SceneType | Directly photographed |
SensingMethod | One-chip color area |
SerialNumber | 6012069 |
Shadows2012 | -3 |
ShadowTint | +1 |
SharpenDetail | 25 |
SharpenEdgeMasking | 10 |
SharpenRadius | +1.0 |
Sharpness (1) | 25 |
Sharpness | Normal |
ShutterSpeed | 210 |
ShutterSpeedValue | 210 |
SplitToningBalance | 0 |
SplitToningHighlightHue | 0 |
SplitToningHighlightSaturation | 0 |
SplitToningShadowHue | 0 |
SplitToningShadowSaturation | 0 |
SubjectDistanceRange | Unknown |
Tint | -5 |
ToneCurve | 0, 0, 32, 22, 64, 56, 128, 128, 192, 196, 255, 255 |
ToneCurveBlue | 0, 0, 255, 255 |
ToneCurveGreen | 0, 0, 255, 255 |
ToneCurveName | Medium Contrast |
ToneCurveName2012 | Custom |
ToneCurvePV2012 | 0, 0, 43, 34, 50, 40, 67, 63, 185, 201, 255, 255 |
ToneCurvePV2012Blue | 0, 0, 255, 255 |
ToneCurvePV2012Green | 0, 0, 255, 255 |
ToneCurvePV2012Red | 0, 0, 255, 255 |
ToneCurveRed | 0, 0, 255, 255 |
Version | 10.0 |
Vibrance | 0 |
VignetteAmount | 0 |
VignetteCorrectionAlreadyApplied | True |
WhiteBalance (1) | Custom |
WhiteBalance | Auto |
Whites2012 | +5 |