Felt | Verdi |
AlreadyApplied | True |
Aperture | 3.5 |
ApertureValue | 3.5 |
ApproximateFocusDistance | 3.35 |
AutoLateralCA | 0 |
BitsPerSample | 8 |
Blacks2012 | 0 |
BlueHue | 0 |
BlueSaturation | 0 |
CameraProfile | Embedded |
CFAPattern | [Red,Green][Green,Blue] |
CircGradBasedCorrActive | true |
CircGradBasedCorrAmount | 1.000000 |
CircGradBasedCorrBrightness | 0.000000 |
CircGradBasedCorrClarity | 0.000000 |
CircGradBasedCorrClarity2012 (1) | 0.206955 |
CircGradBasedCorrClarity2012 (2) | 0.293234 |
CircGradBasedCorrClarity2012 | 0.000000 |
CircGradBasedCorrContrast | 0.000000 |
CircGradBasedCorrContrast2012 | 0.000000 |
CircGradBasedCorrCorrectionRangeMaskColorAmount | 0.500000 |
CircGradBasedCorrCorrectionRangeMaskLumFeather | 0.500000 |
CircGradBasedCorrCorrectionRangeMaskLumMax | 1.000000 |
CircGradBasedCorrCorrectionRangeMaskLumMin | 0.000000 |
CircGradBasedCorrCorrectionRangeMaskType | 0 |
CircGradBasedCorrCorrectionRangeMaskVersion | +2 |
CircGradBasedCorrDefringe | 0.000000 |
CircGradBasedCorrExposure | 0.000000 |
CircGradBasedCorrExposure2012 (1) | 0.115291 |
CircGradBasedCorrExposure2012 (2) | 0.130385 |
CircGradBasedCorrExposure2012 (5) | 0.000000 |
CircGradBasedCorrExposure2012 (8) | 0.129399 |
CircGradBasedCorrExposure2012 | 0.268849 |
CircGradBasedCorrHighlights2012 | 0.000000 |
CircGradBasedCorrHue | 0.000000 |
CircGradBasedCorrLocalBlacks2012 (1) | 0.148096 |
CircGradBasedCorrLocalBlacks2012 | 0.000000 |
CircGradBasedCorrLocalDehaze | 0.000000 |
CircGradBasedCorrLocalWhites2012 (1) | 0.147755 |
CircGradBasedCorrLocalWhites2012 (11) | 0.412887 |
CircGradBasedCorrLocalWhites2012 (7) | 0.000000 |
CircGradBasedCorrLocalWhites2012 | 0.120032 |
CircGradBasedCorrLuminanceNoise (2) | -0.048620 |
CircGradBasedCorrLuminanceNoise | 0.000000 |
CircGradBasedCorrMaskAngle (1) | -0.736244 |
CircGradBasedCorrMaskAngle | 0.000000 |
CircGradBasedCorrMaskBottom (1) | 0.883389 |
CircGradBasedCorrMaskBottom (10) | 0.625041 |
CircGradBasedCorrMaskBottom (11) | 0.775729 |
CircGradBasedCorrMaskBottom (2) | 0.871020 |
CircGradBasedCorrMaskBottom (3) | 0.473705 |
CircGradBasedCorrMaskBottom (4) | 0.690926 |
CircGradBasedCorrMaskBottom (5) | 0.758416 |
CircGradBasedCorrMaskBottom (6) | 1.074040 |
CircGradBasedCorrMaskBottom (7) | 0.718301 |
CircGradBasedCorrMaskBottom (8) | 0.541107 |
CircGradBasedCorrMaskBottom (9) | 0.460875 |
CircGradBasedCorrMaskBottom | 0.613774 |
CircGradBasedCorrMaskFeather | +100 |
CircGradBasedCorrMaskFlipped | true |
CircGradBasedCorrMaskLeft (1) | 0.042290 |
CircGradBasedCorrMaskLeft (10) | 0.274299 |
CircGradBasedCorrMaskLeft (11) | 0.613281 |
CircGradBasedCorrMaskLeft (2) | 0.315989 |
CircGradBasedCorrMaskLeft (3) | 0.317747 |
CircGradBasedCorrMaskLeft (4) | 0.611011 |
CircGradBasedCorrMaskLeft (5) | -0.283620 |
CircGradBasedCorrMaskLeft (6) | 0.285976 |
CircGradBasedCorrMaskLeft (7) | 0.476832 |
CircGradBasedCorrMaskLeft (8) | 0.424098 |
CircGradBasedCorrMaskLeft (9) | 0.490780 |
CircGradBasedCorrMaskLeft | 0.598605 |
CircGradBasedCorrMaskMidpoint | +50 |
CircGradBasedCorrMaskRight (1) | 0.914839 |
CircGradBasedCorrMaskRight (10) | 0.379589 |
CircGradBasedCorrMaskRight (11) | 0.718571 |
CircGradBasedCorrMaskRight (2) | 0.671110 |
CircGradBasedCorrMaskRight (3) | 0.569227 |
CircGradBasedCorrMaskRight (4) | 1.178100 |
CircGradBasedCorrMaskRight (5) | 0.283468 |
CircGradBasedCorrMaskRight (6) | 0.724637 |
CircGradBasedCorrMaskRight (7) | 0.582122 |
CircGradBasedCorrMaskRight (8) | 0.529388 |
CircGradBasedCorrMaskRight (9) | 0.596070 |
CircGradBasedCorrMaskRight | 0.703895 |
CircGradBasedCorrMaskRoundness | 0 |
CircGradBasedCorrMaskTop (1) | 0.368971 |
CircGradBasedCorrMaskTop (10) | 0.563082 |
CircGradBasedCorrMaskTop (11) | 0.687296 |
CircGradBasedCorrMaskTop (2) | 0.226938 |
CircGradBasedCorrMaskTop (3) | 0.210595 |
CircGradBasedCorrMaskTop (4) | 0.088530 |
CircGradBasedCorrMaskTop (5) | 0.156020 |
CircGradBasedCorrMaskTop (6) | 0.300247 |
CircGradBasedCorrMaskTop (7) | 0.593208 |
CircGradBasedCorrMaskTop (8) | 0.416014 |
CircGradBasedCorrMaskTop (9) | 0.398916 |
CircGradBasedCorrMaskTop | 0.525341 |
CircGradBasedCorrMaskValue | 1.000000 |
CircGradBasedCorrMaskVersion | +2 |
CircGradBasedCorrMaskWhat | Mask/CircularGradient |
CircGradBasedCorrMoire | 0.000000 |
CircGradBasedCorrSaturation (3) | 0.083321 |
CircGradBasedCorrSaturation (5) | 0.190306 |
CircGradBasedCorrSaturation | 0.000000 |
CircGradBasedCorrShadows2012 (1) | 0.283450 |
CircGradBasedCorrShadows2012 (2) | -0.198422 |
CircGradBasedCorrShadows2012 (8) | 0.000000 |
CircGradBasedCorrShadows2012 | 0.236006 |
CircGradBasedCorrSharpness (2) | 0.254854 |
CircGradBasedCorrSharpness | 0.000000 |
CircGradBasedCorrTemperature (1) | 0.335748 |
CircGradBasedCorrTemperature (2) | 0.329263 |
CircGradBasedCorrTemperature (3) | 0.268242 |
CircGradBasedCorrTemperature (4) | -0.140928 |
CircGradBasedCorrTemperature (5) | -0.276168 |
CircGradBasedCorrTemperature | 0.000000 |
CircGradBasedCorrTint (2) | 0.214123 |
CircGradBasedCorrTint | 0.000000 |
CircGradBasedCorrWhat | Correction |
CircleOfConfusion | 0.030 mm |
Clarity2012 | 0 |
ColorComponents | 3 |
ColorMode | RGB |
ColorNoiseReduction | 35 |
ColorNoiseReductionDetail | 50 |
ColorNoiseReductionSmoothness | 50 |
ColorSpace | Uncalibrated |
ColorTransform | YCbCr |
Contrast | Normal |
Contrast2012 | 0 |
ConvertToGrayscale | False |
CreateDate | 2014:05:09 21:58:24 |
CreatorTool | Ver.1.02 |
CropAngle | 0 |
CropBottom | 0.962118 |
CropConstrainToWarp | 0 |
CropLeft | 0 |
CropRight | 1 |
CropTop | 0.140123 |
CustomRendered | Normal |
DateCreated (1) | 2014:05:09 |
DateCreated | 2014:05:09 21:58:24.008 |
DateTimeOriginal | 2014:05:09 21:58:24 |
DefringeGreenAmount | 0 |
DefringeGreenHueHi | 60 |
DefringeGreenHueLo | 40 |
DefringePurpleAmount | 0 |
DefringePurpleHueHi | 70 |
DefringePurpleHueLo | 30 |
Dehaze | 0 |
DigitalZoomRatio | 1 |
DOF | 6.44 m (2.08 - 8.53 m) |
ExifImageHeight | 1134 |
ExifImageWidth | 2067 |
Exposure2012 | 0.00 |
ExposureCompensation | 0 |
ExposureMode | Manual |
ExposureProgram | Manual |
ExposureTime | 1/30 |
Flash | Off, Did not fire |
FNumber | 3.5 |
FocalLength | 24.0 mm |
FocalLength35efl | 24.0 mm (35 mm equivalent: 24.0 mm) |
FocalLengthIn35mmFormat | 24 mm |
Format | image/jpeg |
FOV | 73.7 deg |
GainControl | None |
GradientBasedCorrActive | true |
GradientBasedCorrAmount | 1.000000 |
GradientBasedCorrBrightness | 0.000000 |
GradientBasedCorrClarity | 0.000000 |
GradientBasedCorrClarity2012 | -0.331159 |
GradientBasedCorrContrast | 0.000000 |
GradientBasedCorrContrast2012 | 0.000000 |
GradientBasedCorrCorrectionRangeMaskColorAmount | 0.500000 |
GradientBasedCorrCorrectionRangeMaskLumFeather | 0.500000 |
GradientBasedCorrCorrectionRangeMaskLumMax | 1.000000 |
GradientBasedCorrCorrectionRangeMaskLumMin | 0.000000 |
GradientBasedCorrCorrectionRangeMaskType | 0 |
GradientBasedCorrCorrectionRangeMaskVersion | +2 |
GradientBasedCorrDefringe | 0.000000 |
GradientBasedCorrExposure | 0.000000 |
GradientBasedCorrExposure2012 | 0.000000 |
GradientBasedCorrHighlights2012 | -0.366239 |
GradientBasedCorrHue | 0.000000 |
GradientBasedCorrLocalBlacks2012 | 0.000000 |
GradientBasedCorrLocalDehaze | 0.000000 |
GradientBasedCorrLocalWhites2012 | -0.092309 |
GradientBasedCorrLuminanceNoise | 1.000000 |
GradientBasedCorrMaskFullX | 0.515866 |
GradientBasedCorrMaskFullY | -0.007152 |
GradientBasedCorrMaskValue | 1.000000 |
GradientBasedCorrMaskWhat | Mask/Gradient |
GradientBasedCorrMaskZeroX | 0.511257 |
GradientBasedCorrMaskZeroY | 0.581539 |
GradientBasedCorrMoire | 0.000000 |
GradientBasedCorrSaturation | 0.000000 |
GradientBasedCorrShadows2012 | -0.212834 |
GradientBasedCorrSharpness | -1.000000 |
GradientBasedCorrTemperature | 0.000000 |
GradientBasedCorrTint | 0.000000 |
GradientBasedCorrWhat | Correction |
GrainAmount | 0 |
GreenHue | 0 |
GreenSaturation | 0 |
HasCrop | True |
HasExtendedXMP | 8D7E5BDD79F009F1CB18D08FE6298B35 |
HasSettings | True |
HierarchicalSubject | 2014, Byneset, Trondheim, bål, mai |
Highlights2012 | 0 |
HueAdjustmentAqua | +15 |
HueAdjustmentBlue | -24 |
HueAdjustmentGreen | +1 |
HueAdjustmentMagenta | -3 |
HueAdjustmentOrange | -7 |
HueAdjustmentPurple | -11 |
HueAdjustmentRed | -16 |
HueAdjustmentYellow | -12 |
HyperfocalDistance | 5.48 m |
ICCProfileName | Adobe RGB (1998) |
ImageHeight | 1134 |
ImageNumber | 12557 |
ImageSize | 2067x1134 |
ImageWidth | 2067 |
IncrementalTemperature | 0 |
IncrementalTint | 0 |
ISO | 100 |
Keywords | 2014, Byneset, Trondheim, bål, mai |
Label | |
Lens | 24.0-70.0 mm f/2.8 |
LensID (1) | 147 |
LensID | AF-S Zoom-Nikkor 24-70mm f/2.8G ED |
LensInfo | 24-70mm f/2.8 |
LensManualDistortionAmount | 0 |
LensModel | 24.0-70.0 mm f/2.8 |
LensProfileEnable | 0 |
LensProfileSetup | LensDefaults |
LightSource | Flash |
LightValue | 8.5 |
LuminanceAdjustmentAqua | -17 |
LuminanceAdjustmentBlue | 0 |
LuminanceAdjustmentGreen | +3 |
LuminanceAdjustmentMagenta | +2 |
LuminanceAdjustmentOrange | +9 |
LuminanceAdjustmentPurple | -4 |
LuminanceAdjustmentRed | -6 |
LuminanceAdjustmentYellow | -2 |
LuminanceNoiseReductionContrast | 23 |
LuminanceNoiseReductionDetail | 50 |
LuminanceSmoothing | 38 |
Make | NIKON CORPORATION |
MaxApertureValue | 2.8 |
Megapixels | 2.3 |
MeteringMode | Multi-segment |
Model | NIKON D800 |
ModifyDate (1) | 2018:10:02 00:02:54+02:00 |
ModifyDate | 2018:10:02 00:02:54 |
Orientation | Horizontal (normal) |
OverrideLookVignette | False |
PaintCorrectionActive | true |
PaintCorrectionAmount | 1.000000 |
PaintCorrectionBrightness | 0.000000 |
PaintCorrectionClarity | 0.000000 |
PaintCorrectionClarity2012 | -1.000000 |
PaintCorrectionContrast | 0.000000 |
PaintCorrectionContrast2012 | -1.000000 |
PaintCorrectionCorrectionRangeMaskColorAmount | 0.500000 |
PaintCorrectionCorrectionRangeMaskLumFeather | 0.500000 |
PaintCorrectionCorrectionRangeMaskLumMax | 1.000000 |
PaintCorrectionCorrectionRangeMaskLumMin | 0.000000 |
PaintCorrectionCorrectionRangeMaskType | 0 |
PaintCorrectionCorrectionRangeMaskVersion | +2 |
PaintCorrectionDefringe | 0.000000 |
PaintCorrectionExposure | 0.000000 |
PaintCorrectionExposure2012 | 0.000000 |
PaintCorrectionHighlights2012 | 0.000000 |
PaintCorrectionHue | 0.000000 |
PaintCorrectionLocalBlacks2012 | 0.000000 |
PaintCorrectionLocalDehaze | 0.000000 |
PaintCorrectionLocalWhites2012 | 0.000000 |
PaintCorrectionLuminanceNoise | 0.000000 |
PaintCorrectionMaskCenterWeight (1) | 0.000000 |
PaintCorrectionMaskCenterWeight | 0.222178 |
PaintCorrectionMaskFlow | 1.000000 |
PaintCorrectionMaskRadius (1) | 0.069648 |
PaintCorrectionMaskRadius | 0.021239 |
PaintCorrectionMaskValue (2) | 0.652344 |
PaintCorrectionMaskValue | 0.000000 |
PaintCorrectionMaskWhat | Mask/Paint |
PaintCorrectionMoire | 0.000000 |
PaintCorrectionSaturation | 0.000000 |
PaintCorrectionShadows2012 | 0.000000 |
PaintCorrectionSharpness | -1.000000 |
PaintCorrectionTemperature | 0.000000 |
PaintCorrectionTint | 0.000000 |
PaintCorrectionWhat | Correction |
ParametricDarks | 0 |
ParametricHighlights | 0 |
ParametricHighlightSplit | 75 |
ParametricLights | 0 |
ParametricMidtoneSplit | 50 |
ParametricShadows | 0 |
ParametricShadowSplit | 25 |
PerspectiveAspect | 0 |
PerspectiveHorizontal | 0 |
PerspectiveRotate | 0.0 |
PerspectiveScale | 100 |
PerspectiveUpright | 0 |
PerspectiveVertical | 0 |
PerspectiveX | 0.00 |
PerspectiveY | 0.00 |
PostCropVignetteAmount | 0 |
ProcessVersion | 10.0 |
ProfileDescription | Adobe RGB (1998) |
Rating | 0 |
RawFileName | _DSC2089.JPG |
RedHue | 0 |
RedSaturation | 0 |
Saturation (1) | 0 |
Saturation | Normal |
SaturationAdjustmentAqua | 0 |
SaturationAdjustmentBlue | 0 |
SaturationAdjustmentGreen | 0 |
SaturationAdjustmentMagenta | 0 |
SaturationAdjustmentOrange | 0 |
SaturationAdjustmentPurple | 0 |
SaturationAdjustmentRed | -14 |
SaturationAdjustmentYellow | 0 |
ScaleFactor35efl | 1.0 |
SceneCaptureType | Standard |
SceneType | Directly photographed |
SensingMethod | One-chip color area |
SensitivityType | Recommended Exposure Index |
SerialNumber | 6097465 |
Shadows2012 | 0 |
ShadowTint | 0 |
SharpenDetail | 25 |
SharpenEdgeMasking | 100 |
SharpenRadius | +1.0 |
Sharpness (1) | 16 |
Sharpness | Normal |
ShutterSpeed | 1/30 |
ShutterSpeedValue | 1/30 |
Software | Adobe Photoshop CC 2018 (Macintosh) |
SplitToningBalance | 0 |
SplitToningHighlightHue | 0 |
SplitToningHighlightSaturation | 0 |
SplitToningShadowHue | 0 |
SplitToningShadowSaturation | 0 |
Subject | 2014, Byneset, Trondheim, bål, mai |
SubjectDistanceRange | Unknown |
ToneCurve | 0, 0, 255, 255 |
ToneCurveBlue | 0, 0, 255, 255 |
ToneCurveGreen | 0, 0, 255, 255 |
ToneCurveName | Linear |
ToneCurveName2012 | Linear |
ToneCurvePV2012 | 0, 0, 255, 255 |
ToneCurvePV2012Blue | 0, 0, 255, 255 |
ToneCurvePV2012Green | 0, 0, 255, 255 |
ToneCurvePV2012Red | 0, 0, 255, 255 |
ToneCurveRed | 0, 0, 255, 255 |
ToneMapStrength | 0 |
URL_List | |
Version | 10.5 |
Vibrance | 0 |
VignetteAmount | 0 |
WhiteBalance (1) | As Shot |
WhiteBalance | Manual |
Whites2012 | 0 |