Felt | Verdi |
AlreadyApplied | True |
Aperture | 9.0 |
ApertureValue | 9.0 |
ApproximateFocusDistance | 7.32 |
AutoLateralCA | 1 |
AutoWhiteVersion | 134348800 |
BitsPerSample | 8 |
Blacks2012 | +15 |
BlueHue | 0 |
BlueSaturation | 0 |
CameraProfile | Adobe Standard |
CircGradBasedCorrActive | true |
CircGradBasedCorrAmount | 1.000000 |
CircGradBasedCorrBrightness | 0.000000 |
CircGradBasedCorrClarity2012 (1) | 0.205850 |
CircGradBasedCorrClarity2012 (2) | 0.067951 |
CircGradBasedCorrClarity2012 (3) | 0.073401 |
CircGradBasedCorrClarity2012 (4) | 0.060683 |
CircGradBasedCorrClarity2012 (5) | 0.050600 |
CircGradBasedCorrClarity2012 (6) | 0.103834 |
CircGradBasedCorrClarity2012 (7) | 0.000000 |
CircGradBasedCorrClarity2012 (8) | 0.071857 |
CircGradBasedCorrClarity2012 (9) | 0.045058 |
CircGradBasedCorrClarity2012 | 0.058957 |
CircGradBasedCorrContrast2012 | 0.000000 |
CircGradBasedCorrDefringe (5) | 0.073492 |
CircGradBasedCorrDefringe (8) | 0.028888 |
CircGradBasedCorrDefringe | 0.000000 |
CircGradBasedCorrExposure2012 (1) | 0.158975 |
CircGradBasedCorrExposure2012 (2) | 0.101108 |
CircGradBasedCorrExposure2012 (3) | 0.143895 |
CircGradBasedCorrExposure2012 (4) | 0.078216 |
CircGradBasedCorrExposure2012 (5) | 0.042424 |
CircGradBasedCorrExposure2012 (6) | 0.097202 |
CircGradBasedCorrExposure2012 (7) | 0.073401 |
CircGradBasedCorrExposure2012 (8) | 0.098292 |
CircGradBasedCorrExposure2012 (9) | 0.135174 |
CircGradBasedCorrExposure2012 | 0.132994 |
CircGradBasedCorrHighlights2012 (1) | -0.128452 |
CircGradBasedCorrHighlights2012 | 0.000000 |
CircGradBasedCorrHue (1) | 47.332001 |
CircGradBasedCorrHue (2) | 46.027302 |
CircGradBasedCorrHue (3) | 45.132801 |
CircGradBasedCorrHue (4) | 224.042999 |
CircGradBasedCorrHue (6) | 230.000000 |
CircGradBasedCorrHue (7) | 0.000000 |
CircGradBasedCorrHue (9) | 97.832001 |
CircGradBasedCorrHue | 99.339798 |
CircGradBasedCorrLocalBlacks2012 | 0.000000 |
CircGradBasedCorrLocalDehaze | 0.000000 |
CircGradBasedCorrLocalWhites2012 | 0.000000 |
CircGradBasedCorrLuminanceNoise | 0.000000 |
CircGradBasedCorrMaskAngle (2) | -6.892290 |
CircGradBasedCorrMaskAngle (3) | -27.516200 |
CircGradBasedCorrMaskAngle (4) | 9.083540 |
CircGradBasedCorrMaskAngle (5) | 16.173800 |
CircGradBasedCorrMaskAngle (6) | 11.018000 |
CircGradBasedCorrMaskAngle (7) | 14.409600 |
CircGradBasedCorrMaskAngle (8) | 0.000000 |
CircGradBasedCorrMaskAngle (9) | 44.916500 |
CircGradBasedCorrMaskAngle | 13.460600 |
CircGradBasedCorrMaskBottom (1) | 0.292189 |
CircGradBasedCorrMaskBottom (2) | 0.584304 |
CircGradBasedCorrMaskBottom (3) | 0.742299 |
CircGradBasedCorrMaskBottom (4) | 1.151350 |
CircGradBasedCorrMaskBottom (5) | 0.873309 |
CircGradBasedCorrMaskBottom (6) | 0.396253 |
CircGradBasedCorrMaskBottom (7) | 0.336114 |
CircGradBasedCorrMaskBottom (8) | 0.189198 |
CircGradBasedCorrMaskBottom (9) | 1.174700 |
CircGradBasedCorrMaskBottom | 1.024550 |
CircGradBasedCorrMaskFeather | +73 |
CircGradBasedCorrMaskFlipped | true |
CircGradBasedCorrMaskLeft (1) | 0.649152 |
CircGradBasedCorrMaskLeft (2) | -0.185480 |
CircGradBasedCorrMaskLeft (3) | -0.046428 |
CircGradBasedCorrMaskLeft (4) | 0.681649 |
CircGradBasedCorrMaskLeft (5) | 0.577110 |
CircGradBasedCorrMaskLeft (6) | 0.733247 |
CircGradBasedCorrMaskLeft (7) | 0.748953 |
CircGradBasedCorrMaskLeft (8) | 0.496460 |
CircGradBasedCorrMaskLeft (9) | 0.544208 |
CircGradBasedCorrMaskLeft | 0.441315 |
CircGradBasedCorrMaskMidpoint | +50 |
CircGradBasedCorrMaskRight (1) | 0.751190 |
CircGradBasedCorrMaskRight (2) | 0.656938 |
CircGradBasedCorrMaskRight (3) | 0.389731 |
CircGradBasedCorrMaskRight (4) | 1.121930 |
CircGradBasedCorrMaskRight (5) | 0.635131 |
CircGradBasedCorrMaskRight (6) | 0.940002 |
CircGradBasedCorrMaskRight (7) | 1.009790 |
CircGradBasedCorrMaskRight (8) | 0.742684 |
CircGradBasedCorrMaskRight (9) | 0.259443 |
CircGradBasedCorrMaskRight | 0.647990 |
CircGradBasedCorrMaskRoundness | 0 |
CircGradBasedCorrMaskTop (1) | 0.162097 |
CircGradBasedCorrMaskTop (2) | 0.108130 |
CircGradBasedCorrMaskTop (3) | 0.826780 |
CircGradBasedCorrMaskTop (4) | 0.247763 |
CircGradBasedCorrMaskTop (5) | 0.580663 |
CircGradBasedCorrMaskTop (6) | 0.231485 |
CircGradBasedCorrMaskTop (7) | -0.113442 |
CircGradBasedCorrMaskTop (8) | 0.005548 |
CircGradBasedCorrMaskTop (9) | 0.449270 |
CircGradBasedCorrMaskTop | 0.803164 |
CircGradBasedCorrMaskValue | 1.000000 |
CircGradBasedCorrMaskVersion | +2 |
CircGradBasedCorrMaskWhat | Mask/CircularGradient |
CircGradBasedCorrMoire | 0.000000 |
CircGradBasedCorrSaturation (1) | 0.184139 |
CircGradBasedCorrSaturation (11) | 0.033430 |
CircGradBasedCorrSaturation (12) | 0.219678 |
CircGradBasedCorrSaturation (15) | 0.000000 |
CircGradBasedCorrSaturation (16) | 0.168897 |
CircGradBasedCorrSaturation (17) | 0.050145 |
CircGradBasedCorrSaturation (18) | 0.125391 |
CircGradBasedCorrSaturation (19) | 0.044241 |
CircGradBasedCorrSaturation (2) | 0.339375 |
CircGradBasedCorrSaturation (3) | 0.086483 |
CircGradBasedCorrSaturation (4) | 0.420703 |
CircGradBasedCorrSaturation (5) | 0.044604 |
CircGradBasedCorrSaturation (6) | 0.332457 |
CircGradBasedCorrSaturation (7) | 0.067678 |
CircGradBasedCorrSaturation (8) | 0.323368 |
CircGradBasedCorrSaturation (9) | 0.043605 |
CircGradBasedCorrSaturation | 0.117852 |
CircGradBasedCorrShadows2012 (1) | -0.101108 |
CircGradBasedCorrShadows2012 (5) | 0.000000 |
CircGradBasedCorrShadows2012 | 0.242006 |
CircGradBasedCorrSharpness (1) | 0.157068 |
CircGradBasedCorrSharpness (2) | 0.080396 |
CircGradBasedCorrSharpness (3) | 0.022620 |
CircGradBasedCorrSharpness (4) | 0.053052 |
CircGradBasedCorrSharpness (5) | 0.000000 |
CircGradBasedCorrSharpness (6) | 0.099927 |
CircGradBasedCorrSharpness (7) | 0.085392 |
CircGradBasedCorrSharpness (8) | 0.087482 |
CircGradBasedCorrSharpness (9) | 0.072493 |
CircGradBasedCorrSharpness | 0.089480 |
CircGradBasedCorrTemperature | 0.000000 |
CircGradBasedCorrTint | 0.000000 |
CircGradBasedCorrWhat | Correction |
CircleOfConfusion | 0.028 mm |
Clarity2012 | +4 |
ColorComponents | 3 |
ColorNoiseReduction | 16 |
ColorNoiseReductionDetail | 50 |
ColorNoiseReductionSmoothness | 50 |
ColorSpace | sRGB |
ColorTemperature | 5050 |
ColorTransform | YCbCr |
Contrast2012 | +6 |
ConvertToGrayscale | False |
CreateDate (1) | 2017:09:09 18:40:00.00 |
CreateDate | 2017:09:09 18:40:00 |
CreatorTool | Adobe Photoshop Lightroom 6.12 (Macintosh) |
CropAngle | 0 |
CropBottom | 0.948866 |
CropConstrainToWarp | 0 |
CropLeft | 0.055208 |
CropRight | 1 |
CropTop | 0.033992 |
CustomRendered | Normal |
DateCreated (1) | 2017:09:09 |
DateCreated | 2017:09:09 18:40:00.00 |
DateTimeOriginal | 2017:09:09 18:40:00 |
DefringeGreenAmount | 0 |
DefringeGreenHueHi | 60 |
DefringeGreenHueLo | 40 |
DefringePurpleAmount | 0 |
DefringePurpleHueHi | 70 |
DefringePurpleHueLo | 30 |
Dehaze | 0 |
DistortionCorrectionAlreadyApplied | True |
DOF | inf (1.74 m - inf) |
Exposure2012 | -0.10 |
ExposureCompensation | 0 |
ExposureMode | Manual |
ExposureProgram | Manual |
ExposureTime | 1/30 |
Firmware | 1.1.6 |
Flash | Off, Did not fire |
FlashCompensation | 0 |
FNumber | 9.0 |
FocalLength | 24.0 mm |
FocalLength35efl | 24.0 mm (35 mm equivalent: 25.6 mm) |
Format | image/jpeg |
FOV | 70.1 deg |
GrainAmount | 0 |
GreenHue | 0 |
GreenSaturation | 0 |
HasCrop | True |
HasSettings | True |
Highlights2012 | +7 |
HueAdjustmentAqua | 0 |
HueAdjustmentBlue | 0 |
HueAdjustmentGreen | 0 |
HueAdjustmentMagenta | 0 |
HueAdjustmentOrange | 0 |
HueAdjustmentPurple | 0 |
HueAdjustmentRed | 0 |
HueAdjustmentYellow | 0 |
HyperfocalDistance | 2.28 m |
ImageHeight | 3338 |
ImageNumber | 0 |
ImageSize | 5170x3338 |
ImageWidth | 5170 |
ISO | 200 |
LateralChromaticAberrationCorrectionAlreadyApplied | True |
Lens | EF24-70mm f/2.8L II USM |
LensID (1) | 495 |
LensID | Canon EF 24-70mm f/2.8L II USM |
LensInfo | 24-70mm f/? |
LensManualDistortionAmount | 0 |
LensModel | EF24-70mm f/2.8L II USM |
LensProfileChromaticAberrationScale | 100 |
LensProfileDistortionScale | 100 |
LensProfileEnable | 1 |
LensProfileFilename | Canon EOS 5D Mark II (Canon EF 24-70mm f2.8 L II USM) - RAW.lcp |
LensProfileName | Adobe (Canon EF 24-70mm f/2.8 L II USM) |
LensProfileSetup | LensDefaults |
LensProfileVignettingScale | 100 |
LensSerialNumber | 3630000901 |
LightValue | 10.2 |
LuminanceAdjustmentAqua | +11 |
LuminanceAdjustmentBlue | +33 |
LuminanceAdjustmentGreen | +20 |
LuminanceAdjustmentMagenta | 0 |
LuminanceAdjustmentOrange | +32 |
LuminanceAdjustmentPurple | 0 |
LuminanceAdjustmentRed | +15 |
LuminanceAdjustmentYellow | +28 |
LuminanceNoiseReductionContrast | 14 |
LuminanceNoiseReductionDetail | 50 |
LuminanceSmoothing | 14 |
Make | Canon |
MaxApertureValue | 2.8 |
Megapixels | 17.3 |
MeteringMode | Multi-segment |
Model | Canon EOS 6D |
ModifyDate (1) | 2017:09:12 08:39:59+02:00 |
ModifyDate | 2017:09:12 08:39:59 |
ParametricDarks | +6 |
ParametricHighlights | +1 |
ParametricHighlightSplit | 75 |
ParametricLights | +1 |
ParametricMidtoneSplit | 50 |
ParametricShadows | +3 |
ParametricShadowSplit | 25 |
PerspectiveAspect | 0 |
PerspectiveHorizontal | 0 |
PerspectiveRotate | 0.0 |
PerspectiveScale | 100 |
PerspectiveUpright | 1 |
PerspectiveVertical | 0 |
PerspectiveX | 0.00 |
PerspectiveY | 0.00 |
PostCropVignetteAmount | 0 |
ProcessVersion | 6.7 |
ProfileDescription | sRGB IEC61966-2.1 |
RecommendedExposureIndex | 200 |
RedHue | 0 |
RedSaturation | 0 |
Saturation | +5 |
SaturationAdjustmentAqua | 0 |
SaturationAdjustmentBlue | +39 |
SaturationAdjustmentGreen | +29 |
SaturationAdjustmentMagenta | 0 |
SaturationAdjustmentOrange | +21 |
SaturationAdjustmentPurple | +21 |
SaturationAdjustmentRed | +29 |
SaturationAdjustmentYellow | +27 |
ScaleFactor35efl | 1.1 |
SceneCaptureType | Standard |
SensitivityType | Recommended Exposure Index |
SerialNumber | 373051003880 |
Shadows2012 | +14 |
ShadowTint | 0 |
SharpenDetail | 16 |
SharpenEdgeMasking | 0 |
SharpenRadius | +1.0 |
Sharpness | 99 |
ShutterSpeed | 1/30 |
ShutterSpeedValue | 1/30 |
Software | Adobe Photoshop Lightroom 6.12 (Macintosh) |
SplitToningBalance | 0 |
SplitToningHighlightHue | 0 |
SplitToningHighlightSaturation | 0 |
SplitToningShadowHue | 0 |
SplitToningShadowSaturation | 0 |
Tint | +4 |
ToneCurve | 0, 0, 255, 255 |
ToneCurveBlue | 0, 0, 255, 255 |
ToneCurveGreen | 0, 0, 255, 255 |
ToneCurveName | Linear |
ToneCurveName2012 | Custom |
ToneCurvePV2012 | 0, 0, 77, 72, 134, 120, 185, 184, 255, 255 |
ToneCurvePV2012Blue | 0, 0, 255, 255 |
ToneCurvePV2012Green | 0, 0, 255, 255 |
ToneCurvePV2012Red | 0, 0, 255, 255 |
ToneCurveRed | 0, 0, 255, 255 |
ToneMapStrength | 0 |
Version | 9.12 |
Vibrance | +5 |
VignetteAmount | 0 |
VignetteCorrectionAlreadyApplied | True |
WhiteBalance (1) | As Shot |
WhiteBalance | Auto |
Whites2012 | +2 |