Felt | Verdi |
AlreadyApplied | True |
Aperture | 11.0 |
ApertureValue | 11.0 |
ApproximateFocusDistance | 4294967295 |
Artist | Sven Fredriksen |
AutoLateralCA | 1 |
AutoWhiteVersion | 134348800 |
BitsPerSample | 8 |
Blacks2012 | 0 |
BlueHue | 0 |
BlueSaturation | 0 |
By-line | Sven Fredriksen |
CameraProfile | Adobe Standard |
CircleOfConfusion | 0.005 mm |
Clarity2012 | +15 |
ColorComponents | 3 |
ColorNoiseReduction | 25 |
ColorNoiseReductionDetail | 50 |
ColorNoiseReductionSmoothness | 50 |
ColorTemperature | 5500 |
ColorTransform | YCbCr |
Contrast2012 | 0 |
ConvertToGrayscale | False |
Copyright | (C) Sven Erik Fredriksen |
CopyrightFlag | True |
CopyrightNotice | (C) Sven Erik Fredriksen |
CreateDate (1) | 2016:02:20 09:24:00.00 |
CreateDate | 2016:02:20 09:24:00 |
Creator | Sven Fredriksen |
CreatorAddress | Omvn 26 |
CreatorCity | Stokmarknes |
CreatorCountry | Norway |
CreatorPostalCode | 8450 |
CreatorTool | Adobe Photoshop Lightroom 6.3 (Macintosh) |
CreatorWorkEmail | sven.fredriksen58@gmail.com |
CreatorWorkTelephone | 004790557417 |
CropAngle | 0.544527 |
CropBottom | 0.9139 |
CropConstrainToWarp | 0 |
CropLeft | 0.006872 |
CropRight | 0.987546 |
CropTop | 0.067954 |
CustomRendered | Normal |
DateCreated (1) | 2016:02:20 |
DateCreated | 2016:02:20 09:24:00.00 |
DateTimeOriginal | 2016:02:20 09:24:00 |
DefringeGreenAmount | 0 |
DefringeGreenHueHi | 60 |
DefringeGreenHueLo | 40 |
DefringePurpleAmount | 0 |
DefringePurpleHueHi | 70 |
DefringePurpleHueLo | 30 |
Dehaze | +4 |
DOF | inf (14.24 m - inf) |
Exposure2012 | +0.05 |
ExposureCompensation | 0 |
ExposureMode | Manual |
ExposureProgram | Manual |
ExposureTime | 1/180 |
Firmware | 1.1.3 |
Flash | Off, Did not fire |
FlashCompensation | 0 |
FNumber | 11.0 |
FocalLength | 29.0 mm |
FocalLength35efl | 29.0 mm (35 mm equivalent: 162.3 mm) |
Format | image/jpeg |
FOV | 12.7 deg |
GrainAmount | 0 |
GreenHue | 0 |
GreenSaturation | 0 |
HasCrop | True |
HasSettings | True |
Highlights2012 | 0 |
HueAdjustmentAqua | 0 |
HueAdjustmentBlue | 0 |
HueAdjustmentGreen | 0 |
HueAdjustmentMagenta | 0 |
HueAdjustmentOrange | 0 |
HueAdjustmentPurple | 0 |
HueAdjustmentRed | 0 |
HueAdjustmentYellow | 0 |
HyperfocalDistance | 14.24 m |
ImageHeight | 576 |
ImageNumber | 0 |
ImageSize | 1024x576 |
ImageWidth | 1024 |
ISO | 400 |
Keywords | Lenangen, Lyngen, Lyngen Havfiske, Nordlenangen, Northern Norway, Troms |
Lens | EF16-35mm f/2.8L II USM |
LensID (1) | 246 |
LensID | Canon EF 16-35mm f/2.8L II USM |
LensInfo | 16-35mm f/? |
LensManualDistortionAmount | 0 |
LensModel | EF16-35mm f/2.8L II USM |
LensProfileChromaticAberrationScale | 100 |
LensProfileDistortionScale | 100 |
LensProfileEnable | 1 |
LensProfileFilename | Canon EOS 5D Mark II (Canon EF 16-35mm f2.8 L II USM) - RAW.lcp |
LensProfileName | Adobe (Canon EF 16-35mm f/2.8 L II USM) |
LensProfileSetup | LensDefaults |
LensProfileVignettingScale | 100 |
LensSerialNumber | 000082f37d |
LightValue | 12.4 |
LuminanceAdjustmentAqua | 0 |
LuminanceAdjustmentBlue | 0 |
LuminanceAdjustmentGreen | 0 |
LuminanceAdjustmentMagenta | 0 |
LuminanceAdjustmentOrange | 0 |
LuminanceAdjustmentPurple | 0 |
LuminanceAdjustmentRed | 0 |
LuminanceAdjustmentYellow | 0 |
LuminanceNoiseReductionContrast | 0 |
LuminanceNoiseReductionDetail | 50 |
LuminanceSmoothing | 15 |
Make | Canon |
Marked | True |
MaxApertureValue | 2.8 |
Megapixels | 0.590 |
MeteringMode | Multi-segment |
Model | Canon EOS 6D |
ModifyDate (1) | 2016:02:29 21:58:45+01:00 |
ModifyDate | 2016:02:29 21:58:45 |
ParametricDarks | 0 |
ParametricHighlights | 0 |
ParametricHighlightSplit | 75 |
ParametricLights | 0 |
ParametricMidtoneSplit | 50 |
ParametricShadows | 0 |
ParametricShadowSplit | 25 |
PerspectiveAspect | 0 |
PerspectiveHorizontal | 0 |
PerspectiveRotate | 0.0 |
PerspectiveScale | 100 |
PerspectiveUpright | 0 |
PerspectiveVertical | 0 |
PostCropVignetteAmount | 0 |
ProcessVersion | 6.7 |
ProfileDescription | sRGB IEC61966-2.1 |
Rating | 5 |
RecommendedExposureIndex | 400 |
RedHue | 0 |
RedSaturation | 0 |
Rights | (C) Sven Erik Fredriksen |
Saturation | 0 |
SaturationAdjustmentAqua | 0 |
SaturationAdjustmentBlue | 0 |
SaturationAdjustmentGreen | 0 |
SaturationAdjustmentMagenta | 0 |
SaturationAdjustmentOrange | +11 |
SaturationAdjustmentPurple | 0 |
SaturationAdjustmentRed | +10 |
SaturationAdjustmentYellow | +10 |
ScaleFactor35efl | 5.6 |
SceneCaptureType | Standard |
SensitivityType | Recommended Exposure Index |
SerialNumber | 053024015013 |
Shadows2012 | 0 |
ShadowTint | 0 |
SharpenDetail | 25 |
SharpenEdgeMasking | 14 |
SharpenRadius | +1.5 |
Sharpness | 100 |
ShutterSpeed | 1/180 |
ShutterSpeedValue | 1/180 |
Software | Adobe Photoshop Lightroom 6.3 (Macintosh) |
SplitToningBalance | 0 |
SplitToningHighlightHue | 0 |
SplitToningHighlightSaturation | 0 |
SplitToningShadowHue | 0 |
SplitToningShadowSaturation | 0 |
Subject | Lenangen, Lyngen, Lyngen Havfiske, Nordlenangen, Northern Norway, Troms |
Tint | +10 |
ToneCurve | 0, 0, 255, 255 |
ToneCurveBlue | 0, 0, 255, 255 |
ToneCurveGreen | 0, 0, 255, 255 |
ToneCurveName | Linear |
ToneCurveName2012 | Custom |
ToneCurvePV2012 | 0, 2, 13, 54, 91, 139, 214, 255 |
ToneCurvePV2012Blue | 0, 0, 255, 255 |
ToneCurvePV2012Green | 0, 0, 255, 255 |
ToneCurvePV2012Red | 0, 0, 255, 255 |
ToneCurveRed | 0, 0, 255, 255 |
ToneMapStrength | 0 |
UsageTerms | No use of photos without permission from photographer |
Version | 9.3 |
Vibrance | +26 |
VignetteAmount | 0 |
WhiteBalance (1) | Daylight |
WhiteBalance | Auto |
Whites2012 | 0 |