Felt | Verdi |
2015-12-04T22:25:35+01:00 Filen Trollskogen kopi.tif er lagret
2015-12-04T22:28:20+01:00 Fil Trollskogen kopi.tif åpnet
2015-12-04T22:32:09+01:00 Filen Trollskogen kopi kopi.jpg er lagret
AlreadyApplied | True |
Aperture | 11.0 |
ApertureValue | 11.0 |
ApproximateFocusDistance | 4294967295 |
AutoLateralCA | 0 |
AutoWhiteVersion | 134348800 |
BitsPerSample (1) | 16 16 16 |
BitsPerSample | 8 |
Blacks2012 | -3 |
BlueHue | 0 |
BlueSaturation | 0 |
CameraProfile | Embedded |
CircleOfConfusion | 0.030 mm |
Clarity2012 | 0 |
ColorComponents | 3 |
ColorMode | RGB |
ColorNoiseReduction | 0 |
ColorSpace | Uncalibrated |
ColorTransform | YCbCr |
Contrast | Normal |
Contrast2012 | 0 |
ConvertToGrayscale | True |
CreateDate | 2015:11:28 12:52:33 |
CreatorTool | Capture NX 2.4.7 M |
CustomRendered | Normal |
DateCreated (1) | 2015:11:28 |
DateCreated | 2015:11:28 12:52:33.003 |
DateTimeOriginal | 2015:11:28 12:52:33 |
DigitalZoomRatio | 1 |
DOF | inf (0.59 m - inf) |
ExifImageHeight | 4828 |
ExifImageWidth | 7045 |
Exposure2012 | 0.00 |
ExposureCompensation | +1 |
ExposureMode | Manual |
ExposureProgram | Manual |
ExposureTime | 52 |
Flash | Off, Did not fire |
FNumber | 11.0 |
FocalLength | 14.0 mm |
FocalLength35efl | 14.0 mm (35 mm equivalent: 14.0 mm) |
FocalLengthIn35mmFormat | 14 mm |
Format | image/jpeg |
FOV | 104.3 deg |
GainControl | None |
GrainAmount | 0 |
GrayMixerAqua | 0 |
GrayMixerBlue | -39 |
GrayMixerGreen | 0 |
GrayMixerMagenta | 0 |
GrayMixerOrange | +52 |
GrayMixerPurple | -30 |
GrayMixerRed | 0 |
GrayMixerYellow | +52 |
GreenHue | 0 |
GreenSaturation | 0 |
HasCrop | False |
HasSettings | True |
Highlights2012 | -21 |
HyperfocalDistance | 0.59 m |
ICCProfileName | Adobe RGB (1998) |
ImageHeight | 4828 |
ImageNumber | 24976 |
ImageSize | 7045x4828 |
ImageWidth | 7045 |
IncrementalTemperature | 0 |
IncrementalTint | 0 |
ISO | 100 |
Lens | 14.0-24.0 mm f/2.8 |
LensID (1) | 146 |
LensID | AF-S Zoom-Nikkor 14-24mm f/2.8G ED |
LensInfo | 14-24mm f/2.8 |
LensManualDistortionAmount | 0 |
LensModel | 14.0-24.0 mm f/2.8 |
LensProfileEnable | 0 |
LensProfileSetup | LensDefaults |
LightSource | Unknown |
LightValue | 1.2 |
LuminanceSmoothing | 0 |
Make | NIKON CORPORATION |
MaxApertureValue | 2.8 |
Megapixels | 34.0 |
MeteringMode | Spot |
Model | NIKON D800 |
ModifyDate (1) | 2015:12:04 22:32:09+01:00 |
ModifyDate | 2015:12:04 22:32:09 |
Orientation | Horizontal (normal) |
ParametricDarks | 0 |
ParametricHighlights | 0 |
ParametricHighlightSplit | 75 |
ParametricLights | 0 |
ParametricMidtoneSplit | 50 |
ParametricShadows | 0 |
ParametricShadowSplit | 25 |
PerspectiveAspect | 0 |
PerspectiveHorizontal | 0 |
PerspectiveRotate | 0.0 |
PerspectiveScale | 100 |
PerspectiveUpright | 0 |
PerspectiveVertical | 0 |
PhotometricInterpretation | RGB |
PlanarConfiguration | Chunky |
PostCropVignetteAmount | 0 |
ProcessVersion | 6.7 |
ProfileDescription | Adobe RGB (1998) |
RedHue | 0 |
RedSaturation | 0 |
SamplesPerPixel | 3 |
Saturation | Normal |
ScaleFactor35efl | 1.0 |
SceneCaptureType | Standard |
SceneType | Directly photographed |
SensingMethod | One-chip color area |
SensitivityType | Recommended Exposure Index |
SerialNumber | 6056006 |
Shadows2012 | +27 |
ShadowTint | 0 |
SharpenDetail | 25 |
SharpenEdgeMasking | 0 |
SharpenRadius | +1.0 |
Sharpness (1) | 0 |
Sharpness | Normal |
ShutterSpeed | 52 |
ShutterSpeedValue | 1.6 |
Software | Adobe Photoshop CC 2015 (Macintosh) |
SplitToningBalance | 0 |
SplitToningHighlightHue | 0 |
SplitToningHighlightSaturation | 0 |
SplitToningShadowHue | 0 |
SplitToningShadowSaturation | 0 |
SubjectDistanceRange | Unknown |
ToneCurve | 0, 0, 255, 255 |
ToneCurveBlue | 0, 0, 255, 255 |
ToneCurveGreen | 0, 0, 255, 255 |
ToneCurveName | Linear |
ToneCurveName2012 | Linear |
ToneCurvePV2012 | 0, 0, 255, 255 |
ToneCurvePV2012Blue | 0, 0, 255, 255 |
ToneCurvePV2012Green | 0, 0, 255, 255 |
ToneCurvePV2012Red | 0, 0, 255, 255 |
ToneCurveRed | 0, 0, 255, 255 |
URL_List | |
Version | 8.7.1 |
VignetteAmount | 0 |
WhiteBalance (1) | As Shot |
WhiteBalance | Auto |
Whites2012 | +17 |