Felt | Verdi |
AlreadyApplied | True |
Aperture | 8.0 |
ApertureValue | 8.0 |
ApproximateFocusDistance | 2.31 |
Artist | Eric Fagerheim |
AuthorsPosition | photographer |
AutoLateralCA | 0 |
AutoWhiteVersion | 134348800 |
BitsPerSample | 8 |
Blacks2012 | 0 |
BlueHue | 0 |
BlueSaturation | 0 |
By-line | Eric Fagerheim |
By-lineTitle | photographer |
CameraProfile | Embedded |
CircleOfConfusion | 0.007 mm |
Clarity2012 | 0 |
ColorComponents | 3 |
ColorNoiseReduction | 0 |
ColorTransform | YCbCr |
Contrast2012 | 0 |
ConvertToGrayscale | False |
Copyright | www.fotofashion.no |
CopyrightFlag | True |
CopyrightNotice | www.fotofashion.no |
CreateDate | 2014:06:18 18:33:12 |
Creator | Eric Fagerheim |
CreatorAddress | Pir II 3 |
CreatorCity | Trondheim |
CreatorCountry | Norway |
CreatorPostalCode | 7010 |
CreatorTool | Adobe Photoshop Lightroom 5.6 (Windows) |
CreatorWorkEmail | mail@fotofashion.no |
CreatorWorkURL | www.fotofashion.no |
CustomRendered | Normal |
DateCreated (1) | 2013:06:02 |
DateCreated | 2013:06:02 17:56:45 |
DateTimeOriginal | 2014:06:18 18:33:12 |
DefringeGreenAmount | 0 |
DefringeGreenHueHi | 60 |
DefringeGreenHueLo | 40 |
DefringePurpleAmount | 0 |
DefringePurpleHueHi | 70 |
DefringePurpleHueLo | 30 |
DOF | 0.24 m (2.19 - 2.44 m) |
Exposure2012 | +0.19 |
ExposureCompensation | 0 |
ExposureMode | Manual |
ExposureProgram | Manual |
ExposureTime | 1/160 |
Firmware | 1.1.3 |
Flash | Off, Did not fire |
FlashCompensation | 0 |
FNumber | 8.0 |
FocalLength | 50.0 mm |
FocalLength35efl | 50.0 mm (35 mm equivalent: 206.2 mm) |
Format | image/jpeg |
FOV | 10.0 deg |
GrainAmount | 0 |
GreenHue | 0 |
GreenSaturation | 0 |
HasCrop | False |
HasSettings | True |
Headline | Din fotograf i Trondheim - Fotofashion.no |
Highlights2012 | -3 |
HueAdjustmentAqua | 0 |
HueAdjustmentBlue | 0 |
HueAdjustmentGreen | 0 |
HueAdjustmentMagenta | 0 |
HueAdjustmentOrange | 0 |
HueAdjustmentPurple | 0 |
HueAdjustmentRed | 0 |
HueAdjustmentYellow | 0 |
HyperfocalDistance | 42.90 m |
ImageHeight | 862 |
ImageNumber | 0 |
ImageSize | 1440x862 |
ImageWidth | 1440 |
IncrementalTemperature | +3 |
IncrementalTint | +1 |
ISO | 100 |
Keywords | din fotograf, fashion, fotofashion, fotograf trondheim, shoot, studio |
Label | Fotofashion |
Lens | EF50mm f/1.2L USM |
LensID (1) | 241 |
LensID | Canon EF 50mm f/1.2L USM |
LensInfo | 50mm f/? |
LensManualDistortionAmount | 0 |
LensModel | EF50mm f/1.2L USM |
LensProfileEnable | 0 |
LensProfileSetup | LensDefaults |
LensSerialNumber | 0000413976 |
LightValue | 13.3 |
LuminanceAdjustmentAqua | 0 |
LuminanceAdjustmentBlue | 0 |
LuminanceAdjustmentGreen | 0 |
LuminanceAdjustmentMagenta | 0 |
LuminanceAdjustmentOrange | 0 |
LuminanceAdjustmentPurple | 0 |
LuminanceAdjustmentRed | -16 |
LuminanceAdjustmentYellow | 0 |
LuminanceSmoothing | 0 |
Make | Canon |
Marked | True |
MaxApertureValue | 1.2 |
Megapixels | 1.2 |
MeteringMode | Multi-segment |
Model | Canon EOS 5D Mark III |
ModifyDate (1) | 2014:09:24 14:15:24+02:00 |
ModifyDate | 2014:09:24 14:15:24 |
ObjectName | www.fotofashion.no |
PaintCorrectionActive | true |
PaintCorrectionAmount | 1.000000 |
PaintCorrectionBrightness | 0.000000 |
PaintCorrectionClarity2012 (1) | 0.000000 |
PaintCorrectionClarity2012 | -0.523810 |
PaintCorrectionContrast2012 | 0.000000 |
PaintCorrectionDefringe | 0.000000 |
PaintCorrectionExposure2012 (1) | -0.095250 |
PaintCorrectionExposure2012 | 0.000000 |
PaintCorrectionHighlights2012 | 0.000000 |
PaintCorrectionHue | 0.000000 |
PaintCorrectionLuminanceNoise | 0.000000 |
PaintCorrectionMaskCenterWeight | 0.000000 |
PaintCorrectionMaskFlow | 1.000000 |
PaintCorrectionMaskRadius (3) | 0.165709 |
PaintCorrectionMaskRadius (4) | 0.199259 |
PaintCorrectionMaskRadius (5) | 0.111244 |
PaintCorrectionMaskRadius | 0.089558 |
PaintCorrectionMaskValue | 1.000000 |
PaintCorrectionMaskWhat | Mask/Paint |
PaintCorrectionMoire | 0.000000 |
PaintCorrectionSaturation | 0.000000 |
PaintCorrectionShadows2012 | 0.000000 |
PaintCorrectionSharpness | 0.000000 |
PaintCorrectionTemperature | 0.000000 |
PaintCorrectionTint | 0.000000 |
PaintCorrectionWhat | Correction |
ParametricDarks | -24 |
ParametricHighlights | 0 |
ParametricHighlightSplit | 75 |
ParametricLights | +9 |
ParametricMidtoneSplit | 50 |
ParametricShadows | -9 |
ParametricShadowSplit | 25 |
PerspectiveAspect | 0 |
PerspectiveHorizontal | 0 |
PerspectiveRotate | 0.0 |
PerspectiveScale | 100 |
PerspectiveUpright | 0 |
PerspectiveVertical | 0 |
PostCropVignetteAmount | 0 |
ProcessVersion | 6.7 |
ProfileDescription | sRGB IEC61966-2.1 |
Rating | 1 |
RecommendedExposureIndex | 100 |
RedHue | 0 |
RedSaturation | 0 |
Rights | www.fotofashion.no |
Saturation | -14 |
SaturationAdjustmentAqua | 0 |
SaturationAdjustmentBlue | 0 |
SaturationAdjustmentGreen | 0 |
SaturationAdjustmentMagenta | 0 |
SaturationAdjustmentOrange | -5 |
SaturationAdjustmentPurple | 0 |
SaturationAdjustmentRed | -4 |
SaturationAdjustmentYellow | 0 |
ScaleFactor35efl | 4.1 |
SceneCaptureType | Standard |
SensitivityType | Recommended Exposure Index |
SerialNumber | 023021000616 |
Shadows2012 | +3 |
ShadowTint | 0 |
SharpenDetail | 25 |
SharpenEdgeMasking | 0 |
SharpenRadius | +1.0 |
Sharpness | 0 |
ShutterSpeed | 1/160 |
ShutterSpeedValue | 1/160 |
Software | Adobe Photoshop Lightroom 5.6 (Windows) |
SplitToningBalance | 0 |
SplitToningHighlightHue | 28 |
SplitToningHighlightSaturation | 2 |
SplitToningShadowHue | 215 |
SplitToningShadowSaturation | 13 |
Subject | din fotograf, fashion, fotofashion, fotograf trondheim, shoot, studio |
Title | www.fotofashion.no |
ToneCurve | 0, 0, 255, 255 |
ToneCurveBlue | 0, 0, 255, 255 |
ToneCurveGreen | 0, 0, 255, 255 |
ToneCurveName | Linear |
ToneCurveName2012 | Linear |
ToneCurvePV2012 | 0, 0, 255, 255 |
ToneCurvePV2012Blue | 0, 0, 255, 255 |
ToneCurvePV2012Green | 0, 0, 255, 255 |
ToneCurvePV2012Red | 0, 0, 255, 255 |
ToneCurveRed | 0, 0, 255, 255 |
URL | www.fotofashion.no |
Version | 8.6 |
Vibrance | -7 |
VignetteAmount | 0 |
WebStatement | www.fotofashion.no |
WhiteBalance (1) | Custom |
WhiteBalance | Auto |
Whites2012 | 0 |